BEGIN:VCALENDAR
VERSION:2.0
PRODID:-//Utah Car Czar - ECPv6.15.18//NONSGML v1.0//EN
CALSCALE:GREGORIAN
METHOD:PUBLISH
X-ORIGINAL-URL:https://utahcarczar.com
X-WR-CALDESC:Events for Utah Car Czar
REFRESH-INTERVAL;VALUE=DURATION:PT1H
X-Robots-Tag:noindex
X-PUBLISHED-TTL:PT1H
BEGIN:VTIMEZONE
TZID:America/Denver
BEGIN:DAYLIGHT
TZOFFSETFROM:-0700
TZOFFSETTO:-0600
TZNAME:MDT
DTSTART:20240310T090000
END:DAYLIGHT
BEGIN:STANDARD
TZOFFSETFROM:-0600
TZOFFSETTO:-0700
TZNAME:MST
DTSTART:20241103T080000
END:STANDARD
BEGIN:DAYLIGHT
TZOFFSETFROM:-0700
TZOFFSETTO:-0600
TZNAME:MDT
DTSTART:20250309T090000
END:DAYLIGHT
BEGIN:STANDARD
TZOFFSETFROM:-0600
TZOFFSETTO:-0700
TZNAME:MST
DTSTART:20251102T080000
END:STANDARD
BEGIN:DAYLIGHT
TZOFFSETFROM:-0700
TZOFFSETTO:-0600
TZNAME:MDT
DTSTART:20260308T090000
END:DAYLIGHT
BEGIN:STANDARD
TZOFFSETFROM:-0600
TZOFFSETTO:-0700
TZNAME:MST
DTSTART:20261101T080000
END:STANDARD
BEGIN:DAYLIGHT
TZOFFSETFROM:-0700
TZOFFSETTO:-0600
TZNAME:MDT
DTSTART:20270314T090000
END:DAYLIGHT
BEGIN:STANDARD
TZOFFSETFROM:-0600
TZOFFSETTO:-0700
TZNAME:MST
DTSTART:20271107T080000
END:STANDARD
END:VTIMEZONE
BEGIN:VEVENT
DTSTART;TZID=America/Denver:20260422T170000
DTEND;TZID=America/Denver:20260422T200000
DTSTAMP:20260425T043524
CREATED:20260217T050938Z
LAST-MODIFIED:20260217T051100Z
UID:10002016-1776877200-1776888000@utahcarczar.com
SUMMARY:Burger Stop Cruise Night
DESCRIPTION:
URL:https://utahcarczar.com/event/burger-stop-cruise-night-2/2026-04-22/
LOCATION:Burger Stop\, 323 E Gentile\, Layton\, Utah
CATEGORIES:Cruise Night
ATTACH;FMTTYPE=image/png:https://utahcarczar.com/wp-content/uploads/2025/03/Burger-Stop-Cruise-Night-Logo.png
END:VEVENT
BEGIN:VEVENT
DTSTART;TZID=America/Denver:20260418T100000
DTEND;TZID=America/Denver:20260418T170000
DTSTAMP:20260425T043524
CREATED:20260413T045022Z
LAST-MODIFIED:20260413T045022Z
UID:10002095-1776506400-1776531600@utahcarczar.com
SUMMARY:Mesquite Round-up Car Show
DESCRIPTION:Car show is also on Friday\, April 17 from 3 – 7 pm
URL:https://utahcarczar.com/event/mesquite-round-up-car-show/
LOCATION:Holiday Inn Resort – Mesquite\, 333n Sandhill Blvd\, Mesquite\, NV\, 89027
CATEGORIES:Car Show
ATTACH;FMTTYPE=image/png:https://utahcarczar.com/wp-content/uploads/2025/05/2026-Car-Show-Icon.png
END:VEVENT
BEGIN:VEVENT
DTSTART;TZID=America/Denver:20260414T170000
DTEND;TZID=America/Denver:20260414T200000
DTSTAMP:20260425T043524
CREATED:20260414T051826Z
LAST-MODIFIED:20260414T051827Z
UID:10000048-1776186000-1776196800@utahcarczar.com
SUMMARY:Shake Shack Cruise Night
DESCRIPTION:Join cruisers and JC Hackett at Shake Shack in Murray\, UT on the second Tuesday each month (April – October). Great food\, oldies\, and cool cars.
URL:https://utahcarczar.com/event/shake-shack-cruise-night-2026-2/
LOCATION:Shake Shack\, 6123 S State Street\, Murray\, Utah
CATEGORIES:Cruise Night
ATTACH;FMTTYPE=image/png:https://utahcarczar.com/wp-content/uploads/2025/03/Shake-Shack-Logo.png
END:VEVENT
BEGIN:VEVENT
DTSTART;TZID=America/Denver:20260407T170000
DTEND;TZID=America/Denver:20260407T200000
DTSTAMP:20260425T043524
CREATED:20260216T063452Z
LAST-MODIFIED:20260216T063452Z
UID:10002009-1775581200-1775592000@utahcarczar.com
SUMMARY:One Man Band Cruise Night
DESCRIPTION:Monthly cruise night at One Man Band in Lehi with JC Hackett. Held on the first Tuesday of every month\, April – October. \nParking is limited\, arrive early.
URL:https://utahcarczar.com/event/one-man-band-cruise-night/2026-04-07/
LOCATION:One Man Band\, 1220 E Main St\, Lehi\, UT\, United States
CATEGORIES:Cruise,Cruise Night
ATTACH;FMTTYPE=image/png:https://utahcarczar.com/wp-content/uploads/2025/03/One-Man-Band.png
END:VEVENT
BEGIN:VEVENT
DTSTART;TZID=America/Denver:20260401T170000
DTEND;TZID=America/Denver:20260401T200000
DTSTAMP:20260425T043524
CREATED:20260203T060946Z
LAST-MODIFIED:20260203T061037Z
UID:10002000-1775062800-1775073600@utahcarczar.com
SUMMARY:Jordan Landing Cruise Night 2026
DESCRIPTION:
URL:https://utahcarczar.com/event/jordan-landing-cruise-night-2026/2026-04-01/
LOCATION:Jordan Landing\, 7273 Plaza Center Dr\, West Jordan\, UT\, United States
CATEGORIES:Cruise Night
ATTACH;FMTTYPE=image/png:https://utahcarczar.com/wp-content/uploads/2025/03/Jordan-Landing.png
END:VEVENT
BEGIN:VEVENT
DTSTART;TZID=America/Denver:20260306T090000
DTEND;TZID=America/Denver:20260307T190000
DTSTAMP:20260425T043524
CREATED:20250225T160435Z
LAST-MODIFIED:20260217T055255Z
UID:10000001-1772787600-1772910000@utahcarczar.com
SUMMARY:Chrome in the Dome
DESCRIPTION:Purchase Tickets at the Ticket Window on the Day of the Event. \n$10.00 entry fee for all visitors. Kids 12 and under are FREE! \nFriday: 2p – 9p \nSaturday: 9a – 7p
URL:https://utahcarczar.com/event/chrome-in-the-dome/
LOCATION:ICCU Dome\, 401 Memorial Dr\, Pocatello\, ID\, United States
CATEGORIES:Car Show
ATTACH;FMTTYPE=image/jpeg:https://utahcarczar.com/wp-content/uploads/2023/01/Holt_Arena_Idaho_State_University_Pocatello_Idaho.jpg
END:VEVENT
BEGIN:VEVENT
DTSTART;TZID=America/Denver:20251213T120000
DTEND;TZID=America/Denver:20251213T160000
DTSTAMP:20260425T043524
CREATED:20251209T170518Z
LAST-MODIFIED:20251209T170518Z
UID:10001829-1765627200-1765641600@utahcarczar.com
SUMMARY:Toys for Tots Mesquite Car Show
DESCRIPTION:Toy drive and car show. \nEntry Fee: Unwrapped Toy
URL:https://utahcarczar.com/event/toys-for-tots-mesquite-car-show/
LOCATION:Holiday Inn Resort Mesquite\, 333 N Sandhill Blvd\, Mesquite\, NV\, 89027
CATEGORIES:Charity Car Show
ATTACH;FMTTYPE=image/png:https://utahcarczar.com/wp-content/uploads/2020/05/JC-Hackett-Logo.png
END:VEVENT
BEGIN:VEVENT
DTSTART;TZID=America/Denver:20251206T120000
DTEND;TZID=America/Denver:20251206T160000
DTSTAMP:20260425T043524
CREATED:20251209T170128Z
LAST-MODIFIED:20251209T170302Z
UID:10001828-1765022400-1765036800@utahcarczar.com
SUMMARY:Toys for Tots St. George Car Show
DESCRIPTION:Toy drive and car show. \nEntry Fee: Unwrapped Toy
URL:https://utahcarczar.com/event/toys-for-tots-st-george-car-show/
LOCATION:Digby’s Market\, 1955 Snow Canyon Pkwy\, St. George\, Utah
CATEGORIES:Charity Car Show
ATTACH;FMTTYPE=image/png:https://utahcarczar.com/wp-content/uploads/2025/03/Digbys-Market-St-George-Utah-Logo.png
END:VEVENT
BEGIN:VEVENT
DTSTART;TZID=America/Denver:20251115T090000
DTEND;TZID=America/Denver:20251115T150000
DTSTAMP:20260425T043524
CREATED:20250416T125528Z
LAST-MODIFIED:20250912T161437Z
UID:10000761-1763197200-1763218800@utahcarczar.com
SUMMARY:Veterans Day Car Show Ivins
DESCRIPTION:Awards\, Veterans Tribute\, and Food Trucks
URL:https://utahcarczar.com/event/veterans-car-show-ivins/
LOCATION:Southern Utah Veterans Home\, 160 N 200 E\, Ivins\, Utah\, 84738
CATEGORIES:Car Show
ATTACH;FMTTYPE=image/png:https://utahcarczar.com/wp-content/uploads/2025/04/southern-utah-veterans-home-logo.png
END:VEVENT
BEGIN:VEVENT
DTSTART;TZID=America/Denver:20251028T170000
DTEND;TZID=America/Denver:20251028T200000
DTSTAMP:20260425T043524
CREATED:20250601T230637Z
LAST-MODIFIED:20250601T230637Z
UID:10001609-1761670800-1761681600@utahcarczar.com
SUMMARY:Garage Grill Cruise Night
DESCRIPTION:
URL:https://utahcarczar.com/event/garage-grill-cruise-night/2025-10-28/
LOCATION:Garage Grill\, 1122 East Draper Pkwy\, Draper\, Utahg\, 84020
CATEGORIES:Cruise Night
ATTACH;FMTTYPE=image/png:https://utahcarczar.com/wp-content/uploads/2023/03/Garage-Grill-Logo.png
END:VEVENT
BEGIN:VEVENT
DTSTART;TZID=America/Denver:20251025T090000
DTEND;TZID=America/Denver:20251025T160000
DTSTAMP:20260425T043524
CREATED:20250416T125536Z
LAST-MODIFIED:20250908T214755Z
UID:10000723-1761382800-1761408000@utahcarczar.com
SUMMARY:First Responders Car Show
DESCRIPTION:
URL:https://utahcarczar.com/event/first-responders-car-show/
LOCATION:Washington Elementary School\, 300 N 300 E\, Washington\, Utah\, 84780
CATEGORIES:Car Show
ATTACH;FMTTYPE=image/png:https://utahcarczar.com/wp-content/uploads/2025/03/Utah-Car-Show-Icon-1.png
END:VEVENT
BEGIN:VEVENT
DTSTART;TZID=America/Denver:20251024T153000
DTEND;TZID=America/Denver:20251024T190000
DTSTAMP:20260425T043524
CREATED:20250416T125615Z
LAST-MODIFIED:20250831T221819Z
UID:10000544-1761319800-1761332400@utahcarczar.com
SUMMARY:CarQuest Car Show Cedar City
DESCRIPTION:
URL:https://utahcarczar.com/event/carquest-car-show-cedar-city/
LOCATION:CarQuest Cedar City\, 377 N 2150 W\, Cedar City\, Utah\, 84721
CATEGORIES:Car Show
ATTACH;FMTTYPE=image/jpeg:https://utahcarczar.com/wp-content/uploads/2021/03/carquest-logo.jpg
END:VEVENT
BEGIN:VEVENT
DTSTART;TZID=America/Denver:20251022T160000
DTEND;TZID=America/Denver:20251022T190000
DTSTAMP:20260425T043524
CREATED:20250406T063452Z
LAST-MODIFIED:20250418T041845Z
UID:10000187-1761148800-1761159600@utahcarczar.com
SUMMARY:Burger Stop Cruise Night
DESCRIPTION:
URL:https://utahcarczar.com/event/burger-stop-cruise-night/2025-10-22/
LOCATION:Burger Stop\, 323 E Gentile\, Layton\, Utah
CATEGORIES:Cruise Night
ATTACH;FMTTYPE=image/png:https://utahcarczar.com/wp-content/uploads/2025/03/Burger-Stop-Cruise-Night-Logo.png
END:VEVENT
BEGIN:VEVENT
DTSTART;TZID=America/Denver:20251018T163000
DTEND;TZID=America/Denver:20251018T193000
DTSTAMP:20260425T043524
CREATED:20250608T230717Z
LAST-MODIFIED:20250714T054415Z
UID:10001622-1760805000-1760815800@utahcarczar.com
SUMMARY:C10 Club Utah Truck or Treat
DESCRIPTION:The C10 Club Utah Truck or Treat Halloween Party is back!! Our biggest and most anticipated local event returns\, and this year we will be supporting the Utah Food Bank with a Food Drive!!! Bring two non-perishable food items to register for this Trunk or Treat style show\, and make a difference in the local community while having a great time. With trophies for Best Kids Costume\, Best Adult Costume\, Best Dressed Up Car/Truck\, and Kids Pick for Best Truck!! We will have Food Trucks\, Local Vendors\, and Spooky Fun for All!!
URL:https://utahcarczar.com/event/truck-or-treat-halloween-party-c10-club/
LOCATION:Optisys\, 250 W 3900 S\, Salt Lake City\, Utah\, 84107
CATEGORIES:Trunk or Treat
ATTACH;FMTTYPE=image/jpeg:https://utahcarczar.com/wp-content/uploads/2023/05/utah-c10-club.jpg
END:VEVENT
BEGIN:VEVENT
DTSTART;TZID=America/Denver:20251016T160000
DTEND;TZID=America/Denver:20251016T190000
DTSTAMP:20260425T043524
CREATED:20250312T033109Z
LAST-MODIFIED:20250312T033254Z
UID:10000077-1760630400-1760641200@utahcarczar.com
SUMMARY:Daybreak Soda Row Cruise Night
DESCRIPTION:
URL:https://utahcarczar.com/event/daybreak-soda-row-cruise-night/2025-10-16/
LOCATION:SoDa Row\, 11248 Kestrel Rise Road\, South Jordan\, Utah
CATEGORIES:Cruise Night
ATTACH;FMTTYPE=image/png:https://utahcarczar.com/wp-content/uploads/2025/03/Daybreak-Soda-Row-Logo.png
END:VEVENT
BEGIN:VEVENT
DTSTART;TZID=America/Denver:20251014T163000
DTEND;TZID=America/Denver:20251014T190000
DTSTAMP:20260425T043524
CREATED:20250511T235843Z
LAST-MODIFIED:20250511T235844Z
UID:10000052-1760459400-1760468400@utahcarczar.com
SUMMARY:Shake Shack Cruise Night
DESCRIPTION:
URL:https://utahcarczar.com/event/shake-shack-cruise-night-2-2/2025-10-14/
LOCATION:Shake Shack\, 6123 S State Street\, Murray\, Utah
CATEGORIES:Cruise Night
ATTACH;FMTTYPE=image/png:https://utahcarczar.com/wp-content/uploads/2025/03/Shake-Shack-Logo.png
END:VEVENT
BEGIN:VEVENT
DTSTART;TZID=America/Denver:20251010T160000
DTEND;TZID=America/Denver:20251010T180000
DTSTAMP:20260425T043524
CREATED:20250416T125613Z
LAST-MODIFIED:20250831T221135Z
UID:10000555-1760112000-1760119200@utahcarczar.com
SUMMARY:CarQuest Cruise Night Beaver
DESCRIPTION:
URL:https://utahcarczar.com/event/carquest-cruise-night-beaver/
LOCATION:CarQuest Beaver\, 85 N Main St\, Beaver\, Utah\, 84713
CATEGORIES:Car Show
ATTACH;FMTTYPE=image/jpeg:https://utahcarczar.com/wp-content/uploads/2021/03/carquest-logo.jpg
END:VEVENT
BEGIN:VEVENT
DTSTART;TZID=America/Denver:20251008T170000
DTEND;TZID=America/Denver:20251008T200000
DTSTAMP:20260425T043524
CREATED:20251007T045347Z
LAST-MODIFIED:20251007T045347Z
UID:10001799-1759942800-1759953600@utahcarczar.com
SUMMARY:Valley Fair Mall Trunk or Treat Car Show
DESCRIPTION:
URL:https://utahcarczar.com/event/valley-fair-mall-trunk-or-treat-car-show/
LOCATION:Valley Fair Mall\, 3600 S 2700 W\, West Valley City\, Utah
CATEGORIES:Trunk or Treat
ATTACH;FMTTYPE=image/png:https://utahcarczar.com/wp-content/uploads/2025/03/Valley-Fair-Mall-Logo.png
END:VEVENT
BEGIN:VEVENT
DTSTART;TZID=America/Denver:20251007T160000
DTEND;TZID=America/Denver:20251007T190000
DTSTAMP:20260425T043524
CREATED:20250601T230217Z
LAST-MODIFIED:20250601T230218Z
UID:10000058-1759852800-1759863600@utahcarczar.com
SUMMARY:One Man Band Cruise Night
DESCRIPTION:Monthly cruise night at One Man Band in Lehi with JC Hackett.
URL:https://utahcarczar.com/event/one-man-band-cruise-night-2-2-2/2025-10-07/
LOCATION:One Man Band\, 1220 E Main St\, Lehi\, UT\, United States
CATEGORIES:Cruise Night
ATTACH;FMTTYPE=image/png:https://utahcarczar.com/wp-content/uploads/2025/03/One-Man-Band.png
END:VEVENT
BEGIN:VEVENT
DTSTART;TZID=America/Denver:20251004T100000
DTEND;TZID=America/Denver:20251004T150000
DTSTAMP:20260425T043524
CREATED:20250927T060204Z
LAST-MODIFIED:20250927T060204Z
UID:10001786-1759572000-1759590000@utahcarczar.com
SUMMARY:Jordanelle State Park Car\, Truck\, Bike\, Boat Show
DESCRIPTION:
URL:https://utahcarczar.com/event/jordanelle-state-park-car-truck-bike-boat-show/
LOCATION:Keetley Point Campground\, UT-319\, Heber City\, Utah\, 84032
CATEGORIES:Car Show
ATTACH;FMTTYPE=image/png:https://utahcarczar.com/wp-content/uploads/2022/09/Utah-DNR-Logo.png
END:VEVENT
BEGIN:VEVENT
DTSTART;TZID=America/Denver:20251001T160000
DTEND;TZID=America/Denver:20251001T190000
DTSTAMP:20260425T043524
CREATED:20250511T235945Z
LAST-MODIFIED:20250511T235945Z
UID:10000034-1759334400-1759345200@utahcarczar.com
SUMMARY:Jordan Landing Cruise Night
DESCRIPTION:Monthly cruise night at Jordan Landing with JC Hackett
URL:https://utahcarczar.com/event/jordan-landing-cruise-night-2-2-2/2025-10-01/
LOCATION:Jordan Landing\, 7273 Plaza Center Dr\, West Jordan\, UT\, United States
CATEGORIES:Cruise Night
ATTACH;FMTTYPE=image/png:https://utahcarczar.com/wp-content/uploads/2025/03/Jordan-Landing.png
END:VEVENT
BEGIN:VEVENT
DTSTART;TZID=America/Denver:20250927T000000
DTEND;TZID=America/Denver:20250927T000000
DTSTAMP:20260425T043524
CREATED:20250416T125643Z
LAST-MODIFIED:20250629T220831Z
UID:10000397-1758931200-1758931200@utahcarczar.com
SUMMARY:Carmel Mountain Car Show
DESCRIPTION:The Carmel Mountain Car Show is southern Utah’s premier annual car show event held in beautiful Mount Carmel Junction\, Utah. This family-friendly car\, truck\, bike\, and vintage RV show features classic and custom vehicles of every kind\, music\, local celebrities\, food & beverages\, the famous Thunderbird Pie Eating Contest\, raffles\, contests\, prizes\, and more!
URL:https://utahcarczar.com/event/carmel-mountain-car-show/
LOCATION:Thunderbird Golf Course\, 4530 State St\, Mt Carmel\, Utah\, 84755
CATEGORIES:Car Show
END:VEVENT
BEGIN:VEVENT
DTSTART;TZID=America/Denver:20250924T170000
DTEND;TZID=America/Denver:20250924T200000
DTSTAMP:20260425T043524
CREATED:20250406T063452Z
LAST-MODIFIED:20250418T041845Z
UID:10000186-1758733200-1758744000@utahcarczar.com
SUMMARY:Burger Stop Cruise Night
DESCRIPTION:
URL:https://utahcarczar.com/event/burger-stop-cruise-night/2025-09-24/
LOCATION:Burger Stop\, 323 E Gentile\, Layton\, Utah
CATEGORIES:Cruise Night
ATTACH;FMTTYPE=image/png:https://utahcarczar.com/wp-content/uploads/2025/03/Burger-Stop-Cruise-Night-Logo.png
END:VEVENT
BEGIN:VEVENT
DTSTART;TZID=America/Denver:20250923T170000
DTEND;TZID=America/Denver:20250923T200000
DTSTAMP:20260425T043524
CREATED:20250601T230637Z
LAST-MODIFIED:20250601T230637Z
UID:10001608-1758646800-1758657600@utahcarczar.com
SUMMARY:Garage Grill Cruise Night
DESCRIPTION:
URL:https://utahcarczar.com/event/garage-grill-cruise-night/2025-09-23/
LOCATION:Garage Grill\, 1122 East Draper Pkwy\, Draper\, Utahg\, 84020
CATEGORIES:Cruise Night
ATTACH;FMTTYPE=image/png:https://utahcarczar.com/wp-content/uploads/2023/03/Garage-Grill-Logo.png
END:VEVENT
BEGIN:VEVENT
DTSTART;TZID=America/Denver:20250918T170000
DTEND;TZID=America/Denver:20250918T200000
DTSTAMP:20260425T043524
CREATED:20250312T033109Z
LAST-MODIFIED:20250312T033254Z
UID:10000076-1758214800-1758225600@utahcarczar.com
SUMMARY:Daybreak Soda Row Cruise Night
DESCRIPTION:
URL:https://utahcarczar.com/event/daybreak-soda-row-cruise-night/2025-09-18/
LOCATION:SoDa Row\, 11248 Kestrel Rise Road\, South Jordan\, Utah
CATEGORIES:Cruise Night
ATTACH;FMTTYPE=image/png:https://utahcarczar.com/wp-content/uploads/2025/03/Daybreak-Soda-Row-Logo.png
END:VEVENT
BEGIN:VEVENT
DTSTART;TZID=America/Denver:20250913T110000
DTEND;TZID=America/Denver:20250913T140000
DTSTAMP:20260425T043524
CREATED:20250416T125613Z
LAST-MODIFIED:20250831T221024Z
UID:10000553-1757761200-1757772000@utahcarczar.com
SUMMARY:CARQUEST Car Show Mt Pleasant
DESCRIPTION:
URL:https://utahcarczar.com/event/carquest-car-show-mt-pleasant/
LOCATION:CarQuest Mt. Pleasant\, 180 W Main St\, Mt Pleasant\, 84647
CATEGORIES:Car Show
ATTACH;FMTTYPE=image/jpeg:https://utahcarczar.com/wp-content/uploads/2021/03/carquest-logo.jpg
END:VEVENT
BEGIN:VEVENT
DTSTART;TZID=America/Denver:20250912T110000
DTEND;TZID=America/Denver:20250912T140000
DTSTAMP:20260425T043524
CREATED:20250831T221405Z
LAST-MODIFIED:20250831T221405Z
UID:10001766-1757674800-1757685600@utahcarczar.com
SUMMARY:CARQUEST Car Show Price
DESCRIPTION:
URL:https://utahcarczar.com/event/carquest-car-show-price/
LOCATION:CarQuest Price\, 720 E Main St\, Price\, Utah\, 84501
CATEGORIES:Car Show
ATTACH;FMTTYPE=image/jpeg:https://utahcarczar.com/wp-content/uploads/2021/03/carquest-logo.jpg
END:VEVENT
BEGIN:VEVENT
DTSTART;TZID=America/Denver:20250909T170000
DTEND;TZID=America/Denver:20250909T200000
DTSTAMP:20260425T043524
CREATED:20250511T235843Z
LAST-MODIFIED:20250511T235844Z
UID:10001551-1757437200-1757448000@utahcarczar.com
SUMMARY:Shake Shack Cruise Night
DESCRIPTION:
URL:https://utahcarczar.com/event/shake-shack-cruise-night-2-2/2025-09-09/
LOCATION:Shake Shack\, 6123 S State Street\, Murray\, Utah
CATEGORIES:Cruise Night
ATTACH;FMTTYPE=image/png:https://utahcarczar.com/wp-content/uploads/2025/03/Shake-Shack-Logo.png
END:VEVENT
BEGIN:VEVENT
DTSTART;TZID=America/Denver:20250906T100000
DTEND;TZID=America/Denver:20250906T170000
DTSTAMP:20260425T043524
CREATED:20250416T125417Z
LAST-MODIFIED:20250825T154956Z
UID:10001109-1757152800-1757178000@utahcarczar.com
SUMMARY:Brigham City Peach Days Car Show
DESCRIPTION:Register at Box Elder High School Saturday Morning. Box Elder High School North Parking Lot: 300 S 600 W \n(Limited to the first 900 cars registered due to construction)
URL:https://utahcarczar.com/event/brigham-city-peach-days-car-show/
LOCATION:Rees Pioneer Park\, 800 W Forest St\, Brigham City\, Utah\, 84302
CATEGORIES:Car Show
ATTACH;FMTTYPE=image/jpeg:https://utahcarczar.com/wp-content/uploads/2022/06/brigham-city-peach-days-logo.jpg
END:VEVENT
BEGIN:VEVENT
DTSTART;TZID=America/Denver:20250903T170000
DTEND;TZID=America/Denver:20250903T200000
DTSTAMP:20260425T043524
CREATED:20250511T235945Z
LAST-MODIFIED:20250511T235945Z
UID:10001552-1756918800-1756929600@utahcarczar.com
SUMMARY:Jordan Landing Cruise Night
DESCRIPTION:Monthly cruise night at Jordan Landing with JC Hackett
URL:https://utahcarczar.com/event/jordan-landing-cruise-night-2-2-2/2025-09-03/
LOCATION:Jordan Landing\, 7273 Plaza Center Dr\, West Jordan\, UT\, United States
CATEGORIES:Cruise Night
ATTACH;FMTTYPE=image/png:https://utahcarczar.com/wp-content/uploads/2025/03/Jordan-Landing.png
END:VEVENT
END:VCALENDAR