BEGIN:VCALENDAR
VERSION:2.0
PRODID:-//Utah Car Czar - ECPv6.15.18//NONSGML v1.0//EN
CALSCALE:GREGORIAN
METHOD:PUBLISH
X-WR-CALNAME:Utah Car Czar
X-ORIGINAL-URL:https://utahcarczar.com
X-WR-CALDESC:Events for Utah Car Czar
REFRESH-INTERVAL;VALUE=DURATION:PT1H
X-Robots-Tag:noindex
X-PUBLISHED-TTL:PT1H
BEGIN:VTIMEZONE
TZID:America/Denver
BEGIN:DAYLIGHT
TZOFFSETFROM:-0700
TZOFFSETTO:-0600
TZNAME:MDT
DTSTART:20240310T090000
END:DAYLIGHT
BEGIN:STANDARD
TZOFFSETFROM:-0600
TZOFFSETTO:-0700
TZNAME:MST
DTSTART:20241103T080000
END:STANDARD
BEGIN:DAYLIGHT
TZOFFSETFROM:-0700
TZOFFSETTO:-0600
TZNAME:MDT
DTSTART:20250309T090000
END:DAYLIGHT
BEGIN:STANDARD
TZOFFSETFROM:-0600
TZOFFSETTO:-0700
TZNAME:MST
DTSTART:20251102T080000
END:STANDARD
BEGIN:DAYLIGHT
TZOFFSETFROM:-0700
TZOFFSETTO:-0600
TZNAME:MDT
DTSTART:20260308T090000
END:DAYLIGHT
BEGIN:STANDARD
TZOFFSETFROM:-0600
TZOFFSETTO:-0700
TZNAME:MST
DTSTART:20261101T080000
END:STANDARD
END:VTIMEZONE
BEGIN:VEVENT
DTSTART;TZID=America/Denver:20250902T170000
DTEND;TZID=America/Denver:20250902T200000
DTSTAMP:20260425T060445
CREATED:20250601T230217Z
LAST-MODIFIED:20250601T230218Z
UID:10001604-1756832400-1756843200@utahcarczar.com
SUMMARY:One Man Band Cruise Night
DESCRIPTION:Monthly cruise night at One Man Band in Lehi with JC Hackett.
URL:https://utahcarczar.com/event/one-man-band-cruise-night-2-2-2/2025-09-02/
LOCATION:One Man Band\, 1220 E Main St\, Lehi\, UT\, United States
CATEGORIES:Cruise Night
ATTACH;FMTTYPE=image/png:https://utahcarczar.com/wp-content/uploads/2025/03/One-Man-Band.png
END:VEVENT
BEGIN:VEVENT
DTSTART;TZID=America/Denver:20250901T100000
DTEND;TZID=America/Denver:20250901T150000
DTSTAMP:20260425T060445
CREATED:20250416T125431Z
LAST-MODIFIED:20250601T230957Z
UID:10001031-1756720800-1756738800@utahcarczar.com
SUMMARY:Iron County Fair & Car Show
DESCRIPTION:
URL:https://utahcarczar.com/event/iron-county-fair-car-show/
LOCATION:Lion’s Park\, 145 S 300 E\,\, Parowan\, Utah\, 84761
CATEGORIES:Car Show
ATTACH;FMTTYPE=image/png:https://utahcarczar.com/wp-content/uploads/2020/05/Iron-County-Fair-Logo.png
END:VEVENT
BEGIN:VEVENT
DTSTART;TZID=America/Denver:20250827T170000
DTEND;TZID=America/Denver:20250827T200000
DTSTAMP:20260425T060445
CREATED:20250406T063452Z
LAST-MODIFIED:20250418T041845Z
UID:10000185-1756314000-1756324800@utahcarczar.com
SUMMARY:Burger Stop Cruise Night
DESCRIPTION:
URL:https://utahcarczar.com/event/burger-stop-cruise-night/2025-08-27/
LOCATION:Burger Stop\, 323 E Gentile\, Layton\, Utah
CATEGORIES:Cruise Night
ATTACH;FMTTYPE=image/png:https://utahcarczar.com/wp-content/uploads/2025/03/Burger-Stop-Cruise-Night-Logo.png
END:VEVENT
BEGIN:VEVENT
DTSTART;TZID=America/Denver:20250826T170000
DTEND;TZID=America/Denver:20250826T200000
DTSTAMP:20260425T060445
CREATED:20250826T215829Z
LAST-MODIFIED:20250826T215847Z
UID:10001607-1756227600-1756238400@utahcarczar.com
SUMMARY:Garage Grill Cruise Night
DESCRIPTION:
URL:https://utahcarczar.com/event/garage-grill-cruise-night-aug-2025/
LOCATION:Garage Grill\, 1122 East Draper Pkwy\, Draper\, Utahg\, 84020
CATEGORIES:Cruise Night
ATTACH;FMTTYPE=image/png:https://utahcarczar.com/wp-content/uploads/2023/03/Garage-Grill-Logo.png
END:VEVENT
BEGIN:VEVENT
DTSTART;TZID=America/Denver:20250823T083000
DTEND;TZID=America/Denver:20250823T153000
DTSTAMP:20260425T060445
CREATED:20250416T125427Z
LAST-MODIFIED:20250601T230132Z
UID:10001055-1755937800-1755963000@utahcarczar.com
SUMMARY:Copperton Town Days Car Show
DESCRIPTION:
URL:https://utahcarczar.com/event/copperton-town-days-car-show/
LOCATION:Copperton Park\, 8700 W 10305 S\, Copperton\, Utah\, 84006
CATEGORIES:Car Show
ATTACH;FMTTYPE=image/webp:https://utahcarczar.com/wp-content/uploads/2025/04/Copperton-UT-Logo.webp
END:VEVENT
BEGIN:VEVENT
DTSTART;TZID=America/Denver:20250821T170000
DTEND;TZID=America/Denver:20250821T200000
DTSTAMP:20260425T060445
CREATED:20250312T033109Z
LAST-MODIFIED:20250312T033254Z
UID:10000075-1755795600-1755806400@utahcarczar.com
SUMMARY:Daybreak Soda Row Cruise Night
DESCRIPTION:
URL:https://utahcarczar.com/event/daybreak-soda-row-cruise-night/2025-08-21/
LOCATION:SoDa Row\, 11248 Kestrel Rise Road\, South Jordan\, Utah
CATEGORIES:Cruise Night
ATTACH;FMTTYPE=image/png:https://utahcarczar.com/wp-content/uploads/2025/03/Daybreak-Soda-Row-Logo.png
END:VEVENT
BEGIN:VEVENT
DTSTART;TZID=America/Denver:20250817T090000
DTEND;TZID=America/Denver:20250817T150000
DTSTAMP:20260425T060445
CREATED:20250416T125636Z
LAST-MODIFIED:20250601T225712Z
UID:10000439-1755421200-1755442800@utahcarczar.com
SUMMARY:Sunday in the Park Car Show Springville Rotary Fundraiser
DESCRIPTION:
URL:https://utahcarczar.com/event/sunday-in-the-park-car-show-springville-rotary-fundraiser/
LOCATION:Rotary Park – Hobble Creek\, Left Fork Hobble Rd\, Springville\, 84663
CATEGORIES:Car Show
ATTACH;FMTTYPE=image/jpeg:https://utahcarczar.com/wp-content/uploads/2025/04/Sunday-in-the-Park-Car-Show-Springville-Rotary-Fundraiser-2025.jpg
END:VEVENT
BEGIN:VEVENT
DTSTART;TZID=America/Denver:20250816T090000
DTEND;TZID=America/Denver:20250816T160000
DTSTAMP:20260425T060445
CREATED:20250416T125417Z
LAST-MODIFIED:20250518T235018Z
UID:10001107-1755334800-1755360000@utahcarczar.com
SUMMARY:Kruisers for Kids
DESCRIPTION:JC Hackett will provide music & announcements – All vehicles welcome\, Awards\, Live & Silent Auctions\, Food\, Prize Drawings\, Hot Wheels Racing & More – 100% of All Proceeds Donated to Shriners Children’s SLC for 31 Consecutive Years!
URL:https://utahcarczar.com/event/kruisers-for-kids/
LOCATION:Midvale City Park\, 425 6th Ave\, Midvale\, Utah\, 84047
CATEGORIES:Charity Car Show
ATTACH;FMTTYPE=image/jpeg:https://utahcarczar.com/wp-content/uploads/2020/05/Kruisers-for-Kids.jpg
END:VEVENT
BEGIN:VEVENT
DTSTART;TZID=America/Denver:20250812T170000
DTEND;TZID=America/Denver:20250812T200000
DTSTAMP:20260425T060445
CREATED:20250511T235843Z
LAST-MODIFIED:20250511T235844Z
UID:10001549-1755018000-1755028800@utahcarczar.com
SUMMARY:Shake Shack Cruise Night
DESCRIPTION:
URL:https://utahcarczar.com/event/shake-shack-cruise-night-2-2/2025-08-12/
LOCATION:Shake Shack\, 6123 S State Street\, Murray\, Utah
CATEGORIES:Cruise Night
ATTACH;FMTTYPE=image/png:https://utahcarczar.com/wp-content/uploads/2025/03/Shake-Shack-Logo.png
END:VEVENT
BEGIN:VEVENT
DTSTART;TZID=America/Denver:20250809T090000
DTEND;TZID=America/Denver:20250809T150000
DTSTAMP:20260425T060445
CREATED:20250416T125631Z
LAST-MODIFIED:20250629T215047Z
UID:10000471-1754730000-1754751600@utahcarczar.com
SUMMARY:Under the Sun Car Show
DESCRIPTION:
URL:https://utahcarczar.com/event/under-the-sun-wasatch-rods-and-customs-car-show/
LOCATION:Rachel Runyan Memorial Park\, 200 W 975 N\, Sunset\, Utah
CATEGORIES:Charity Car Show
END:VEVENT
BEGIN:VEVENT
DTSTART;TZID=America/Denver:20250808T170000
DTEND;TZID=America/Denver:20250808T200000
DTSTAMP:20260425T060445
CREATED:20250416T125430Z
LAST-MODIFIED:20250804T143314Z
UID:10001720-1754672400-1754683200@utahcarczar.com
SUMMARY:Riverton Chevrolet Car Show
DESCRIPTION:OPEN to ANY and ALL Makes\, models\, sizes and colors! FORDS\, Chryslers\, Mopar’s\, Studebakers\, Buicks\, and even Edsel’s!! All Rides and Motorcycles\, Domestic and Foreign\, EVERYONE IS WELCOME !!!!
URL:https://utahcarczar.com/event/riverton-chevrolet-car-show/
LOCATION:Riverton Chevrolet\, 11100 S Jordan Gateway\, South Jordan\, Utah\, 84095
CATEGORIES:Car Show
ATTACH;FMTTYPE=image/png:https://utahcarczar.com/wp-content/uploads/2021/08/Riverton-Chevrolet-Logo.png
END:VEVENT
BEGIN:VEVENT
DTSTART;TZID=America/Denver:20250806T170000
DTEND;TZID=America/Denver:20250806T200000
DTSTAMP:20260425T060445
CREATED:20250511T235945Z
LAST-MODIFIED:20250511T235945Z
UID:10001548-1754499600-1754510400@utahcarczar.com
SUMMARY:Jordan Landing Cruise Night
DESCRIPTION:Monthly cruise night at Jordan Landing with JC Hackett
URL:https://utahcarczar.com/event/jordan-landing-cruise-night-2-2-2/2025-08-06/
LOCATION:Jordan Landing\, 7273 Plaza Center Dr\, West Jordan\, UT\, United States
CATEGORIES:Cruise Night
ATTACH;FMTTYPE=image/png:https://utahcarczar.com/wp-content/uploads/2025/03/Jordan-Landing.png
END:VEVENT
BEGIN:VEVENT
DTSTART;TZID=America/Denver:20250805T170000
DTEND;TZID=America/Denver:20250805T200000
DTSTAMP:20260425T060445
CREATED:20250601T230217Z
LAST-MODIFIED:20250601T230218Z
UID:10001547-1754413200-1754424000@utahcarczar.com
SUMMARY:One Man Band Cruise Night
DESCRIPTION:Monthly cruise night at One Man Band in Lehi with JC Hackett.
URL:https://utahcarczar.com/event/one-man-band-cruise-night-2-2-2/2025-08-05/
LOCATION:One Man Band\, 1220 E Main St\, Lehi\, UT\, United States
CATEGORIES:Cruise Night
ATTACH;FMTTYPE=image/png:https://utahcarczar.com/wp-content/uploads/2025/03/One-Man-Band.png
END:VEVENT
BEGIN:VEVENT
DTSTART;TZID=America/Denver:20250802T090000
DTEND;TZID=America/Denver:20250802T150000
DTSTAMP:20260425T060445
CREATED:20250624T053712Z
LAST-MODIFIED:20250624T053712Z
UID:10001646-1754125200-1754146800@utahcarczar.com
SUMMARY:Paws For Life Utah Charity Fundraiser Car Show
DESCRIPTION:
URL:https://utahcarczar.com/event/paws-for-life-utah-charity-fundraiser-car-show/
LOCATION:Heber City Police Department\, 301 South Main Street\, HEBER CITY
CATEGORIES:Charity Car Show
ATTACH;FMTTYPE=image/png:https://utahcarczar.com/wp-content/uploads/2025/06/Paws-for-Life-Logo.png
END:VEVENT
BEGIN:VEVENT
DTSTART;TZID=America/Denver:20250731T170000
DTEND;TZID=America/Denver:20250731T200000
DTSTAMP:20260425T060445
CREATED:20250416T125641Z
LAST-MODIFIED:20250729T041353Z
UID:10000412-1753981200-1753992000@utahcarczar.com
SUMMARY:Highland Hometown Hero's Car Show
DESCRIPTION:
URL:https://utahcarczar.com/event/highland-hometown-heros-car-show/
LOCATION:Heritage Park\, 10400 N Alpine Hwy\, Highland\, Utah\, 84003
CATEGORIES:Car Show
ATTACH;FMTTYPE=image/png:https://utahcarczar.com/wp-content/uploads/2024/07/HIGHLAND-HOMETOWN-HEROS-CAR-SHOW.png
END:VEVENT
BEGIN:VEVENT
DTSTART;TZID=America/Denver:20250727T080000
DTEND;TZID=America/Denver:20250727T080000
DTSTAMP:20260425T060445
CREATED:20250416T125507Z
LAST-MODIFIED:20250511T232121Z
UID:10000859-1753603200-1753603200@utahcarczar.com
SUMMARY:Wells Fun Run Day 3
DESCRIPTION:
URL:https://utahcarczar.com/event/wells-fun-run-day-3/
LOCATION:Wells City Park\, 951 Lake Ave\, Wells\, Nevada\, 89835
CATEGORIES:Car Show
ATTACH;FMTTYPE=image/png:https://utahcarczar.com/wp-content/uploads/2020/05/Wells-Fun-Run.png
END:VEVENT
BEGIN:VEVENT
DTSTART;TZID=America/Denver:20250726T090000
DTEND;TZID=America/Denver:20250726T170000
DTSTAMP:20260425T060445
CREATED:20250416T125507Z
LAST-MODIFIED:20250511T232127Z
UID:10000860-1753520400-1753549200@utahcarczar.com
SUMMARY:Wells Fun Run Day 2
DESCRIPTION:
URL:https://utahcarczar.com/event/wells-fun-run-day-2/
LOCATION:Wells City Park\, 951 Lake Ave\, Wells\, Nevada\, 89835
CATEGORIES:Car Show
ATTACH;FMTTYPE=image/png:https://utahcarczar.com/wp-content/uploads/2020/05/Wells-Fun-Run.png
END:VEVENT
BEGIN:VEVENT
DTSTART;TZID=America/Denver:20250725T100000
DTEND;TZID=America/Denver:20250725T200000
DTSTAMP:20260425T060445
CREATED:20250416T125507Z
LAST-MODIFIED:20250511T232006Z
UID:10000858-1753437600-1753473600@utahcarczar.com
SUMMARY:Wells Fun Run Day 1
DESCRIPTION:Day 1: \n\nDrag Racing\nBBQ\nFireworks
URL:https://utahcarczar.com/event/wells-fun-run-day-1/
LOCATION:Wells City Park\, 951 Lake Ave\, Wells\, Nevada\, 89835
CATEGORIES:Car Show
ATTACH;FMTTYPE=image/png:https://utahcarczar.com/wp-content/uploads/2020/05/Wells-Fun-Run.png
END:VEVENT
BEGIN:VEVENT
DTSTART;TZID=America/Denver:20250722T170000
DTEND;TZID=America/Denver:20250722T200000
DTSTAMP:20260425T060445
CREATED:20250601T230637Z
LAST-MODIFIED:20250601T230637Z
UID:10001606-1753203600-1753214400@utahcarczar.com
SUMMARY:Garage Grill Cruise Night
DESCRIPTION:
URL:https://utahcarczar.com/event/garage-grill-cruise-night/2025-07-22/
LOCATION:Garage Grill\, 1122 East Draper Pkwy\, Draper\, Utahg\, 84020
CATEGORIES:Cruise Night
ATTACH;FMTTYPE=image/png:https://utahcarczar.com/wp-content/uploads/2023/03/Garage-Grill-Logo.png
END:VEVENT
BEGIN:VEVENT
DTSTART;TZID=America/Denver:20250719T090000
DTEND;TZID=America/Denver:20250719T140000
DTSTAMP:20260425T060445
CREATED:20250416T125358Z
LAST-MODIFIED:20250629T213613Z
UID:10001204-1752915600-1752933600@utahcarczar.com
SUMMARY:Kamas Car Show
DESCRIPTION:
URL:https://utahcarczar.com/event/kamas-car-show/
LOCATION:Kamas City Park\, 505 S Main St\, Kamas\, Utah\, 84036
CATEGORIES:Car Show
ATTACH;FMTTYPE=image/png:https://utahcarczar.com/wp-content/uploads/2025/03/Utah-Car-Show-Icon-1.png
END:VEVENT
BEGIN:VEVENT
DTSTART;TZID=America/Denver:20250717T170000
DTEND;TZID=America/Denver:20250717T200000
DTSTAMP:20260425T060445
CREATED:20250312T033109Z
LAST-MODIFIED:20250312T033254Z
UID:10000074-1752771600-1752782400@utahcarczar.com
SUMMARY:Daybreak Soda Row Cruise Night
DESCRIPTION:
URL:https://utahcarczar.com/event/daybreak-soda-row-cruise-night/2025-07-17/
LOCATION:SoDa Row\, 11248 Kestrel Rise Road\, South Jordan\, Utah
CATEGORIES:Cruise Night
ATTACH;FMTTYPE=image/png:https://utahcarczar.com/wp-content/uploads/2025/03/Daybreak-Soda-Row-Logo.png
END:VEVENT
BEGIN:VEVENT
DTSTART;TZID=America/Denver:20250715T170000
DTEND;TZID=America/Denver:20250715T200000
DTSTAMP:20260425T060445
CREATED:20250511T235209Z
LAST-MODIFIED:20250511T235210Z
UID:10000049-1752598800-1752609600@utahcarczar.com
SUMMARY:Shake Shack Cruise Night
DESCRIPTION:
URL:https://utahcarczar.com/event/shake-shack-cruise-night-2/
LOCATION:Shake Shack\, 6123 S State Street\, Murray\, Utah
CATEGORIES:Cruise Night
ATTACH;FMTTYPE=image/png:https://utahcarczar.com/wp-content/uploads/2025/03/Shake-Shack-Logo.png
END:VEVENT
BEGIN:VEVENT
DTSTART;TZID=America/Denver:20250712T090000
DTEND;TZID=America/Denver:20250712T160000
DTSTAMP:20260425T060445
CREATED:20250416T125458Z
LAST-MODIFIED:20250419T205349Z
UID:10000325-1752310800-1752336000@utahcarczar.com
SUMMARY:Angels in the Park (Angel Hands) Car Show
DESCRIPTION:
URL:https://utahcarczar.com/event/angels-in-the-park-angel-hands-car-show/
LOCATION:Copperton Park\, 8700 W 10305 S\, Copperton\, Utah\, 84006
ATTACH;FMTTYPE=image/png:https://utahcarczar.com/wp-content/uploads/2020/05/Angels-Hands.png
END:VEVENT
BEGIN:VEVENT
DTSTART;TZID=America/Denver:20250709T170000
DTEND;TZID=America/Denver:20250709T200000
DTSTAMP:20260425T060445
CREATED:20250511T235204Z
LAST-MODIFIED:20250511T235204Z
UID:10000194-1752080400-1752091200@utahcarczar.com
SUMMARY:Jordan Landing Cruise Night
DESCRIPTION:Monthly cruise night at Jordan Landing with JC Hackett
URL:https://utahcarczar.com/event/jordan-landing-cruise-night-2-2/
LOCATION:Jordan Landing\, 7273 Plaza Center Dr\, West Jordan\, UT\, United States
CATEGORIES:Cruise Night
ATTACH;FMTTYPE=image/png:https://utahcarczar.com/wp-content/uploads/2025/03/Jordan-Landing.png
END:VEVENT
BEGIN:VEVENT
DTSTART;TZID=America/Denver:20250708T170000
DTEND;TZID=America/Denver:20250708T200000
DTSTAMP:20260425T060445
CREATED:20250511T235154Z
LAST-MODIFIED:20250512T000034Z
UID:10000190-1751994000-1752004800@utahcarczar.com
SUMMARY:One Man Band Cruise Night
DESCRIPTION:Monthly cruise night at One Man Band in Lehi with JC Hackett.
URL:https://utahcarczar.com/event/one-man-band-cruise-night-2-2/
LOCATION:One Man Band\, 1220 E Main St\, Lehi\, UT\, United States
CATEGORIES:Cruise Night
ATTACH;FMTTYPE=image/png:https://utahcarczar.com/wp-content/uploads/2025/03/One-Man-Band.png
END:VEVENT
BEGIN:VEVENT
DTSTART;TZID=America/Denver:20250705T090000
DTEND;TZID=America/Denver:20250705T163000
DTSTAMP:20260425T060445
CREATED:20250416T125632Z
LAST-MODIFIED:20250511T225523Z
UID:10000457-1751706000-1751733000@utahcarczar.com
SUMMARY:Cache Valley Cruise-In Day 3
DESCRIPTION:
URL:https://utahcarczar.com/event/cache-valley-cruise-in-car-show-day-3/
LOCATION:Cache County Fairgrounds\, 490 S 500 W\, Logan\, Utah\, 84321
CATEGORIES:Car Show
ATTACH;FMTTYPE=image/jpeg:https://utahcarczar.com/wp-content/uploads/2024/06/cache-valley-cruise-in-logo.jpg
END:VEVENT
BEGIN:VEVENT
DTSTART;TZID=America/Denver:20250704T090000
DTEND;TZID=America/Denver:20250704T163000
DTSTAMP:20260425T060445
CREATED:20250416T125632Z
LAST-MODIFIED:20250511T225526Z
UID:10000458-1751619600-1751646600@utahcarczar.com
SUMMARY:Cache Valley Cruise-In Day 2
DESCRIPTION:
URL:https://utahcarczar.com/event/cache-valley-cruise-in-cruise-and-car-show-day-2/
LOCATION:Cache County Fairgrounds\, 490 S 500 W\, Logan\, Utah\, 84321
CATEGORIES:Car Show
ATTACH;FMTTYPE=image/jpeg:https://utahcarczar.com/wp-content/uploads/2024/06/cache-valley-cruise-in-logo.jpg
END:VEVENT
BEGIN:VEVENT
DTSTART;TZID=America/Denver:20250703T100000
DTEND;TZID=America/Denver:20250703T130000
DTSTAMP:20260425T060445
CREATED:20250416T125632Z
LAST-MODIFIED:20250511T225532Z
UID:10000459-1751536800-1751547600@utahcarczar.com
SUMMARY:Cache Valley Cruise-In Poker Run Day 1
DESCRIPTION:
URL:https://utahcarczar.com/event/cache-valley-cruise-in-poker-run-day-1/
LOCATION:Cache County Fairgrounds\, 490 S 500 W\, Logan\, Utah\, 84321
CATEGORIES:Car Show
ATTACH;FMTTYPE=image/jpeg:https://utahcarczar.com/wp-content/uploads/2024/06/cache-valley-cruise-in-logo.jpg
END:VEVENT
BEGIN:VEVENT
DTSTART;TZID=America/Denver:20250628T090000
DTEND;TZID=America/Denver:20250628T150000
DTSTAMP:20260425T060445
CREATED:20250416T125624Z
LAST-MODIFIED:20250511T234401Z
UID:10000498-1751101200-1751122800@utahcarczar.com
SUMMARY:Back to the 50s Heber Car Show
DESCRIPTION:
URL:https://utahcarczar.com/event/back-to-the-50s-heber-car-show/
LOCATION:Heber City Main Street Park\, 250 South Main Street\, Heber City\, UTah\, 84032
CATEGORIES:Car Show
ATTACH;FMTTYPE=image/png:https://utahcarczar.com/wp-content/uploads/2025/03/Utah-Car-Show-Icon-1.png
END:VEVENT
BEGIN:VEVENT
DTSTART;TZID=America/Denver:20250625T170000
DTEND;TZID=America/Denver:20250625T200000
DTSTAMP:20260425T060445
CREATED:20250406T063452Z
LAST-MODIFIED:20250418T041845Z
UID:10000183-1750870800-1750881600@utahcarczar.com
SUMMARY:Burger Stop Cruise Night
DESCRIPTION:
URL:https://utahcarczar.com/event/burger-stop-cruise-night/2025-06-25/
LOCATION:Burger Stop\, 323 E Gentile\, Layton\, Utah
CATEGORIES:Cruise Night
ATTACH;FMTTYPE=image/png:https://utahcarczar.com/wp-content/uploads/2025/03/Burger-Stop-Cruise-Night-Logo.png
END:VEVENT
END:VCALENDAR