BEGIN:VCALENDAR
VERSION:2.0
PRODID:-//Utah Car Czar - ECPv6.15.18//NONSGML v1.0//EN
CALSCALE:GREGORIAN
METHOD:PUBLISH
X-WR-CALNAME:Utah Car Czar
X-ORIGINAL-URL:https://utahcarczar.com
X-WR-CALDESC:Events for Utah Car Czar
REFRESH-INTERVAL;VALUE=DURATION:PT1H
X-Robots-Tag:noindex
X-PUBLISHED-TTL:PT1H
BEGIN:VTIMEZONE
TZID:America/Denver
BEGIN:DAYLIGHT
TZOFFSETFROM:-0700
TZOFFSETTO:-0600
TZNAME:MDT
DTSTART:20240310T090000
END:DAYLIGHT
BEGIN:STANDARD
TZOFFSETFROM:-0600
TZOFFSETTO:-0700
TZNAME:MST
DTSTART:20241103T080000
END:STANDARD
BEGIN:DAYLIGHT
TZOFFSETFROM:-0700
TZOFFSETTO:-0600
TZNAME:MDT
DTSTART:20250309T090000
END:DAYLIGHT
BEGIN:STANDARD
TZOFFSETFROM:-0600
TZOFFSETTO:-0700
TZNAME:MST
DTSTART:20251102T080000
END:STANDARD
BEGIN:DAYLIGHT
TZOFFSETFROM:-0700
TZOFFSETTO:-0600
TZNAME:MDT
DTSTART:20260308T090000
END:DAYLIGHT
BEGIN:STANDARD
TZOFFSETFROM:-0600
TZOFFSETTO:-0700
TZNAME:MST
DTSTART:20261101T080000
END:STANDARD
BEGIN:DAYLIGHT
TZOFFSETFROM:-0700
TZOFFSETTO:-0600
TZNAME:MDT
DTSTART:20270314T090000
END:DAYLIGHT
BEGIN:STANDARD
TZOFFSETFROM:-0600
TZOFFSETTO:-0700
TZNAME:MST
DTSTART:20271107T080000
END:STANDARD
END:VTIMEZONE
BEGIN:VEVENT
DTSTART;TZID=America/Denver:20260418T110000
DTEND;TZID=America/Denver:20260418T150000
DTSTAMP:20260421T142546
CREATED:20260413T042647Z
LAST-MODIFIED:20260413T042647Z
UID:10002094-1776510000-1776524400@utahcarczar.com
SUMMARY:Los Fabulosos Tacos Car Show
DESCRIPTION:
URL:https://utahcarczar.com/event/los-fabulosos-tacos-car-show/
LOCATION:Los Fabulosos Tacos\, 294 N State St\, Orem\, UT\, 84057
ATTACH;FMTTYPE=image/png:https://utahcarczar.com/wp-content/uploads/2026/04/los-fabulosos-tacos-dhgnrq42-logo.png
END:VEVENT
BEGIN:VEVENT
DTSTART;TZID=America/Denver:20260418T100000
DTEND;TZID=America/Denver:20260418T150000
DTSTAMP:20260421T142546
CREATED:20260411T191014Z
LAST-MODIFIED:20260413T050325Z
UID:10002092-1776506400-1776524400@utahcarczar.com
SUMMARY:Spring Fling Car Show
DESCRIPTION:
URL:https://utahcarczar.com/event/spring-fling-car-show/
LOCATION:Sevier County Fairgrounds\, 410 E 200 S\, Richfield\, Utah\, 84701
CATEGORIES:Car Show
ATTACH;FMTTYPE=image/png:https://utahcarczar.com/wp-content/uploads/2025/05/2026-Car-Show-Icon.png
END:VEVENT
BEGIN:VEVENT
DTSTART;TZID=America/Denver:20260417T190000
DTEND;TZID=America/Denver:20260417T210000
DTSTAMP:20260421T142546
CREATED:20260406T040002Z
LAST-MODIFIED:20260406T040002Z
UID:10002082-1776452400-1776459600@utahcarczar.com
SUMMARY:Friday Night Lights
DESCRIPTION:Bring your crew. Bring your appetite. Bring your ride.Or just come hang… we want to see everything
URL:https://utahcarczar.com/event/friday-night-lights/
LOCATION:Interstate Auto Group\, 1125 S 450 W\, Brigham City\, UT\, 84302
CATEGORIES:Cruise Night
ATTACH;FMTTYPE=image/png:https://utahcarczar.com/wp-content/uploads/2026/04/Interstate-Auto-Group-Logo.png
END:VEVENT
BEGIN:VEVENT
DTSTART;TZID=America/Denver:20260411T100000
DTEND;TZID=America/Denver:20260411T170000
DTSTAMP:20260421T142546
CREATED:20260406T035223Z
LAST-MODIFIED:20260406T035223Z
UID:10002080-1775901600-1775926800@utahcarczar.com
SUMMARY:JDC Meet & Cruise
DESCRIPTION:Meet at Smith’s \nFirst Stop – Kuhl\, 333 Main St\, Park City \nSecond Stop – Mack’s Finest Gelato\, 1890 Bonanza Dr\, Park City
URL:https://utahcarczar.com/event/jdc-meet-cruise/
LOCATION:Smiths (SLC)\, 3215 S Valley St\, Salt Lake City\, UT\, 84109
CATEGORIES:Cruise
ATTACH;FMTTYPE=image/png:https://utahcarczar.com/wp-content/uploads/2025/05/2026-Car-Show-Icon-Euro.png
END:VEVENT
BEGIN:VEVENT
DTSTART;TZID=America/Denver:20260404T160000
DTEND;TZID=America/Denver:20260404T220000
DTSTAMP:20260421T142546
CREATED:20260402T203854Z
LAST-MODIFIED:20260402T203854Z
UID:10002078-1775318400-1775340000@utahcarczar.com
SUMMARY:Mountain Mike's Community Concert Car Show
DESCRIPTION:
URL:https://utahcarczar.com/event/mountain-mikes-community-concert-car-show/
LOCATION:Mountain Mikes Pizza – South Jordan\, 3785 S Jordan Pkwy W\, South Jordan\, UT\, United States
CATEGORIES:Car Show
ATTACH;FMTTYPE=image/png:https://utahcarczar.com/wp-content/uploads/2023/03/MOuntain-Mikes-Pizza-Logo.png
END:VEVENT
BEGIN:VEVENT
DTSTART;TZID=America/Denver:20260404T150000
DTEND;TZID=America/Denver:20260404T190000
DTSTAMP:20260421T142546
CREATED:20260219T023903Z
LAST-MODIFIED:20260219T023928Z
UID:10002026-1775314800-1775329200@utahcarczar.com
SUMMARY:Texas Roadhouse Cruise-In St. George
DESCRIPTION:The 1st Saturday of every month SGCS & Texas Roadhouse will be hosting a Cruise In and fundraiser to help raise money for programs that need help in Our Community. Cruise In times will be around the weather so please watch for changes thru out the year\, There will be discounts and specials on food during the cruise ins.
URL:https://utahcarczar.com/event/texas-roadhouse-cruise-in-st-george/2026-04-04/
LOCATION:Texas Roadhouse – St. George\, 2654 E Red Cliffs Dr\, St George\, Utah
CATEGORIES:Cruise Night
ATTACH;FMTTYPE=image/png:https://utahcarczar.com/wp-content/uploads/2021/08/Texas-Roadhouse-Logo.png
END:VEVENT
BEGIN:VEVENT
DTSTART;TZID=America/Denver:20260328T110000
DTEND;TZID=America/Denver:20260328T140000
DTSTAMP:20260421T142546
CREATED:20260322T231254Z
LAST-MODIFIED:20260322T231254Z
UID:10002071-1774695600-1774706400@utahcarczar.com
SUMMARY:Wrenchik Repair and Performance Car Meet
DESCRIPTION:Join Us for our first grand opening car show! Come hang out at our new shop\, see what we’re working on\, chat with like-minded enthusiasts\, and enjoy some fresh Curry Pizza!\nNo Speeding\, No Burnouts\, Respect Location!\nNo Registration Required! All Makes and Models of any year welcome!
URL:https://utahcarczar.com/event/wrenchik-repair-and-performance-car-meet/
LOCATION:Wrenchik Repair and Performance\, 3584 S 1950 W\, Unit 6\, West Valley City
CATEGORIES:Car Show
ATTACH;FMTTYPE=image/png:https://utahcarczar.com/wp-content/uploads/2026/03/ios-logo.png
END:VEVENT
BEGIN:VEVENT
DTSTART;TZID=America/Denver:20260307T150000
DTEND;TZID=America/Denver:20260307T190000
DTSTAMP:20260421T142546
CREATED:20260219T023903Z
LAST-MODIFIED:20260219T023928Z
UID:10002025-1772895600-1772910000@utahcarczar.com
SUMMARY:Texas Roadhouse Cruise-In St. George
DESCRIPTION:The 1st Saturday of every month SGCS & Texas Roadhouse will be hosting a Cruise In and fundraiser to help raise money for programs that need help in Our Community. Cruise In times will be around the weather so please watch for changes thru out the year\, There will be discounts and specials on food during the cruise ins.
URL:https://utahcarczar.com/event/texas-roadhouse-cruise-in-st-george/2026-03-07/
LOCATION:Texas Roadhouse – St. George\, 2654 E Red Cliffs Dr\, St George\, Utah
CATEGORIES:Cruise Night
ATTACH;FMTTYPE=image/png:https://utahcarczar.com/wp-content/uploads/2021/08/Texas-Roadhouse-Logo.png
END:VEVENT
BEGIN:VEVENT
DTSTART;TZID=America/Denver:20260118T110000
DTEND;TZID=America/Denver:20260118T140000
DTSTAMP:20260421T142546
CREATED:20251202T174814Z
LAST-MODIFIED:20251202T174814Z
UID:10001827-1768734000-1768744800@utahcarczar.com
SUMMARY:Flaming Gorge Resort SNOW RALLY Day 2
DESCRIPTION:Come watch 1954 and older vehicles RALLY through a snow-packed course! \nFood…Fires…Warming TentFree Event…Everyone Welcome…Bring chairs to sit inAfter Party Bonfire ~ Sunday\, January 18th at 6:00 p.m.Cars must be pre-approved. See below for rules and information. To enter your car\, fill out the registration below.You MUST submit a picture of your vehicle. If you have questions\, email Woody at woody.fgresort@yahoo.com
URL:https://utahcarczar.com/event/flaming-gorge-resort-snow-rally-day-2/
LOCATION:Flaming Gorge Resort\, 1100 e. Flaming Gorge Resort\, Dutch John
ATTACH;FMTTYPE=image/png:https://utahcarczar.com/wp-content/uploads/2025/11/SNOW-RALLY-2026-NO-BACKGROUND-scaled.png
END:VEVENT
BEGIN:VEVENT
DTSTART;TZID=America/Denver:20260117T110000
DTEND;TZID=America/Denver:20260117T150000
DTSTAMP:20260421T142546
CREATED:20251202T174207Z
LAST-MODIFIED:20251202T174850Z
UID:10001826-1768647600-1768662000@utahcarczar.com
SUMMARY:Flaming Gorge Resort SNOW RALLY Day 1
DESCRIPTION:Come watch 1954 and older vehicles RALLY through a snow-packed course! \nFood…Fires…Warming TentFree Event…Everyone Welcome…Bring chairs to sit inAfter Party Bonfire ~ Sunday\, January 18th at 6:00 p.m.Cars must be pre-approved. See below for rules and information. To enter your car\, fill out the registration below.You MUST submit a picture of your vehicle. If you have questions\, email Woody at woody.fgresort@yahoo.com
URL:https://utahcarczar.com/event/flaming-gorge-resort-snow-rally-day-1/
LOCATION:Flaming Gorge Resort\, 1100 e. Flaming Gorge Resort\, Dutch John
ATTACH;FMTTYPE=image/png:https://utahcarczar.com/wp-content/uploads/2025/11/SNOW-RALLY-2026-NO-BACKGROUND-scaled.png
END:VEVENT
BEGIN:VEVENT
DTSTART;TZID=America/Denver:20251213T090000
DTEND;TZID=America/Denver:20251213T110000
DTSTAMP:20260421T142546
CREATED:20250830T234423Z
LAST-MODIFIED:20250830T234423Z
UID:10001761-1765616400-1765623600@utahcarczar.com
SUMMARY:Show & Shine at Tuachan
DESCRIPTION:
URL:https://utahcarczar.com/event/show-shine-at-tuachan/2025-12-13/
LOCATION:Tuacahn Amphitheatre\, 1100 Tuacahn Dr\, Ivins\, Utah\, 84738
CATEGORIES:Car Show
ATTACH;FMTTYPE=image/png:https://utahcarczar.com/wp-content/uploads/2025/08/Tuacahn-Logo_SM_Final_Tucahn-Logo-Black-1024x501-1.png
END:VEVENT
BEGIN:VEVENT
DTSTART;TZID=America/Denver:20251108T120000
DTEND;TZID=America/Denver:20251108T170000
DTSTAMP:20260421T142546
CREATED:20251106T061722Z
LAST-MODIFIED:20251106T061722Z
UID:10001821-1762603200-1762621200@utahcarczar.com
SUMMARY:Union Moto Show
DESCRIPTION:
URL:https://utahcarczar.com/event/union-moto-show/
LOCATION:Golden Spike Events Center\, 1000 N 1200 W\, ogden
CATEGORIES:Car Show
ATTACH;FMTTYPE=image/png:https://utahcarczar.com/wp-content/uploads/2025/11/Hot-Doggin-Logo.png
END:VEVENT
BEGIN:VEVENT
DTSTART;TZID=America/Denver:20251108T090000
DTEND;TZID=America/Denver:20251108T110000
DTSTAMP:20260421T142546
CREATED:20250830T234423Z
LAST-MODIFIED:20250830T234423Z
UID:10001760-1762592400-1762599600@utahcarczar.com
SUMMARY:Show & Shine at Tuachan
DESCRIPTION:
URL:https://utahcarczar.com/event/show-shine-at-tuachan/2025-11-08/
LOCATION:Tuacahn Amphitheatre\, 1100 Tuacahn Dr\, Ivins\, Utah\, 84738
CATEGORIES:Car Show
ATTACH;FMTTYPE=image/png:https://utahcarczar.com/wp-content/uploads/2025/08/Tuacahn-Logo_SM_Final_Tucahn-Logo-Black-1024x501-1.png
END:VEVENT
BEGIN:VEVENT
DTSTART;TZID=America/Denver:20251101T190000
DTEND;TZID=America/Denver:20251101T210000
DTSTAMP:20260421T142546
CREATED:20250516T060252Z
LAST-MODIFIED:20250516T060645Z
UID:10001574-1762023600-1762030800@utahcarczar.com
SUMMARY:Cruisin the Brewery
DESCRIPTION:
URL:https://utahcarczar.com/event/cruisin-the-brewery-st-george/2025-11-01/
LOCATION:Strap Tank Brewery St. George\, 1872 Crosby Way\, St. George\, Utah
CATEGORIES:Cruise Night
ATTACH;FMTTYPE=image/png:https://utahcarczar.com/wp-content/uploads/2025/05/Strap-Tank-Brewery-Logo.png
END:VEVENT
BEGIN:VEVENT
DTSTART;TZID=America/Denver:20251030T190000
DTEND;TZID=America/Denver:20251030T210000
DTSTAMP:20260421T142546
CREATED:20250408T050851Z
LAST-MODIFIED:20250408T051933Z
UID:10000296-1761850800-1761858000@utahcarczar.com
SUMMARY:Cars & Curry West Valley
DESCRIPTION:
URL:https://utahcarczar.com/event/cars-curry-west-valley/2025-10-30/
LOCATION:Curry Pizza – West Valley\, 2927 S 5600 W\, West Valley\, Utah\, 84120
CATEGORIES:Cars & Curry
ATTACH;FMTTYPE=image/png:https://utahcarczar.com/wp-content/uploads/2025/04/Curry-Pizza-West-Valley-Logo.png
END:VEVENT
BEGIN:VEVENT
DTSTART;TZID=America/Denver:20251030T180000
DTEND;TZID=America/Denver:20251030T203000
DTSTAMP:20260421T142546
CREATED:20251001T222824Z
LAST-MODIFIED:20251001T222824Z
UID:10001794-1761847200-1761856200@utahcarczar.com
SUMMARY:Día De Los Muertos Gathering
DESCRIPTION:Enjoy a night filled with: Music & Dance Cacao Tasting Sugar Skull Workshop (Reserve your spot at: bit.ly/WVCSSW25) Delicious Food & Drinks \nLet’s honor our loved ones together in a beautiful evening of tradition\, culture\, and community.
URL:https://utahcarczar.com/event/dia-de-los-muertos-gathering/
LOCATION:Salt Lake Community College West Valley Center\, 3460 South 5600 West\, West Valley\, Utah\, 84120
CATEGORIES:Car Show
ATTACH;FMTTYPE=image/png:https://utahcarczar.com/wp-content/uploads/2022/07/SLCC-Logo.png
END:VEVENT
BEGIN:VEVENT
DTSTART;TZID=America/Denver:20251029T190000
DTEND;TZID=America/Denver:20251029T210000
DTSTAMP:20260421T142546
CREATED:20250418T050441Z
LAST-MODIFIED:20250418T050442Z
UID:10000235-1761764400-1761771600@utahcarczar.com
SUMMARY:Cars & Curry Lehi
DESCRIPTION:
URL:https://utahcarczar.com/event/cars-curry-lehi-2/2025-10-29/
LOCATION:Curry Pizza\, 2450 Executive Pkwy #150\, Lehi\, Utah
CATEGORIES:Cars & Curry
ATTACH;FMTTYPE=image/png:https://utahcarczar.com/wp-content/uploads/2025/04/Curry-Pizza-Lehi-Logo.png
END:VEVENT
BEGIN:VEVENT
DTSTART;TZID=America/Denver:20251029T180000
DTEND;TZID=America/Denver:20251029T200000
DTSTAMP:20260421T142546
CREATED:20251013T005846Z
LAST-MODIFIED:20251013T005846Z
UID:10001806-1761760800-1761768000@utahcarczar.com
SUMMARY:Family Trunk or Treat at Bridgeway
DESCRIPTION:Celebrate Halloween at Bridgeway Integrated Healthcare Services’ first-ever Trunk or Treat! Bring the whole family to enjoy this community event.\nShow off your costumes\, collect candy and mini prizes from our team members\, and stay warm with hot cocoa and apple cider *while supplies last. See you there!
URL:https://utahcarczar.com/event/family-trunk-or-treat-at-bridgeway/
LOCATION:Bridgeway Integrated Healthcare Services\, 5536 S 1900\, Taylorsville\, Utah\, 84129
CATEGORIES:Trunk or Treat
ATTACH;FMTTYPE=image/webp:https://utahcarczar.com/wp-content/uploads/2025/10/Bridgeway-Integrated-Healthcare-Services-Logo.webp
END:VEVENT
BEGIN:VEVENT
DTSTART;TZID=America/Denver:20251028T180000
DTEND;TZID=America/Denver:20251028T200000
DTSTAMP:20260421T142546
CREATED:20251013T003916Z
LAST-MODIFIED:20251013T005941Z
UID:10001804-1761674400-1761681600@utahcarczar.com
SUMMARY:Trunk or Treat Texas Roadhouse
DESCRIPTION:Bring the your family\, friends\, and your best costumes and enjoy our FREE community event. \n If you are a local business\, non-profit group\, or school come join us and RSVP today!
URL:https://utahcarczar.com/event/trunk-or-treat-texas-roadhouse/
LOCATION:Texas Roadhouse – Sandy\, 200 W 10600 S\, Sandy\, Utah
CATEGORIES:Trunk or Treat
ATTACH;FMTTYPE=image/png:https://utahcarczar.com/wp-content/uploads/2021/08/Texas-Roadhouse-Logo.png
END:VEVENT
BEGIN:VEVENT
DTSTART;TZID=America/Denver:20251028T173000
DTEND;TZID=America/Denver:20251028T190000
DTSTAMP:20260421T142546
CREATED:20251024T221010Z
LAST-MODIFIED:20251024T221010Z
UID:10001811-1761672600-1761678000@utahcarczar.com
SUMMARY:Corner Canyon Spooktacular Trunk or Treat
DESCRIPTION:
URL:https://utahcarczar.com/event/corner-canyon-spooktacular-trunk-or-treat/
LOCATION:Corner Canyon High School\, 12943 S 700 E\, Draper\, Utah\, 84020
CATEGORIES:Trunk or Treat
ATTACH;FMTTYPE=image/png:https://utahcarczar.com/wp-content/uploads/2025/10/Corner-Canyon-HS-Logo.png
END:VEVENT
BEGIN:VEVENT
DTSTART;TZID=America/Denver:20251027T180000
DTEND;TZID=America/Denver:20251027T200000
DTSTAMP:20260421T142546
CREATED:20250808T050831Z
LAST-MODIFIED:20250825T161737Z
UID:10001728-1761588000-1761595200@utahcarczar.com
SUMMARY:2nd East Cruise In and Car Show
DESCRIPTION:Sponsored by the Cedar Breaks Model A & Vintage Auto Club
URL:https://utahcarczar.com/event/2nd-east-cruise-in-and-car-show-august-2025/2025-10-27/
LOCATION:Second East\, 686 Canyon Ranch Drive\, Cedar City\, UT
CATEGORIES:Car Show
ATTACH;FMTTYPE=image/png:https://utahcarczar.com/wp-content/uploads/2025/03/Second-East-Logo.png
END:VEVENT
BEGIN:VEVENT
DTSTART;TZID=America/Denver:20251026T170000
DTEND;TZID=America/Denver:20251026T200000
DTSTAMP:20260421T142546
CREATED:20250930T220055Z
LAST-MODIFIED:20251013T003300Z
UID:10001791-1761498000-1761508800@utahcarczar.com
SUMMARY:Audio Xtreme Car Meet
DESCRIPTION:
URL:https://utahcarczar.com/event/audio-xtreme-car-meet/
LOCATION:Audio Xtreme\, 3675 Riverdale Rd\, Ogden
CATEGORIES:Car Show
ATTACH;FMTTYPE=image/webp:https://utahcarczar.com/wp-content/uploads/2025/09/Audio-Extreme-Logo.webp
END:VEVENT
BEGIN:VEVENT
DTSTART;TZID=America/Denver:20251025T180000
DTEND;TZID=America/Denver:20251025T200000
DTSTAMP:20260421T142546
CREATED:20251013T010907Z
LAST-MODIFIED:20251013T010907Z
UID:10001807-1761415200-1761422400@utahcarczar.com
SUMMARY:Trunk or Treat at Koral Kafe
DESCRIPTION:
URL:https://utahcarczar.com/event/trunk-or-treat-at-koral-kafe/
LOCATION:Koral Kafe\, 2400 N Town Center Dr\, Washington\, Utah\, 84780
CATEGORIES:Trunk or Treat
ATTACH;FMTTYPE=image/jpeg:https://utahcarczar.com/wp-content/uploads/2025/10/Koral-Kafe-Logo.jpg
END:VEVENT
BEGIN:VEVENT
DTSTART;TZID=America/Denver:20251025T160000
DTEND;TZID=America/Denver:20251025T205900
DTSTAMP:20260421T142546
CREATED:20250908T203445Z
LAST-MODIFIED:20250908T203445Z
UID:10001771-1761408000-1761425940@utahcarczar.com
SUMMARY:Big O Tires Trunk or Treat
DESCRIPTION:We have spots for up to 90 vehicles. Do not have to set up a vehicle to attend. This event is for the community.
URL:https://utahcarczar.com/event/big-o-tires-trunk-or-treat/
LOCATION:Big O Tires – West Point\, 19 S 2000 W\, West Point\, Utah
CATEGORIES:Trunk or Treat
ATTACH;FMTTYPE=image/gif:https://utahcarczar.com/wp-content/uploads/2020/05/Big-O-Tires-Logo.gif
END:VEVENT
BEGIN:VEVENT
DTSTART;TZID=America/Denver:20251025T130000
DTEND;TZID=America/Denver:20251025T170000
DTSTAMP:20260421T142546
CREATED:20251019T212657Z
LAST-MODIFIED:20251019T212657Z
UID:10001810-1761397200-1761411600@utahcarczar.com
SUMMARY:Legends Trunk or Treat
DESCRIPTION:
URL:https://utahcarczar.com/event/legends-trunk-or-treat/
LOCATION:Legends Motorcycle Museum\, 1715 W 500 S\, Springville\, Utah
CATEGORIES:Trunk or Treat
ATTACH;FMTTYPE=image/webp:https://utahcarczar.com/wp-content/uploads/2025/10/legends-motor-co-1.webp
END:VEVENT
BEGIN:VEVENT
DTSTART;TZID=America/Denver:20251024T173000
DTEND;TZID=America/Denver:20251024T200000
DTSTAMP:20260421T142546
CREATED:20250930T222757Z
LAST-MODIFIED:20250930T222825Z
UID:10001792-1761327000-1761336000@utahcarczar.com
SUMMARY:Trunk or Treat Young Powersports XL
DESCRIPTION:Event Highlights\nFree Admission: No tickets\, no hassle. Just show up ready for fun.\nFace Painter + Balloon Artist: Stop by for delightfully spooky looks and balloon creations that wow the kiddos.\nCandy Galore: Expect plenty of treats from our decked‑out trunks and displays.\nOpen to All: Families\, friends\, neighbors—everyone is invited.\nParticipate with Your Ride: Cars and bikes are welcome to bring candy and join the lineup. Creativity encouraged!
URL:https://utahcarczar.com/event/trunk-or-treat-young-powersports-xl/
LOCATION:Young Powersports XL\, 547 S Frontage Rd\, Centerville\, Utah\, 84014
CATEGORIES:Trunk or Treat
ATTACH;FMTTYPE=image/png:https://utahcarczar.com/wp-content/uploads/2025/09/Young-Powersports-XL-logo-scaled.png
END:VEVENT
BEGIN:VEVENT
DTSTART;TZID=America/Denver:20251024T160000
DTEND;TZID=America/Denver:20251024T190000
DTSTAMP:20260421T142546
CREATED:20250419T213940Z
LAST-MODIFIED:20250419T213940Z
UID:10001473-1761321600-1761332400@utahcarczar.com
SUMMARY:Woody's Drive-In Cruise Night
DESCRIPTION:
URL:https://utahcarczar.com/event/woodys-drive-in-cruise-night/2025-10-24/
LOCATION:Woody’s Drive-In\, 6172 S 1300 E\, Murray\, Utah
CATEGORIES:Cruise Night
ATTACH;FMTTYPE=image/webp:https://utahcarczar.com/wp-content/uploads/2025/04/Woodys-Drive-In-Logo.webp
END:VEVENT
BEGIN:VEVENT
DTSTART;TZID=America/Denver:20251023T190000
DTEND;TZID=America/Denver:20251023T210000
DTSTAMP:20260421T142546
CREATED:20250408T050851Z
LAST-MODIFIED:20250408T051933Z
UID:10000295-1761246000-1761253200@utahcarczar.com
SUMMARY:Cars & Curry West Valley
DESCRIPTION:
URL:https://utahcarczar.com/event/cars-curry-west-valley/2025-10-23/
LOCATION:Curry Pizza – West Valley\, 2927 S 5600 W\, West Valley\, Utah\, 84120
CATEGORIES:Cars & Curry
ATTACH;FMTTYPE=image/png:https://utahcarczar.com/wp-content/uploads/2025/04/Curry-Pizza-West-Valley-Logo.png
END:VEVENT
BEGIN:VEVENT
DTSTART;TZID=America/Denver:20251023T180000
DTEND;TZID=America/Denver:20251023T210000
DTSTAMP:20260421T142546
CREATED:20250416T132515Z
LAST-MODIFIED:20250507T050231Z
UID:10001533-1761242400-1761253200@utahcarczar.com
SUMMARY:Firehouse Pizza Cruise Night
DESCRIPTION:
URL:https://utahcarczar.com/event/firehouse-pizza-cruise-night/2025-10-23/
LOCATION:Firehouse Pizza\, 646 S Main St\, Brigham City\, Utah\, 84302
CATEGORIES:Cruise Night
ATTACH;FMTTYPE=image/png:https://utahcarczar.com/wp-content/uploads/2022/03/Firehouse-Pizzeria-Logo.png
END:VEVENT
BEGIN:VEVENT
DTSTART;TZID=America/Denver:20251023T180000
DTEND;TZID=America/Denver:20251023T210000
DTSTAMP:20260421T142546
CREATED:20250414T043425Z
LAST-MODIFIED:20250419T190010Z
UID:10000314-1761242400-1761253200@utahcarczar.com
SUMMARY:Fiiz Drinks Cruise Nights
DESCRIPTION:
URL:https://utahcarczar.com/event/fiiz-drinks-cruise-nights/2025-10-23/
LOCATION:Fiiz Drinks\, 623 N UT-198\, Salem\, Utah\, 84653
CATEGORIES:Cruise Night
ATTACH;FMTTYPE=image/jpeg:https://utahcarczar.com/wp-content/uploads/2025/04/Fiiz-Drinks-Logo.jpg
END:VEVENT
END:VCALENDAR