BEGIN:VCALENDAR
VERSION:2.0
PRODID:-//Utah Car Czar - ECPv6.15.18//NONSGML v1.0//EN
CALSCALE:GREGORIAN
METHOD:PUBLISH
X-ORIGINAL-URL:https://utahcarczar.com
X-WR-CALDESC:Events for Utah Car Czar
REFRESH-INTERVAL;VALUE=DURATION:PT1H
X-Robots-Tag:noindex
X-PUBLISHED-TTL:PT1H
BEGIN:VTIMEZONE
TZID:America/Denver
BEGIN:DAYLIGHT
TZOFFSETFROM:-0700
TZOFFSETTO:-0600
TZNAME:MDT
DTSTART:20250309T090000
END:DAYLIGHT
BEGIN:STANDARD
TZOFFSETFROM:-0600
TZOFFSETTO:-0700
TZNAME:MST
DTSTART:20251102T080000
END:STANDARD
BEGIN:DAYLIGHT
TZOFFSETFROM:-0700
TZOFFSETTO:-0600
TZNAME:MDT
DTSTART:20260308T090000
END:DAYLIGHT
BEGIN:STANDARD
TZOFFSETFROM:-0600
TZOFFSETTO:-0700
TZNAME:MST
DTSTART:20261101T080000
END:STANDARD
BEGIN:DAYLIGHT
TZOFFSETFROM:-0700
TZOFFSETTO:-0600
TZNAME:MDT
DTSTART:20270314T090000
END:DAYLIGHT
BEGIN:STANDARD
TZOFFSETFROM:-0600
TZOFFSETTO:-0700
TZNAME:MST
DTSTART:20271107T080000
END:STANDARD
END:VTIMEZONE
BEGIN:VEVENT
DTSTART;TZID=America/Denver:20260424T100000
DTEND;TZID=America/Denver:20260424T160000
DTSTAMP:20260421T130247
CREATED:20260411T184724Z
LAST-MODIFIED:20260411T184724Z
UID:10002088-1777024800-1777046400@utahcarczar.com
SUMMARY:Tip Top Transmissions Car Show
DESCRIPTION:Cool rigs\, pizza truck on site\, and great company!
URL:https://utahcarczar.com/event/tip-top-transmissions-car-show/
LOCATION:Tip Top Transmissions\, 2211 N Warm Springs Road #1\, Salt Lake City\, UT\, 84116
CATEGORIES:Car Show
ATTACH;FMTTYPE=image/png:https://utahcarczar.com/wp-content/uploads/2026/04/Tip-Top-Transmissions-Logo.png
END:VEVENT
BEGIN:VEVENT
DTSTART;TZID=America/Denver:20260425T100000
DTEND;TZID=America/Denver:20260425T140000
DTSTAMP:20260421T130247
CREATED:20250414T045535Z
LAST-MODIFIED:20260407T051030Z
UID:10000315-1777111200-1777125600@utahcarczar.com
SUMMARY:Ogden Car & Bike Show
DESCRIPTION:Join Young Collision for our 2nd Annual Car Show on Saturday\, April 25th\, from 10 AM to 2 PM at Young Powersports Euro! A free\, family-friendly event celebrating automotive passion and community! Whether you’re bringing your own ride or just coming to admire the cars and bikes on display\, there’s something for everyone to enjoy\, including:\nFood TrucksRaffle PrizesVendors
URL:https://utahcarczar.com/event/ogden-car-bike-show/
LOCATION:Young Collision Center\, 1193 Wilson Lane\, Ogden\, Utah\, 84401
CATEGORIES:Car Show
ATTACH;FMTTYPE=image/png:https://utahcarczar.com/wp-content/uploads/2025/04/Young-Collision-Center-Logo.png
END:VEVENT
BEGIN:VEVENT
DTSTART;TZID=America/Denver:20260425T100000
DTEND;TZID=America/Denver:20260425T140000
DTSTAMP:20260421T130247
CREATED:20260330T064746Z
LAST-MODIFIED:20260330T064746Z
UID:10002077-1777111200-1777125600@utahcarczar.com
SUMMARY:Bountiful High School Car Show
DESCRIPTION:
URL:https://utahcarczar.com/event/bountiful-high-school-car-show/
LOCATION:Bountiful High School\, 695 S Orch Dr\, Bountiful\, UT\, 84010\, United States
CATEGORIES:Car Show
ATTACH;FMTTYPE=image/png:https://utahcarczar.com/wp-content/uploads/2026/03/Bountiful-High-School-Logo.png
END:VEVENT
BEGIN:VEVENT
DTSTART;TZID=America/Denver:20260425T140000
DTEND;TZID=America/Denver:20260425T180000
DTSTAMP:20260421T130247
CREATED:20260308T075614Z
LAST-MODIFIED:20260308T075614Z
UID:10002066-1777125600-1777140000@utahcarczar.com
SUMMARY:Our First Car Show
DESCRIPTION:This is a fundraiser for Special Needs Boy Scout Troop 1481 & VFW 1481 Auxiliary. DJ Kooter on site.\nRaffle tickets $1 each or 6 for $5. No food vendors. Bring your own food and snacks.
URL:https://utahcarczar.com/event/our-first-car-show/
LOCATION:Marriott Park\, 1045 S 1200 W\, Ogden
CATEGORIES:Charity Car Show
ATTACH;FMTTYPE=image/png:https://utahcarczar.com/wp-content/uploads/2025/05/2026-Car-Show-Icon-2.png
END:VEVENT
BEGIN:VEVENT
DTSTART;TZID=America/Denver:20260502T110000
DTEND;TZID=America/Denver:20260502T150000
DTSTAMP:20260421T130247
CREATED:20260407T052018Z
LAST-MODIFIED:20260407T052052Z
UID:10002086-1777719600-1777734000@utahcarczar.com
SUMMARY:Cinco de Mayo Car Show
DESCRIPTION:
URL:https://utahcarczar.com/event/cinco-de-mayo-car-show-farr-west/
LOCATION:Civic Center Park\, 2300 N 1700 W\, Clinton\, UT
CATEGORIES:Car Show
ATTACH;FMTTYPE=image/png:https://utahcarczar.com/wp-content/uploads/2025/05/2026-Car-Show-Icon.png
END:VEVENT
BEGIN:VEVENT
DTSTART;TZID=America/Denver:20260502T150000
DTEND;TZID=America/Denver:20260502T190000
DTSTAMP:20260421T130247
CREATED:20260219T023903Z
LAST-MODIFIED:20260219T023928Z
UID:10002027-1777734000-1777748400@utahcarczar.com
SUMMARY:Texas Roadhouse Cruise-In St. George
DESCRIPTION:The 1st Saturday of every month SGCS & Texas Roadhouse will be hosting a Cruise In and fundraiser to help raise money for programs that need help in Our Community. Cruise In times will be around the weather so please watch for changes thru out the year\, There will be discounts and specials on food during the cruise ins.
URL:https://utahcarczar.com/event/texas-roadhouse-cruise-in-st-george/2026-05-02/
LOCATION:Texas Roadhouse – St. George\, 2654 E Red Cliffs Dr\, St George\, Utah
CATEGORIES:Cruise Night
ATTACH;FMTTYPE=image/png:https://utahcarczar.com/wp-content/uploads/2021/08/Texas-Roadhouse-Logo.png
END:VEVENT
BEGIN:VEVENT
DTSTART;TZID=America/Denver:20260515T163000
DTEND;TZID=America/Denver:20260515T200000
DTSTAMP:20260421T130247
CREATED:20250312T172901Z
LAST-MODIFIED:20260217T055213Z
UID:10000079-1778862600-1778875200@utahcarczar.com
SUMMARY:Weber Chrome Classic Car Show
DESCRIPTION:This is a fundraiser for our FFA chapter. We will have awards\, raffles\, kids games\, and food trucks at this event! This is a great way to show off your amazing vehicles.
URL:https://utahcarczar.com/event/weber-chrome-classic-car-show/
LOCATION:Weber High School\, 430 Weber High Drive\, Pleasant View\, Utah\, 84414
CATEGORIES:Car Show
ATTACH;FMTTYPE=image/png:https://utahcarczar.com/wp-content/uploads/2025/03/Weber-FFA-Logo.png
END:VEVENT
BEGIN:VEVENT
DTSTART;TZID=America/Denver:20260516T100000
DTEND;TZID=America/Denver:20260516T120000
DTSTAMP:20260421T130247
CREATED:20250312T231024Z
LAST-MODIFIED:20260318T233925Z
UID:10000080-1778925600-1778932800@utahcarczar.com
SUMMARY:Cedar Valley High School Band Car Show
DESCRIPTION:
URL:https://utahcarczar.com/event/cedar-valley-high-school-band-car-show/
LOCATION:Cedar Valley High School\, 1389 Aviator Ave\, Eagle Mountain\, Utah
CATEGORIES:Charity Car Show
ATTACH;FMTTYPE=image/png:https://utahcarczar.com/wp-content/uploads/2024/02/Cedar_Valley_High_School_logo.png
END:VEVENT
BEGIN:VEVENT
DTSTART;TZID=America/Denver:20260517T110000
DTEND;TZID=America/Denver:20260517T140000
DTSTAMP:20260421T130247
CREATED:20260328T002554Z
LAST-MODIFIED:20260328T002554Z
UID:10002076-1779015600-1779026400@utahcarczar.com
SUMMARY:Armed Forces Day Car Show
DESCRIPTION: What to expect:• Awesome cars & motorcycles on display• Local vendors to shop from• Delicious food options• A great community atmosphere\n\nEvent Details:• Car registration: $5• Public entry: FREE\nCome show off your ride or just come enjoy the show—either way\, you won’t want to miss it! Let’s come together to support\, celebrate\, and have a great time 
URL:https://utahcarczar.com/event/armed-forces-day-car-show/
LOCATION:American Legion Post 129\, UT-39 Scenic\, Huntsville\, UT\, 84317
CATEGORIES:Car Show
ATTACH;FMTTYPE=image/jpeg:https://utahcarczar.com/wp-content/uploads/2020/05/American-Legion-Post-112-Utah.jpg
END:VEVENT
BEGIN:VEVENT
DTSTART;TZID=America/Denver:20260517T130000
DTEND;TZID=America/Denver:20260517T180000
DTSTAMP:20260421T130247
CREATED:20260411T185333Z
LAST-MODIFIED:20260411T185357Z
UID:10002089-1779022800-1779040800@utahcarczar.com
SUMMARY:Lady Lowrider Car Show & Hop
DESCRIPTION:Everyone welcome. No Drama. Free Family Event.
URL:https://utahcarczar.com/event/lady-lowrider-car-show-hop/
LOCATION:Venue 801\, 4055 W 5415 S\, Kearns\, UT\, 84118
CATEGORIES:Car Show
ATTACH;FMTTYPE=image/webp:https://utahcarczar.com/wp-content/uploads/2026/04/Venue-801-Logo-scaled.webp
END:VEVENT
BEGIN:VEVENT
DTSTART;TZID=America/Denver:20260530T100000
DTEND;TZID=America/Denver:20260530T140000
DTSTAMP:20260421T130247
CREATED:20250419T175020Z
LAST-MODIFIED:20260411T185614Z
UID:10001464-1780135200-1780149600@utahcarczar.com
SUMMARY:Third Annual Car Show Extravaganza
DESCRIPTION:$5 for a burger or hot dog\, drink\, dessert\, and chips.\nAll proceeds go to Alzheimer’s walk for a cure
URL:https://utahcarczar.com/event/highland-glen-assisted-living-car-show/
LOCATION:Highland Glen Assisted Living\, 10322 N 4800 W\, Highland\, UT
CATEGORIES:Car Show
ATTACH;FMTTYPE=image/webp:https://utahcarczar.com/wp-content/uploads/2025/04/Highland-Glen-Senior-Living-Logo.webp
END:VEVENT
BEGIN:VEVENT
DTSTART;TZID=America/Denver:20260530T100000
DTEND;TZID=America/Denver:20260530T150000
DTSTAMP:20260421T130247
CREATED:20260405T230142Z
LAST-MODIFIED:20260405T230142Z
UID:10002079-1780135200-1780153200@utahcarczar.com
SUMMARY:Utah Truck Co Car Show
DESCRIPTION:
URL:https://utahcarczar.com/event/utah-truck-co-car-show/
LOCATION:Utah Truck Co\, 966 W State St\, Lehi\, UT\, 84043\, United States
CATEGORIES:Car Show
ATTACH;FMTTYPE=image/png:https://utahcarczar.com/wp-content/uploads/2026/04/Utah-Truck-Co-Logo.png
END:VEVENT
BEGIN:VEVENT
DTSTART;TZID=America/Denver:20260530T110000
DTEND;TZID=America/Denver:20260530T140000
DTSTAMP:20260421T130247
CREATED:20250825T155621Z
LAST-MODIFIED:20260411T235838Z
UID:10001746-1780138800-1780149600@utahcarczar.com
SUMMARY:Polyfam Mopars Meeting of the Mopars Car Show
DESCRIPTION:Register at the event. \nFood\, fun and Mopars! Join us for a Mopar only car show. Huge trophies to be awarded for 11 different categories. Registration is at 10 am and is $20 per car\, spectators are free to attend.
URL:https://utahcarczar.com/event/mopar-car-show/
LOCATION:Ken Garff West Valley\, 4175 W 3500 S\, West Valley City\, Utah\, 84120
CATEGORIES:Car Show
ATTACH;FMTTYPE=image/png:https://utahcarczar.com/wp-content/uploads/2025/08/ken-garff-chrysler-jeep-dodge-ram-west-valley-logo.png
END:VEVENT
BEGIN:VEVENT
DTSTART;TZID=America/Denver:20260530T140000
DTEND;TZID=America/Denver:20260530T190000
DTSTAMP:20260421T130247
CREATED:20250518T233729Z
LAST-MODIFIED:20260328T000649Z
UID:10001587-1780149600-1780167600@utahcarczar.com
SUMMARY:6th Annual Ride to Prevent Suicide
DESCRIPTION:Join us as we come together to honor\, remember\, and ride with purpose. Whether you’re bringing a motorcycle\, lowrider\, mini truck\, lifted truck\, classic car — or simply coming to support — this is a day you won’t want to miss.\n\nSponsors / Donors / Car Show Participants\nContact:Racheal DeVaughn RTPSsponsors@gmail.com art@legacy-logos.com 801.573.5052\n⸻\nVendor Tents / Mental Health Resources / Food Trucks\nContact:Kevin “Dirty” Muirhead Kevindmuirhead@outlook.com 435-695-8259
URL:https://utahcarczar.com/event/ride-to-prevent-suicide/
LOCATION:Karl Malone Powersports SLC\, 1379 W 3300 S\, Salt Lake City\, Utah\, 84119
CATEGORIES:Bike Show/Cruise,Car Show
ATTACH;FMTTYPE=image/webp:https://utahcarczar.com/wp-content/uploads/2025/05/Ride-to-Prevent-Suicide-logo.webp
END:VEVENT
BEGIN:VEVENT
DTSTART;TZID=America/Denver:20260530T160000
DTEND;TZID=America/Denver:20260530T190000
DTSTAMP:20260421T130247
CREATED:20250416T125623Z
LAST-MODIFIED:20260118T164329Z
UID:10000118-1780156800-1780167600@utahcarczar.com
SUMMARY:Ol Skool’s Annual Car Show
DESCRIPTION:
URL:https://utahcarczar.com/event/ol-skools-annual-car-show/
LOCATION:Ol’ Skool\, 1588 S 2000 W\, Syracuse\, Utah\, 84075
CATEGORIES:Car Show
ATTACH;FMTTYPE=image/avif:https://utahcarczar.com/wp-content/uploads/2025/03/Ol-Skool-Logo.avif
END:VEVENT
BEGIN:VEVENT
DTSTART;TZID=America/Denver:20260604T170000
DTEND;TZID=America/Denver:20260604T200000
DTSTAMP:20260421T130247
CREATED:20260411T181239Z
LAST-MODIFIED:20260411T182135Z
UID:10002087-1780592400-1780603200@utahcarczar.com
SUMMARY:Vineyard Car Show
DESCRIPTION:Stay after the show for a fun surprise. We will have a small parade of cars exiting the event. The route is still being finalized\, but it will be a highlight of the night.
URL:https://utahcarczar.com/event/vineyard-car-show/
LOCATION:Vineyard Grove Park\, 350 N 100 E\, Vineyard\, UT
CATEGORIES:Car Show
ATTACH;FMTTYPE=image/png:https://utahcarczar.com/wp-content/uploads/2025/05/2026-Car-Show-Icon.png
END:VEVENT
BEGIN:VEVENT
DTSTART;TZID=America/Denver:20260606T150000
DTEND;TZID=America/Denver:20260606T190000
DTSTAMP:20260421T130247
CREATED:20260219T023903Z
LAST-MODIFIED:20260219T023928Z
UID:10002028-1780758000-1780772400@utahcarczar.com
SUMMARY:Texas Roadhouse Cruise-In St. George
DESCRIPTION:The 1st Saturday of every month SGCS & Texas Roadhouse will be hosting a Cruise In and fundraiser to help raise money for programs that need help in Our Community. Cruise In times will be around the weather so please watch for changes thru out the year\, There will be discounts and specials on food during the cruise ins.
URL:https://utahcarczar.com/event/texas-roadhouse-cruise-in-st-george/2026-06-06/
LOCATION:Texas Roadhouse – St. George\, 2654 E Red Cliffs Dr\, St George\, Utah
CATEGORIES:Cruise Night
ATTACH;FMTTYPE=image/png:https://utahcarczar.com/wp-content/uploads/2021/08/Texas-Roadhouse-Logo.png
END:VEVENT
BEGIN:VEVENT
DTSTART;TZID=America/Denver:20260613T090000
DTEND;TZID=America/Denver:20260613T150000
DTSTAMP:20260421T130247
CREATED:20250518T163430Z
LAST-MODIFIED:20260328T002054Z
UID:10001582-1781341200-1781362800@utahcarczar.com
SUMMARY:Down & Dirty 19 presented by Unlucky Ones Car Club
DESCRIPTION:Live music\, custom awards\, raffles!!!
URL:https://utahcarczar.com/event/down-dirty-car-show/
LOCATION:Magna Copper Park\, 8975 W 2600 S\, Magna\, Utah\, 84044
CATEGORIES:Car Show
ATTACH;FMTTYPE=image/jpeg:https://utahcarczar.com/wp-content/uploads/2011/12/Unlucky-Ones-Car-Club.jpg
END:VEVENT
BEGIN:VEVENT
DTSTART;TZID=America/Denver:20260613T113000
DTEND;TZID=America/Denver:20260613T180000
DTSTAMP:20260421T130247
CREATED:20260406T035546Z
LAST-MODIFIED:20260406T035546Z
UID:10002081-1781350200-1781373600@utahcarczar.com
SUMMARY:Legends Block Party
DESCRIPTION:This isn’t just an event… this is THE one everyone will be talking about.\n\n\n WALL OF DEATH — loud\, raw\, and unreal\n HIVE CREW STUNT SHOWS — some of the best riders on the planet\n CUSTOM BIKES + CLASSICS EVERYWHERE YOU LOOK\n NEXT-LEVEL VENDORS bringing gear\, parts\, and one-of-a-kind finds\n\n\nStep inside Legends and you’re walking through real motorcycle history!
URL:https://utahcarczar.com/event/legends-block-party/
LOCATION:Legends Motorcycle Museum\, 1715 W 500 S\, Springville\, Utah
CATEGORIES:Bike Show/Cruise,Car Show
ATTACH;FMTTYPE=image/jpeg:https://utahcarczar.com/wp-content/uploads/2019/12/Legends-Motorcycles-Logo.jpg
END:VEVENT
BEGIN:VEVENT
DTSTART;TZID=America/Denver:20260613T160000
DTEND;TZID=America/Denver:20260613T190000
DTSTAMP:20260421T130247
CREATED:20260406T060742Z
LAST-MODIFIED:20260406T060742Z
UID:10002083-1781366400-1781377200@utahcarczar.com
SUMMARY:Active Re-Entry Annual Car Show
DESCRIPTION:
URL:https://utahcarczar.com/event/active-re-entry-annual-car-show/
LOCATION:Carbon County Senior Citizens Center\, 418 S Fairgrounds Way\, Price\, UT\, 84501
CATEGORIES:Car Show
ATTACH;FMTTYPE=image/png:https://utahcarczar.com/wp-content/uploads/2025/05/2026-Car-Show-Icon-2.png
END:VEVENT
BEGIN:VEVENT
DTSTART;TZID=America/Denver:20260624T130000
DTEND;TZID=America/Denver:20260624T160000
DTSTAMP:20260421T130247
CREATED:20250416T125612Z
LAST-MODIFIED:20260219T025115Z
UID:10000117-1782306000-1782316800@utahcarczar.com
SUMMARY:Roy High Latinos in Action Car Show
DESCRIPTION:
URL:https://utahcarczar.com/event/roy-high-latinos-in-action-car-show/
LOCATION:Roy High School\, 2150 W 4800 S\, Roy\, Utah
CATEGORIES:Car Show
ATTACH;FMTTYPE=image/png:https://utahcarczar.com/wp-content/uploads/2025/03/Roy-High-School-Logo.png
END:VEVENT
BEGIN:VEVENT
DTSTART;TZID=America/Denver:20260627T110000
DTEND;TZID=America/Denver:20260627T140000
DTSTAMP:20260421T130247
CREATED:20260209T052819Z
LAST-MODIFIED:20260209T052819Z
UID:10002007-1782558000-1782568800@utahcarczar.com
SUMMARY:Emergency Response Charity Car Show
DESCRIPTION:
URL:https://utahcarczar.com/event/emergency-response-charity-car-show/
LOCATION:Young Living Headquarters\, 1538 W Sandalwood Dr. Lehi\, UT 84043\, Lehi
CATEGORIES:Charity Car Show
END:VEVENT
BEGIN:VEVENT
DTSTART;TZID=America/Denver:20260627T160000
DTEND;TZID=America/Denver:20260627T200000
DTSTAMP:20260421T130247
CREATED:20250608T225321Z
LAST-MODIFIED:20260405T225722Z
UID:10001620-1782576000-1782590400@utahcarczar.com
SUMMARY:Wasatch Classic 27
DESCRIPTION:The Wasatch Classic is Utah County‘s longest running all-Volkswagen show. \nAll VWs are welcome\, from showroom quality trailer queens to daily drivers and diamonds in the rusty rough\, with or without a radiator.
URL:https://utahcarczar.com/event/wasatch-classic/
LOCATION:The Shops at Riverwoods\, 4801 N University Ave\, Provo
CATEGORIES:Car Show
ATTACH;FMTTYPE=image/png:https://utahcarczar.com/wp-content/uploads/2026/03/Logo-Default-1.png
END:VEVENT
BEGIN:VEVENT
DTSTART;TZID=America/Denver:20260628T120000
DTEND;TZID=America/Denver:20260628T170000
DTSTAMP:20260421T130247
CREATED:20250419T184540Z
LAST-MODIFIED:20260407T045019Z
UID:10001466-1782648000-1782666000@utahcarczar.com
SUMMARY:AMC Awareness Car and Bike Show
DESCRIPTION:Join us for the AMC AWARENESS Car & Bike Show! Where chrome shines\, engines roar\, and hearts come together for something bigger than all of us.\n Custom Lowriders Clean Trucks Custom Motorcycles Food Trucks On Site Full Bar with Adult Beverages\nAnd the best part? FREE ENTRY & FAMILY FRIENDLY!  \nBring the kids. Bring your friends. Bring your whole crew. This is more than just a show\, it’s a movement!\nWe’re raising awareness for AMC (Arthrogryposis Multiplex Congenita) a rare disability our son was born with. This event is about spreading knowledge\, building community\, and showing that no family fights alone.
URL:https://utahcarczar.com/event/amc-awareness-ride/
LOCATION:American Legion Post 112\, 320 E 3900 S\, Salt Lake City\, Utah
CATEGORIES:Bike Show/Cruise
ATTACH;FMTTYPE=image/jpeg:https://utahcarczar.com/wp-content/uploads/2020/05/American-Legion-Post-112-Utah.jpg
END:VEVENT
BEGIN:VEVENT
DTSTART;TZID=America/Denver:20260711T150000
DTEND;TZID=America/Denver:20260711T190000
DTSTAMP:20260421T130247
CREATED:20260219T023903Z
LAST-MODIFIED:20260219T023928Z
UID:10002029-1783782000-1783796400@utahcarczar.com
SUMMARY:Texas Roadhouse Cruise-In St. George
DESCRIPTION:The 1st Saturday of every month SGCS & Texas Roadhouse will be hosting a Cruise In and fundraiser to help raise money for programs that need help in Our Community. Cruise In times will be around the weather so please watch for changes thru out the year\, There will be discounts and specials on food during the cruise ins.
URL:https://utahcarczar.com/event/texas-roadhouse-cruise-in-st-george/2026-07-11/
LOCATION:Texas Roadhouse – St. George\, 2654 E Red Cliffs Dr\, St George\, Utah
CATEGORIES:Cruise Night
ATTACH;FMTTYPE=image/png:https://utahcarczar.com/wp-content/uploads/2021/08/Texas-Roadhouse-Logo.png
END:VEVENT
BEGIN:VEVENT
DTSTART;TZID=America/Denver:20260801T150000
DTEND;TZID=America/Denver:20260801T190000
DTSTAMP:20260421T130247
CREATED:20260219T023903Z
LAST-MODIFIED:20260219T023928Z
UID:10002030-1785596400-1785610800@utahcarczar.com
SUMMARY:Texas Roadhouse Cruise-In St. George
DESCRIPTION:The 1st Saturday of every month SGCS & Texas Roadhouse will be hosting a Cruise In and fundraiser to help raise money for programs that need help in Our Community. Cruise In times will be around the weather so please watch for changes thru out the year\, There will be discounts and specials on food during the cruise ins.
URL:https://utahcarczar.com/event/texas-roadhouse-cruise-in-st-george/2026-08-01/
LOCATION:Texas Roadhouse – St. George\, 2654 E Red Cliffs Dr\, St George\, Utah
CATEGORIES:Cruise Night
ATTACH;FMTTYPE=image/png:https://utahcarczar.com/wp-content/uploads/2021/08/Texas-Roadhouse-Logo.png
END:VEVENT
BEGIN:VEVENT
DTSTART;TZID=America/Denver:20260815T160000
DTEND;TZID=America/Denver:20260815T210000
DTSTAMP:20260421T130247
CREATED:20260302T053402Z
LAST-MODIFIED:20260327T235606Z
UID:10002063-1786809600-1786827600@utahcarczar.com
SUMMARY:Celestial Zoo Pet Rescue Car & Bike Show
DESCRIPTION:This is a non-profit FUN-draiser for Celestial Zoo Pet Rescue. Please bring a bag or cans of cat food\, litter or cat toys for car entry. \nThere will be outdoor seating with a live band – Jana and the Rebels (classic rock)\, vendors\, awards\, Raffles and food.
URL:https://utahcarczar.com/event/celestial-zoo-pet-rescue-car-bike-show-fundraiser/
LOCATION:Village Inn\, 5941 S State St\, Murray
CATEGORIES:Charity Car Show
ATTACH;FMTTYPE=image/gif:https://utahcarczar.com/wp-content/uploads/2020/05/village-inn-restaurant.gif
END:VEVENT
BEGIN:VEVENT
DTSTART;TZID=America/Denver:20260822T100000
DTEND;TZID=America/Denver:20260822T160000
DTSTAMP:20260421T130247
CREATED:20260411T234206Z
LAST-MODIFIED:20260411T234206Z
UID:10002093-1787392800-1787414400@utahcarczar.com
SUMMARY:Driven To Stay Car Show
DESCRIPTION:We welcome any and all who want to support and show up for our amazing cause!
URL:https://utahcarczar.com/event/driven-to-stay-car-show/
LOCATION:Crescent View Middle School\, 11150 South 300 East\, Sandy
CATEGORIES:Car Show
ATTACH;FMTTYPE=image/png:https://utahcarczar.com/wp-content/uploads/2026/04/852A81FA-88E1-46F4-9AB6-C5E14DFF3BBA.png
END:VEVENT
BEGIN:VEVENT
DTSTART;TZID=America/Denver:20260829T110000
DTEND;TZID=America/Denver:20260829T160000
DTSTAMP:20260421T130247
CREATED:20260407T035030Z
LAST-MODIFIED:20260407T035030Z
UID:10002084-1788001200-1788019200@utahcarczar.com
SUMMARY:Viejitos Annual Car Show
DESCRIPTION:
URL:https://utahcarczar.com/event/viejitos-annual-car-show/
LOCATION:Union Station\, 2501 Wall Ave\, Ogden\, UT\, 84401
CATEGORIES:Car Show
ATTACH;FMTTYPE=image/png:https://utahcarczar.com/wp-content/uploads/2025/05/2026-Car-Show-Icon-2.png
END:VEVENT
BEGIN:VEVENT
DTSTART;TZID=America/Denver:20260905T150000
DTEND;TZID=America/Denver:20260905T190000
DTSTAMP:20260421T130247
CREATED:20260219T023903Z
LAST-MODIFIED:20260219T023928Z
UID:10002031-1788620400-1788634800@utahcarczar.com
SUMMARY:Texas Roadhouse Cruise-In St. George
DESCRIPTION:The 1st Saturday of every month SGCS & Texas Roadhouse will be hosting a Cruise In and fundraiser to help raise money for programs that need help in Our Community. Cruise In times will be around the weather so please watch for changes thru out the year\, There will be discounts and specials on food during the cruise ins.
URL:https://utahcarczar.com/event/texas-roadhouse-cruise-in-st-george/2026-09-05/
LOCATION:Texas Roadhouse – St. George\, 2654 E Red Cliffs Dr\, St George\, Utah
CATEGORIES:Cruise Night
ATTACH;FMTTYPE=image/png:https://utahcarczar.com/wp-content/uploads/2021/08/Texas-Roadhouse-Logo.png
END:VEVENT
END:VCALENDAR