BEGIN:VCALENDAR
VERSION:2.0
PRODID:-//Utah Car Czar - ECPv6.15.18//NONSGML v1.0//EN
CALSCALE:GREGORIAN
METHOD:PUBLISH
X-ORIGINAL-URL:https://utahcarczar.com
X-WR-CALDESC:Events for Utah Car Czar
REFRESH-INTERVAL;VALUE=DURATION:PT1H
X-Robots-Tag:noindex
X-PUBLISHED-TTL:PT1H
BEGIN:VTIMEZONE
TZID:America/Denver
BEGIN:DAYLIGHT
TZOFFSETFROM:-0700
TZOFFSETTO:-0600
TZNAME:MDT
DTSTART:20240310T090000
END:DAYLIGHT
BEGIN:STANDARD
TZOFFSETFROM:-0600
TZOFFSETTO:-0700
TZNAME:MST
DTSTART:20241103T080000
END:STANDARD
BEGIN:DAYLIGHT
TZOFFSETFROM:-0700
TZOFFSETTO:-0600
TZNAME:MDT
DTSTART:20250309T090000
END:DAYLIGHT
BEGIN:STANDARD
TZOFFSETFROM:-0600
TZOFFSETTO:-0700
TZNAME:MST
DTSTART:20251102T080000
END:STANDARD
BEGIN:DAYLIGHT
TZOFFSETFROM:-0700
TZOFFSETTO:-0600
TZNAME:MDT
DTSTART:20260308T090000
END:DAYLIGHT
BEGIN:STANDARD
TZOFFSETFROM:-0600
TZOFFSETTO:-0700
TZNAME:MST
DTSTART:20261101T080000
END:STANDARD
END:VTIMEZONE
BEGIN:VEVENT
DTSTART;TZID=America/Denver:20250524T110000
DTEND;TZID=America/Denver:20250524T150000
DTSTAMP:20260422T044918
CREATED:20250416T125604Z
LAST-MODIFIED:20250419T201313Z
UID:10000116-1748084400-1748098800@utahcarczar.com
SUMMARY:Scandinavian Festival Car Show
DESCRIPTION:
URL:https://utahcarczar.com/event/scandinavian-festival-car-show/
LOCATION:Ephraim Center Street\, 100 E Center St\, Ephraim\, Utah\, 84627
CATEGORIES:Car Show
ATTACH;FMTTYPE=image/png:https://utahcarczar.com/wp-content/uploads/2025/04/Scandinavian-Festival-logo.png
END:VEVENT
BEGIN:VEVENT
DTSTART;TZID=America/Denver:20250523T160000
DTEND;TZID=America/Denver:20250523T190000
DTSTAMP:20260422T044918
CREATED:20250419T213940Z
LAST-MODIFIED:20250419T213940Z
UID:10001468-1748016000-1748026800@utahcarczar.com
SUMMARY:Woody's Drive-In Cruise Night
DESCRIPTION:
URL:https://utahcarczar.com/event/woodys-drive-in-cruise-night/2025-05-23/
LOCATION:Woody’s Drive-In\, 6172 S 1300 E\, Murray\, Utah
CATEGORIES:Cruise Night
ATTACH;FMTTYPE=image/webp:https://utahcarczar.com/wp-content/uploads/2025/04/Woodys-Drive-In-Logo.webp
END:VEVENT
BEGIN:VEVENT
DTSTART;TZID=America/Denver:20250522T190000
DTEND;TZID=America/Denver:20250522T210000
DTSTAMP:20260422T044918
CREATED:20250408T050851Z
LAST-MODIFIED:20250408T051933Z
UID:10000273-1747940400-1747947600@utahcarczar.com
SUMMARY:Cars & Curry West Valley
DESCRIPTION:
URL:https://utahcarczar.com/event/cars-curry-west-valley/2025-05-22/
LOCATION:Curry Pizza – West Valley\, 2927 S 5600 W\, West Valley\, Utah\, 84120
CATEGORIES:Cars & Curry
ATTACH;FMTTYPE=image/png:https://utahcarczar.com/wp-content/uploads/2025/04/Curry-Pizza-West-Valley-Logo.png
END:VEVENT
BEGIN:VEVENT
DTSTART;TZID=America/Denver:20250522T180000
DTEND;TZID=America/Denver:20250522T210000
DTSTAMP:20260422T044918
CREATED:20250416T132515Z
LAST-MODIFIED:20250507T050231Z
UID:10001522-1747936800-1747947600@utahcarczar.com
SUMMARY:Firehouse Pizza Cruise Night
DESCRIPTION:
URL:https://utahcarczar.com/event/firehouse-pizza-cruise-night/2025-05-22/
LOCATION:Firehouse Pizza\, 646 S Main St\, Brigham City\, Utah\, 84302
CATEGORIES:Cruise Night
ATTACH;FMTTYPE=image/png:https://utahcarczar.com/wp-content/uploads/2022/03/Firehouse-Pizzeria-Logo.png
END:VEVENT
BEGIN:VEVENT
DTSTART;TZID=America/Denver:20250522T180000
DTEND;TZID=America/Denver:20250522T210000
DTSTAMP:20260422T044918
CREATED:20250414T043425Z
LAST-MODIFIED:20250419T190010Z
UID:10000303-1747936800-1747947600@utahcarczar.com
SUMMARY:Fiiz Drinks Cruise Nights
DESCRIPTION:
URL:https://utahcarczar.com/event/fiiz-drinks-cruise-nights/2025-05-22/
LOCATION:Fiiz Drinks\, 623 N UT-198\, Salem\, Utah\, 84653
CATEGORIES:Cruise Night
ATTACH;FMTTYPE=image/jpeg:https://utahcarczar.com/wp-content/uploads/2025/04/Fiiz-Drinks-Logo.jpg
END:VEVENT
BEGIN:VEVENT
DTSTART;TZID=America/Denver:20250521T190000
DTEND;TZID=America/Denver:20250521T210000
DTSTAMP:20260422T044919
CREATED:20250418T050441Z
LAST-MODIFIED:20250418T050442Z
UID:10000212-1747854000-1747861200@utahcarczar.com
SUMMARY:Cars & Curry Lehi
DESCRIPTION:
URL:https://utahcarczar.com/event/cars-curry-lehi-2/2025-05-21/
LOCATION:Curry Pizza\, 2450 Executive Pkwy #150\, Lehi\, Utah
CATEGORIES:Cars & Curry
ATTACH;FMTTYPE=image/png:https://utahcarczar.com/wp-content/uploads/2025/04/Curry-Pizza-Lehi-Logo.png
END:VEVENT
BEGIN:VEVENT
DTSTART;TZID=America/Denver:20250517T190000
DTEND;TZID=America/Denver:20250517T210000
DTSTAMP:20260422T044919
CREATED:20250512T044640Z
LAST-MODIFIED:20250512T045935Z
UID:10001556-1747508400-1747515600@utahcarczar.com
SUMMARY:Curated Collective Car Meet
DESCRIPTION:
URL:https://utahcarczar.com/event/curated-collective-car-meet/
LOCATION:Flatout Sim Racing\, 1388 S 300 W STE 100\, Salt Lake City\, Utah\, 84115
CATEGORIES:Car Show
ATTACH;FMTTYPE=image/png:https://utahcarczar.com/wp-content/uploads/2025/03/Utah-Car-Show-Icon-2.png
END:VEVENT
BEGIN:VEVENT
DTSTART;TZID=America/Denver:20250517T170000
DTEND;TZID=America/Denver:20250517T190000
DTSTAMP:20260422T044919
CREATED:20250512T003019Z
LAST-MODIFIED:20250512T003019Z
UID:10001555-1747501200-1747508400@utahcarczar.com
SUMMARY:Vernal Car Meet
DESCRIPTION:
URL:https://utahcarczar.com/event/vernal-car-meet/
LOCATION:Anarchy Offroad Utah\, 2359 S 1500 E\, East Naples\, Utah\, 84078
CATEGORIES:Car Show
ATTACH;FMTTYPE=image/png:https://utahcarczar.com/wp-content/uploads/2025/03/Utah-Car-Show-Icon-1.png
END:VEVENT
BEGIN:VEVENT
DTSTART;TZID=America/Denver:20250517T150000
DTEND;TZID=America/Denver:20250517T193000
DTSTAMP:20260422T044919
CREATED:20250512T050359Z
LAST-MODIFIED:20250512T050359Z
UID:10001560-1747494000-1747510200@utahcarczar.com
SUMMARY:Scrapefest MMXXV
DESCRIPTION:
URL:https://utahcarczar.com/event/scrapefest-mmxxv/
LOCATION:Mountain America Expo Center\, 9575 South State Street\, Sandy\, Utah
CATEGORIES:Car Show
ATTACH;FMTTYPE=image/jpeg:https://utahcarczar.com/wp-content/uploads/2022/02/Scrapefest-Logo.jpg
END:VEVENT
BEGIN:VEVENT
DTSTART;TZID=America/Denver:20250517T100000
DTEND;TZID=America/Denver:20250517T160000
DTSTAMP:20260422T044919
CREATED:20250416T125619Z
LAST-MODIFIED:20250419T191623Z
UID:10000106-1747476000-1747497600@utahcarczar.com
SUMMARY:Ride the Brainwave Car Show
DESCRIPTION:
URL:https://utahcarczar.com/event/ride-the-brainwave-car-show/
LOCATION:Sandy City Promenade\, 173 Sego Lily Dr\, Sandy\, Utah
CATEGORIES:Charity Car Show
ATTACH;FMTTYPE=image/jpeg:https://utahcarczar.com/wp-content/uploads/2022/02/Ride-the-Brainwave-Logo.jpg
END:VEVENT
BEGIN:VEVENT
DTSTART;TZID=America/Denver:20250517T100000
DTEND;TZID=America/Denver:20250517T130000
DTSTAMP:20260422T044919
CREATED:20250427T232139Z
LAST-MODIFIED:20250427T232139Z
UID:10001493-1747476000-1747486800@utahcarczar.com
SUMMARY:Motors and Music
DESCRIPTION:All proceeds go to the Cedar Valley High School bands program.
URL:https://utahcarczar.com/event/motors-and-music/
LOCATION:Cedar Valley High School\, 1389 Aviator Ave\, Eagle Mountain\, Utah
CATEGORIES:Car Show
ATTACH;FMTTYPE=image/png:https://utahcarczar.com/wp-content/uploads/2024/02/Cedar_Valley_High_School_logo.png
END:VEVENT
BEGIN:VEVENT
DTSTART;TZID=America/Denver:20250517T100000
DTEND;TZID=America/Denver:20250517T130000
DTSTAMP:20260422T044919
CREATED:20250425T052935Z
LAST-MODIFIED:20250425T052935Z
UID:10001489-1747476000-1747486800@utahcarczar.com
SUMMARY:Classic Garage of Southern Utah Car Show
DESCRIPTION:
URL:https://utahcarczar.com/event/classic-garage-of-southern-utah-car-show/
LOCATION:Liberty Cafe\, 1664 S Dixie Dr\, St. George\, Utah\, 84770
CATEGORIES:Car Show
ATTACH;FMTTYPE=image/png:https://utahcarczar.com/wp-content/uploads/2025/04/Liberty-Cafe-Logo.png
END:VEVENT
BEGIN:VEVENT
DTSTART;TZID=America/Denver:20250517T090000
DTEND;TZID=America/Denver:20250517T130000
DTSTAMP:20260422T044919
CREATED:20250327T035435Z
LAST-MODIFIED:20250419T191023Z
UID:10000102-1747472400-1747486800@utahcarczar.com
SUMMARY:Bikers Against Child Abuse Car & Bike Show
DESCRIPTION:
URL:https://utahcarczar.com/event/bikers-against-child-abuse-car-bike-show/
LOCATION:Summit Harley-Davidson\, 555 S Geneva Road\, Lindon\, Utah
CATEGORIES:Car Show
ATTACH;FMTTYPE=image/png:https://utahcarczar.com/wp-content/uploads/2021/07/Bikers-Against-Child-Abuse-logo.png
END:VEVENT
BEGIN:VEVENT
DTSTART;TZID=America/Denver:20250516T180000
DTEND;TZID=America/Denver:20250516T210000
DTSTAMP:20260422T044919
CREATED:20250518T162320Z
LAST-MODIFIED:20250518T162320Z
UID:10001578-1747418400-1747429200@utahcarczar.com
SUMMARY:Hypercar Social
DESCRIPTION:Not accepting registrations. This is not a bring your car to the show. We will be displaying multiple multi million dollar cars including Koenigsegg\, Pagani\, Aston Martin Valour\, 2022 and classic Countachs\, BAC Monos and a Ferrari 250GT and multiple generations of Ford GT
URL:https://utahcarczar.com/event/hypercar-social/
LOCATION:Trolley Square\, 602 E 500 S\, Salt Lake City
CATEGORIES:Car Show
END:VEVENT
BEGIN:VEVENT
DTSTART;TZID=America/Denver:20250515T190000
DTEND;TZID=America/Denver:20250515T210000
DTSTAMP:20260422T044919
CREATED:20250408T050851Z
LAST-MODIFIED:20250408T051933Z
UID:10000272-1747335600-1747342800@utahcarczar.com
SUMMARY:Cars & Curry West Valley
DESCRIPTION:
URL:https://utahcarczar.com/event/cars-curry-west-valley/2025-05-15/
LOCATION:Curry Pizza – West Valley\, 2927 S 5600 W\, West Valley\, Utah\, 84120
CATEGORIES:Cars & Curry
ATTACH;FMTTYPE=image/png:https://utahcarczar.com/wp-content/uploads/2025/04/Curry-Pizza-West-Valley-Logo.png
END:VEVENT
BEGIN:VEVENT
DTSTART;TZID=America/Denver:20250515T180000
DTEND;TZID=America/Denver:20250515T180000
DTSTAMP:20260422T044919
CREATED:20250331T062257Z
LAST-MODIFIED:20250416T131635Z
UID:10000110-1747332000-1747332000@utahcarczar.com
SUMMARY:Phillips 66 Cruise
DESCRIPTION:Cruise to a new location every month.
URL:https://utahcarczar.com/event/phillips-66-cruise/2025-05-15/
LOCATION:Phillips 66\, 527 S 700 W\, Woods Cross\, Utah\, 84087
CATEGORIES:Cruise Night
ATTACH;FMTTYPE=image/png:https://utahcarczar.com/wp-content/uploads/2025/03/Phillips_66_logo.png
END:VEVENT
BEGIN:VEVENT
DTSTART;TZID=America/Denver:20250510T110000
DTEND;TZID=America/Denver:20250510T160000
DTSTAMP:20260422T044919
CREATED:20250414T040647Z
LAST-MODIFIED:20250419T190848Z
UID:10000300-1746874800-1746892800@utahcarczar.com
SUMMARY:Cars & Coffee Car Show
DESCRIPTION:  \nCars & Coffee runs 7 am – 11 am
URL:https://utahcarczar.com/event/cars-coffee-car-show/
LOCATION:Autozone – Price\, 1181 E Main St\, Price\, Utah\, 84501
ATTACH;FMTTYPE=image/png:https://utahcarczar.com/wp-content/uploads/2025/04/Autozone-Logo-1.png
END:VEVENT
BEGIN:VEVENT
DTSTART;TZID=America/Denver:20250510T090000
DTEND;TZID=America/Denver:20250510T170000
DTSTAMP:20260422T044919
CREATED:20250416T125628Z
LAST-MODIFIED:20250419T190736Z
UID:10000198-1746867600-1746896400@utahcarczar.com
SUMMARY:Import Spring Showoff
DESCRIPTION:
URL:https://utahcarczar.com/event/import-spring-showoff/
LOCATION:Burt Brothers Motorpark\, 512 Sheep Lane\, Grantsville\, Utah\, 84074
ATTACH;FMTTYPE=image/jpeg:https://utahcarczar.com/wp-content/uploads/2025/04/Import-Spring-Showoff-Logo.jpg
END:VEVENT
BEGIN:VEVENT
DTSTART;TZID=America/Denver:20250509T200000
DTEND;TZID=America/Denver:20250509T220000
DTSTAMP:20260422T044919
CREATED:20250318T053952Z
LAST-MODIFIED:20250318T053952Z
UID:10000092-1746820800-1746828000@utahcarczar.com
SUMMARY:Firestone Block Party
DESCRIPTION:Bring your vintage car or motorcycles\, park on the street and hang out. No agenda\, no awards\, no drama\, just cool machines\, food/drinks\, and good people. 2nd Friday of every month at the Firestone Building on 3rd & 3rd.
URL:https://utahcarczar.com/event/firestone-block-party/2025-05-09/
LOCATION:Cucina Toscana\, 282 S 300 W\, Salt Lake City\, Utah
CATEGORIES:Car Show
ATTACH;FMTTYPE=image/png:https://utahcarczar.com/wp-content/uploads/2025/03/Utah-Car-Show-Icon-1.png
END:VEVENT
BEGIN:VEVENT
DTSTART;TZID=America/Denver:20250509T190000
DTEND;TZID=America/Denver:20250509T210000
DTSTAMP:20260422T044919
CREATED:20250318T050030Z
LAST-MODIFIED:20250506T150625Z
UID:10000087-1746817200-1746824400@utahcarczar.com
SUMMARY:Cars and Shakes Riverdale
DESCRIPTION:
URL:https://utahcarczar.com/event/cars-and-shakes-riverdale/2025-05-09/
LOCATION:Dutch Bros\, 4177 Riverdale Road\, Riverdale\, Utah\, 84405
CATEGORIES:Cruise Night
ATTACH;FMTTYPE=image/png:https://utahcarczar.com/wp-content/uploads/2025/03/Dutch-Bros-Logo.png
END:VEVENT
BEGIN:VEVENT
DTSTART;TZID=America/Denver:20250509T170000
DTEND;TZID=America/Denver:20250509T210000
DTSTAMP:20260422T044919
CREATED:20250419T180255Z
LAST-MODIFIED:20250419T180255Z
UID:10001465-1746810000-1746824400@utahcarczar.com
SUMMARY:West Side World
DESCRIPTION:Hunter High Latinos in Action Car Show
URL:https://utahcarczar.com/event/west-side-world/
LOCATION:Hunter High School\, 4200 S 5600 W\, West Valley\, Utah\, 84120
CATEGORIES:Car Show
ATTACH;FMTTYPE=image/jpeg:https://utahcarczar.com/wp-content/uploads/2025/04/Hunter-High-School-Logo.jpg
END:VEVENT
BEGIN:VEVENT
DTSTART;TZID=America/Denver:20250508T190000
DTEND;TZID=America/Denver:20250508T210000
DTSTAMP:20260422T044919
CREATED:20250408T050851Z
LAST-MODIFIED:20250408T051933Z
UID:10000271-1746730800-1746738000@utahcarczar.com
SUMMARY:Cars & Curry West Valley
DESCRIPTION:
URL:https://utahcarczar.com/event/cars-curry-west-valley/2025-05-08/
LOCATION:Curry Pizza – West Valley\, 2927 S 5600 W\, West Valley\, Utah\, 84120
CATEGORIES:Cars & Curry
ATTACH;FMTTYPE=image/png:https://utahcarczar.com/wp-content/uploads/2025/04/Curry-Pizza-West-Valley-Logo.png
END:VEVENT
BEGIN:VEVENT
DTSTART;TZID=America/Denver:20250508T180000
DTEND;TZID=America/Denver:20250508T210000
DTSTAMP:20260422T044919
CREATED:20250416T132515Z
LAST-MODIFIED:20250507T050231Z
UID:10000199-1746727200-1746738000@utahcarczar.com
SUMMARY:Firehouse Pizza Cruise Night
DESCRIPTION:
URL:https://utahcarczar.com/event/firehouse-pizza-cruise-night/2025-05-08/
LOCATION:Firehouse Pizza\, 646 S Main St\, Brigham City\, Utah\, 84302
CATEGORIES:Cruise Night
ATTACH;FMTTYPE=image/png:https://utahcarczar.com/wp-content/uploads/2022/03/Firehouse-Pizzeria-Logo.png
END:VEVENT
BEGIN:VEVENT
DTSTART;TZID=America/Denver:20250508T180000
DTEND;TZID=America/Denver:20250508T210000
DTSTAMP:20260422T044919
CREATED:20250414T043425Z
LAST-MODIFIED:20250419T190010Z
UID:10000302-1746727200-1746738000@utahcarczar.com
SUMMARY:Fiiz Drinks Cruise Nights
DESCRIPTION:
URL:https://utahcarczar.com/event/fiiz-drinks-cruise-nights/2025-05-08/
LOCATION:Fiiz Drinks\, 623 N UT-198\, Salem\, Utah\, 84653
CATEGORIES:Cruise Night
ATTACH;FMTTYPE=image/jpeg:https://utahcarczar.com/wp-content/uploads/2025/04/Fiiz-Drinks-Logo.jpg
END:VEVENT
BEGIN:VEVENT
DTSTART;TZID=America/Denver:20250506T180000
DTEND;TZID=America/Denver:20250506T210000
DTSTAMP:20260422T044919
CREATED:20250408T045703Z
LAST-MODIFIED:20250408T045703Z
UID:10000200-1746554400-1746565200@utahcarczar.com
SUMMARY:Kirt's Drive-In Cruise Night
DESCRIPTION:
URL:https://utahcarczar.com/event/kirts-drive-in-cruise-night/2025-05-06/
LOCATION:Kirt’s Drive-In\, 1974 N 400 E St\, North Ogden\, Utah\, 84414
CATEGORIES:Cruise Night
ATTACH;FMTTYPE=image/jpeg:https://utahcarczar.com/wp-content/uploads/2021/06/Kirts-Drive-In-Logo.jpg
END:VEVENT
BEGIN:VEVENT
DTSTART;TZID=America/Denver:20250504T110000
DTEND;TZID=America/Denver:20250504T150000
DTSTAMP:20260422T044919
CREATED:20250428T051710Z
LAST-MODIFIED:20250503T153944Z
UID:10001499-1746356400-1746370800@utahcarczar.com
SUMMARY:Dottie's Dames Classic Show & Shine
DESCRIPTION:Bring your classic rides\, hot rods\, customs\, and cruisers for a day of chrome\, nostalgia\, and community. Enjoy live music from The Ironport Band\, known for their high-energy\, vintage-inspired sound that sets the perfect tone for this throwback gathering.\nFree vehicle registration available day-of\, so roll up\, show out\, and shine on!
URL:https://utahcarczar.com/event/dotties-dames-classic-show-shine/
LOCATION:Iceberg Drive Inn\, 3900 S 900 E\, SLC\, Utah
CATEGORIES:Car Show
ATTACH;FMTTYPE=image/jpeg:https://utahcarczar.com/wp-content/uploads/2023/05/Dotties-Dames-Logo.jpg
END:VEVENT
BEGIN:VEVENT
DTSTART;TZID=America/Denver:20250503T150000
DTEND;TZID=America/Denver:20250503T190000
DTSTAMP:20260422T044919
CREATED:20250502T045150Z
LAST-MODIFIED:20250502T045151Z
UID:10001512-1746284400-1746298800@utahcarczar.com
SUMMARY:OMR Cinco De Mayo Car Show
DESCRIPTION:
URL:https://utahcarczar.com/event/omr-cinco-de-mayo-car-show/
LOCATION:Ogden Amphitheater\, 343 25TH STREET\, Ogden
CATEGORIES:Car Show
ATTACH;FMTTYPE=image/png:https://utahcarczar.com/wp-content/uploads/2024/07/OMR-gold-logo-.png
END:VEVENT
BEGIN:VEVENT
DTSTART;TZID=America/Denver:20250503T120000
DTEND;TZID=America/Denver:20250503T170000
DTSTAMP:20260422T044919
CREATED:20250311T221407Z
LAST-MODIFIED:20260323T182703Z
UID:10000070-1746273600-1746291600@utahcarczar.com
SUMMARY:Cinco De Mayo Kick Back
DESCRIPTION:
URL:https://utahcarczar.com/event/cinco-de-mayo-kick-back/
LOCATION:Lux Barbershop\, 1381 South Main Street\, Salt Lake City\, Utah
CATEGORIES:Car Show
ATTACH;FMTTYPE=image/jpeg:https://utahcarczar.com/wp-content/uploads/2021/07/Lux-Barber-Lounge.jpg
END:VEVENT
BEGIN:VEVENT
DTSTART;TZID=America/Denver:20250503T100000
DTEND;TZID=America/Denver:20250503T100000
DTSTAMP:20260422T044919
CREATED:20250428T045532Z
LAST-MODIFIED:20250428T050804Z
UID:10001498-1746266400-1746266400@utahcarczar.com
SUMMARY:Cinco de Mayo Car Show Wendover
DESCRIPTION:
URL:https://utahcarczar.com/event/cinco-de-mayo-car-show-wendover/
LOCATION:Red Garter Casino\, 1225 Wendover Blvd\, West Wendover\, Nevada\, 89883
CATEGORIES:Car Show
ATTACH;FMTTYPE=image/png:https://utahcarczar.com/wp-content/uploads/2025/03/Red-Garter-Casino-and-Hotel-Wendover-Logo.png
END:VEVENT
BEGIN:VEVENT
DTSTART;TZID=America/Denver:20250503T090000
DTEND;TZID=America/Denver:20250503T140000
DTSTAMP:20260422T044919
CREATED:20250416T125259Z
LAST-MODIFIED:20250418T051749Z
UID:10000197-1746262800-1746280800@utahcarczar.com
SUMMARY:Primary Children's Hospital Fundraiser Car Show
DESCRIPTION:
URL:https://utahcarczar.com/event/primary-childrens-hospital-fundraiser-car-show/
LOCATION:Smith’s – SLC\, 1174 W 600 N\, Salt Lake City\, 84116
CATEGORIES:Car Show
ATTACH;FMTTYPE=image/jpeg:https://utahcarczar.com/wp-content/uploads/2020/05/Smiths-Marketplace-Logo.jpg
END:VEVENT
END:VCALENDAR