BEGIN:VCALENDAR
VERSION:2.0
PRODID:-//Utah Car Czar - ECPv6.15.18//NONSGML v1.0//EN
CALSCALE:GREGORIAN
METHOD:PUBLISH
X-WR-CALNAME:Utah Car Czar
X-ORIGINAL-URL:https://utahcarczar.com
X-WR-CALDESC:Events for Utah Car Czar
REFRESH-INTERVAL;VALUE=DURATION:PT1H
X-Robots-Tag:noindex
X-PUBLISHED-TTL:PT1H
BEGIN:VTIMEZONE
TZID:America/Denver
BEGIN:DAYLIGHT
TZOFFSETFROM:-0700
TZOFFSETTO:-0600
TZNAME:MDT
DTSTART:20240310T090000
END:DAYLIGHT
BEGIN:STANDARD
TZOFFSETFROM:-0600
TZOFFSETTO:-0700
TZNAME:MST
DTSTART:20241103T080000
END:STANDARD
BEGIN:DAYLIGHT
TZOFFSETFROM:-0700
TZOFFSETTO:-0600
TZNAME:MDT
DTSTART:20250309T090000
END:DAYLIGHT
BEGIN:STANDARD
TZOFFSETFROM:-0600
TZOFFSETTO:-0700
TZNAME:MST
DTSTART:20251102T080000
END:STANDARD
BEGIN:DAYLIGHT
TZOFFSETFROM:-0700
TZOFFSETTO:-0600
TZNAME:MDT
DTSTART:20260308T090000
END:DAYLIGHT
BEGIN:STANDARD
TZOFFSETFROM:-0600
TZOFFSETTO:-0700
TZNAME:MST
DTSTART:20261101T080000
END:STANDARD
END:VTIMEZONE
BEGIN:VEVENT
DTSTART;TZID=America/Denver:20250502T170000
DTEND;TZID=America/Denver:20250502T200000
DTSTAMP:20260422T061600
CREATED:20250429T134912Z
LAST-MODIFIED:20250429T134912Z
UID:10001500-1746205200-1746216000@utahcarczar.com
SUMMARY:R&R Tactical Classic Car Show
DESCRIPTION:
URL:https://utahcarczar.com/event/r-and-r-tactical-classic-car-show/
LOCATION:R&R Tactical\, 227 Crossroads Blvd Ste 1\, Saratoga Springs\, Utah\, 84045
CATEGORIES:Car Show
ATTACH;FMTTYPE=image/jpeg:https://utahcarczar.com/wp-content/uploads/2025/04/RR-Tactical-Logo.jpg
END:VEVENT
BEGIN:VEVENT
DTSTART;TZID=America/Denver:20250502T170000
DTEND;TZID=America/Denver:20250502T190000
DTSTAMP:20260422T061600
CREATED:20250428T044823Z
LAST-MODIFIED:20250428T044823Z
UID:10001497-1746205200-1746212400@utahcarczar.com
SUMMARY:Lakeside Car Show
DESCRIPTION:
URL:https://utahcarczar.com/event/lakeside-car-show/
LOCATION:Lakeside Elementary School\, 2941 W 800 N\, West Point\, Utah\, 84015
CATEGORIES:Charity Car Show
ATTACH;FMTTYPE=image/png:https://utahcarczar.com/wp-content/uploads/2025/03/Utah-Car-Show-Icon-1.png
END:VEVENT
BEGIN:VEVENT
DTSTART;TZID=America/Denver:20250501T190000
DTEND;TZID=America/Denver:20250501T210000
DTSTAMP:20260422T061600
CREATED:20250408T050851Z
LAST-MODIFIED:20250408T051933Z
UID:10000270-1746126000-1746133200@utahcarczar.com
SUMMARY:Cars & Curry West Valley
DESCRIPTION:
URL:https://utahcarczar.com/event/cars-curry-west-valley/2025-05-01/
LOCATION:Curry Pizza – West Valley\, 2927 S 5600 W\, West Valley\, Utah\, 84120
CATEGORIES:Cars & Curry
ATTACH;FMTTYPE=image/png:https://utahcarczar.com/wp-content/uploads/2025/04/Curry-Pizza-West-Valley-Logo.png
END:VEVENT
BEGIN:VEVENT
DTSTART;TZID=America/Denver:20250429T180000
DTEND;TZID=America/Denver:20250429T200000
DTSTAMP:20260422T061600
CREATED:20250425T051716Z
LAST-MODIFIED:20250425T051716Z
UID:10001487-1745949600-1745956800@utahcarczar.com
SUMMARY:Sugarhouse Park Show and Cruise
DESCRIPTION:Free show/cruise. No judging\, no trophies and no drama. Come and relive the 1970s with your cool cars\, trucks\, bikes\, family and memories. Bring a picnic and bring friends!\nEveryone welcome! Free of charge!
URL:https://utahcarczar.com/event/sugarhouse-park-show-and-cruise/
LOCATION:Sugarhouse Park\, 1330 East 2100 South\, Salt Lake City\, UT
CATEGORIES:Cruise Night
ATTACH;FMTTYPE=image/jpeg:https://utahcarczar.com/wp-content/uploads/2025/04/Screenshot_20250423-114609_Facebook.jpg
END:VEVENT
BEGIN:VEVENT
DTSTART;TZID=America/Denver:20250428T180000
DTEND;TZID=America/Denver:20250428T200000
DTSTAMP:20260422T061600
CREATED:20250313T160535Z
LAST-MODIFIED:20250419T180640Z
UID:10000081-1745863200-1745870400@utahcarczar.com
SUMMARY:Cruise in and Car Show
DESCRIPTION:Free soft serve ice cream for car owners.
URL:https://utahcarczar.com/event/cruise-in-and-car-show-second-east/
LOCATION:Second East\, 686 Canyon Ranch Dr\, Cedar City\, Utah
CATEGORIES:Cruise Night
ATTACH;FMTTYPE=image/png:https://utahcarczar.com/wp-content/uploads/2025/03/Second-East-Logo.png
END:VEVENT
BEGIN:VEVENT
DTSTART;TZID=America/Denver:20250427T110000
DTEND;TZID=America/Denver:20250427T180000
DTSTAMP:20260422T061600
CREATED:20250425T050846Z
LAST-MODIFIED:20250425T050846Z
UID:10001484-1745751600-1745776800@utahcarczar.com
SUMMARY:Cars and Cookies
DESCRIPTION:
URL:https://utahcarczar.com/event/cars-and-cookies/
LOCATION:Jensen Park\, 3176 S Bluff Rd\, Syracuse
CATEGORIES:Charity Car Show
END:VEVENT
BEGIN:VEVENT
DTSTART;TZID=America/Denver:20250426T170000
DTEND;TZID=America/Denver:20250426T200000
DTSTAMP:20260422T061600
CREATED:20250410T050315Z
LAST-MODIFIED:20250416T132232Z
UID:10000297-1745686800-1745697600@utahcarczar.com
SUMMARY:Autozone Meet & Greet
DESCRIPTION:
URL:https://utahcarczar.com/event/autozone-meet-greet/
LOCATION:Autozone – Tremonton\, 420 W Main St\, Tremonton\, Utah
CATEGORIES:Car Show
ATTACH;FMTTYPE=image/png:https://utahcarczar.com/wp-content/uploads/2025/04/Autozone-Logo-1.png
END:VEVENT
BEGIN:VEVENT
DTSTART;TZID=America/Denver:20250426T110000
DTEND;TZID=America/Denver:20250426T130000
DTSTAMP:20260422T061600
CREATED:20250423T143416Z
LAST-MODIFIED:20250423T143417Z
UID:10000318-1745665200-1745672400@utahcarczar.com
SUMMARY:Cars & Curry Saturdays
DESCRIPTION:Saturday events run through the end of May
URL:https://utahcarczar.com/event/cars-curry-saturdays-2/
LOCATION:Curry Pizza\, 2450 Executive Pkwy #150\, Lehi\, Utah
CATEGORIES:Cars & Curry
ATTACH;FMTTYPE=image/png:https://utahcarczar.com/wp-content/uploads/2025/04/Curry-Pizza-Lehi-Logo.png
END:VEVENT
BEGIN:VEVENT
DTSTART;TZID=America/Denver:20250426T100000
DTEND;TZID=America/Denver:20250426T130000
DTSTAMP:20260422T061600
CREATED:20250410T052038Z
LAST-MODIFIED:20250901T233257Z
UID:10000299-1745661600-1745672400@utahcarczar.com
SUMMARY:Clearfield High Latinos In Action – Car and Bike Show
DESCRIPTION:
URL:https://utahcarczar.com/event/clearfield-high-latinos-in-action-car-and-bike-show/
LOCATION:Clearfield High School\, 931 S 1000 E\, Clearfield\, Utah
CATEGORIES:Car Show
ATTACH;FMTTYPE=image/jpeg:https://utahcarczar.com/wp-content/uploads/2024/03/Clearfield-High-School-Falcons-Logo.jpg
END:VEVENT
BEGIN:VEVENT
DTSTART;TZID=America/Denver:20250426T090000
DTEND;TZID=America/Denver:20250426T120000
DTSTAMP:20260422T061600
CREATED:20250425T052501Z
LAST-MODIFIED:20250425T052501Z
UID:10001488-1745658000-1745668800@utahcarczar.com
SUMMARY:Spring Carnival and Car Show
DESCRIPTION:
URL:https://utahcarczar.com/event/spring-carnival-and-car-show/
LOCATION:Taylorsville High School\, 5225 S Redwood Rd\, Taylorsville\, Utah\, 84123
CATEGORIES:Car Show
ATTACH;FMTTYPE=image/png:https://utahcarczar.com/wp-content/uploads/2025/04/taylorsville-high.png
END:VEVENT
BEGIN:VEVENT
DTSTART;TZID=America/Denver:20250425T160000
DTEND;TZID=America/Denver:20250425T190000
DTSTAMP:20260422T061600
CREATED:20250419T213940Z
LAST-MODIFIED:20250419T213940Z
UID:10001467-1745596800-1745607600@utahcarczar.com
SUMMARY:Woody's Drive-In Cruise Night
DESCRIPTION:
URL:https://utahcarczar.com/event/woodys-drive-in-cruise-night/2025-04-25/
LOCATION:Woody’s Drive-In\, 6172 S 1300 E\, Murray\, Utah
CATEGORIES:Cruise Night
ATTACH;FMTTYPE=image/webp:https://utahcarczar.com/wp-content/uploads/2025/04/Woodys-Drive-In-Logo.webp
END:VEVENT
BEGIN:VEVENT
DTSTART;TZID=America/Denver:20250424T190000
DTEND;TZID=America/Denver:20250424T210000
DTSTAMP:20260422T061600
CREATED:20250408T050851Z
LAST-MODIFIED:20250408T051933Z
UID:10000269-1745521200-1745528400@utahcarczar.com
SUMMARY:Cars & Curry West Valley
DESCRIPTION:
URL:https://utahcarczar.com/event/cars-curry-west-valley/2025-04-24/
LOCATION:Curry Pizza – West Valley\, 2927 S 5600 W\, West Valley\, Utah\, 84120
CATEGORIES:Cars & Curry
ATTACH;FMTTYPE=image/png:https://utahcarczar.com/wp-content/uploads/2025/04/Curry-Pizza-West-Valley-Logo.png
END:VEVENT
BEGIN:VEVENT
DTSTART;TZID=America/Denver:20250424T180000
DTEND;TZID=America/Denver:20250424T210000
DTSTAMP:20260422T061600
CREATED:20250414T043425Z
LAST-MODIFIED:20250419T190010Z
UID:10000301-1745517600-1745528400@utahcarczar.com
SUMMARY:Fiiz Drinks Cruise Nights
DESCRIPTION:
URL:https://utahcarczar.com/event/fiiz-drinks-cruise-nights/2025-04-24/
LOCATION:Fiiz Drinks\, 623 N UT-198\, Salem\, Utah\, 84653
CATEGORIES:Cruise Night
ATTACH;FMTTYPE=image/jpeg:https://utahcarczar.com/wp-content/uploads/2025/04/Fiiz-Drinks-Logo.jpg
END:VEVENT
BEGIN:VEVENT
DTSTART;TZID=America/Denver:20250422T015900
DTEND;TZID=America/Denver:20250422T164500
DTSTAMP:20260422T061600
CREATED:20250422T072218Z
LAST-MODIFIED:20250422T072658Z
UID:10001477-1745287140-1745340300@utahcarczar.com
SUMMARY:Tarik Salas
DESCRIPTION:Consectetur aliquip
URL:https://utahcarczar.com/event/tarik-salas/
CATEGORIES:International Auto Expo
END:VEVENT
BEGIN:VEVENT
DTSTART;TZID=America/Denver:20250421T200000
DTEND;TZID=America/Denver:20250421T220000
DTSTAMP:20260422T061600
CREATED:20250421T044553Z
LAST-MODIFIED:20250421T044619Z
UID:10001476-1745265600-1745272800@utahcarczar.com
SUMMARY:Cars & Efihas
DESCRIPTION:
URL:https://utahcarczar.com/event/cars-efihas/
LOCATION:Round Bites\, 1409 N State St\, Orem\, Utah\, 84057
CATEGORIES:Car Show
ATTACH;FMTTYPE=image/webp:https://utahcarczar.com/wp-content/uploads/2025/04/round-bites-logo.webp
END:VEVENT
BEGIN:VEVENT
DTSTART;TZID=America/Denver:20250419T090000
DTEND;TZID=America/Denver:20250419T120000
DTSTAMP:20260422T061600
CREATED:20250323T170939Z
LAST-MODIFIED:20250416T132514Z
UID:10000098-1745053200-1745064000@utahcarczar.com
SUMMARY:VW Swap Meet & Show n' Shine
DESCRIPTION:Let’s get the VW season started in style! VW swap meet and show & shine! Shine up your cars and bring your wares to sell and trade!
URL:https://utahcarczar.com/event/vw-swap-meet-show-n-shine/
LOCATION:Red-E Motorsports\, 2125 W 2300 S\, West Valley City\, Utah
CATEGORIES:Car Show
ATTACH;FMTTYPE=image/jpeg:https://utahcarczar.com/wp-content/uploads/2023/06/Utah-VW-Transporter-Association.jpeg
END:VEVENT
BEGIN:VEVENT
DTSTART;TZID=America/Denver:20250417T190000
DTEND;TZID=America/Denver:20250417T210000
DTSTAMP:20260422T061600
CREATED:20250408T050851Z
LAST-MODIFIED:20250408T051933Z
UID:10000268-1744916400-1744923600@utahcarczar.com
SUMMARY:Cars & Curry West Valley
DESCRIPTION:
URL:https://utahcarczar.com/event/cars-curry-west-valley/2025-04-17/
LOCATION:Curry Pizza – West Valley\, 2927 S 5600 W\, West Valley\, Utah\, 84120
CATEGORIES:Cars & Curry
ATTACH;FMTTYPE=image/png:https://utahcarczar.com/wp-content/uploads/2025/04/Curry-Pizza-West-Valley-Logo.png
END:VEVENT
BEGIN:VEVENT
DTSTART;TZID=America/Denver:20250417T180000
DTEND;TZID=America/Denver:20250417T180000
DTSTAMP:20260422T061600
CREATED:20250331T062432Z
LAST-MODIFIED:20250416T132555Z
UID:10000109-1744912800-1744912800@utahcarczar.com
SUMMARY:Phillips 66 Cruise
DESCRIPTION:Cruise to a new location every month.
URL:https://utahcarczar.com/event/phillips-66-cruise-2/
LOCATION:Phillips 66\, 527 S 700 W\, Woods Cross\, Utah\, 84087
CATEGORIES:Cruise Night
ATTACH;FMTTYPE=image/png:https://utahcarczar.com/wp-content/uploads/2025/03/Phillips_66_logo.png
END:VEVENT
BEGIN:VEVENT
DTSTART;TZID=America/Denver:20250417T170000
DTEND;TZID=America/Denver:20250417T193000
DTSTAMP:20260422T061600
CREATED:20250415T050949Z
LAST-MODIFIED:20250416T132622Z
UID:10000326-1744909200-1744918200@utahcarczar.com
SUMMARY:Spring Gardens Show-n-Shine
DESCRIPTION:
URL:https://utahcarczar.com/event/spring-gardens-show-n-shine/
LOCATION:Spring Gardens Assisted Living\, 2654 Red Cliffs Dr\, St. George\, Utah
CATEGORIES:Car Show
ATTACH;FMTTYPE=image/png:https://utahcarczar.com/wp-content/uploads/2025/03/Utah-Car-Show-Icon-1.png
END:VEVENT
BEGIN:VEVENT
DTSTART;TZID=America/Denver:20250416T190000
DTEND;TZID=America/Denver:20250416T210000
DTSTAMP:20260422T061600
CREATED:20250408T050105Z
LAST-MODIFIED:20250418T050408Z
UID:10000207-1744830000-1744837200@utahcarczar.com
SUMMARY:Cars & Curry Lehi
DESCRIPTION:
URL:https://utahcarczar.com/event/cars-curry-lehi/2025-04-16/
LOCATION:Curry Pizza\, 2450 Executive Pkwy #150\, Lehi\, Utah
CATEGORIES:Cars & Curry
ATTACH;FMTTYPE=image/png:https://utahcarczar.com/wp-content/uploads/2025/04/Curry-Pizza-Lehi-Logo.png
END:VEVENT
BEGIN:VEVENT
DTSTART;TZID=America/Denver:20250412T180000
DTEND;TZID=America/Denver:20250412T200000
DTSTAMP:20260422T061600
CREATED:20250406T041042Z
LAST-MODIFIED:20250416T132637Z
UID:10000141-1744480800-1744488000@utahcarczar.com
SUMMARY:Legends Motorcycles Bike Night
DESCRIPTION:Tickets will be sold for $20.00 (including food and soda) in person at The Sidecar Cafe—Springville from 530 to 6:00 p.m. There are 100 tickets\, which can be purchased at the Sidecar Cafe on the event day.\nFree tours at 7 p.m.
URL:https://utahcarczar.com/event/legends-motorcycles-bike-night/
LOCATION:Legends Motorcycle Museum\, 1715 W 500 S\, Springville\, Utah
CATEGORIES:Bike Show/Cruise
ATTACH;FMTTYPE=image/jpeg:https://utahcarczar.com/wp-content/uploads/2019/12/Legends-Motorcycles-Logo.jpg
END:VEVENT
BEGIN:VEVENT
DTSTART;TZID=America/Denver:20250412T100000
DTEND;TZID=America/Denver:20250412T130000
DTSTAMP:20260422T061600
CREATED:20250405T045252Z
LAST-MODIFIED:20250416T132636Z
UID:10000132-1744452000-1744462800@utahcarczar.com
SUMMARY:Car Show & Family Fun Night
DESCRIPTION:Contact Carrie with any questions 435-850-9245
URL:https://utahcarczar.com/event/car-show-family-fun-night/
LOCATION:Denny’s – Tooele\, 925 North Main Street\, Tooele\, Utah
CATEGORIES:Car Show
ATTACH;FMTTYPE=image/jpeg:https://utahcarczar.com/wp-content/uploads/2020/05/Dennys-Logo.jpg
END:VEVENT
BEGIN:VEVENT
DTSTART;TZID=America/Denver:20250411T200000
DTEND;TZID=America/Denver:20250411T220000
DTSTAMP:20260422T061600
CREATED:20250318T053952Z
LAST-MODIFIED:20250318T053952Z
UID:10000091-1744401600-1744408800@utahcarczar.com
SUMMARY:Firestone Block Party
DESCRIPTION:Bring your vintage car or motorcycles\, park on the street and hang out. No agenda\, no awards\, no drama\, just cool machines\, food/drinks\, and good people. 2nd Friday of every month at the Firestone Building on 3rd & 3rd.
URL:https://utahcarczar.com/event/firestone-block-party/2025-04-11/
LOCATION:Cucina Toscana\, 282 S 300 W\, Salt Lake City\, Utah
CATEGORIES:Car Show
ATTACH;FMTTYPE=image/png:https://utahcarczar.com/wp-content/uploads/2025/03/Utah-Car-Show-Icon-1.png
END:VEVENT
BEGIN:VEVENT
DTSTART;TZID=America/Denver:20250410T190000
DTEND;TZID=America/Denver:20250410T210000
DTSTAMP:20260422T061600
CREATED:20250408T050851Z
LAST-MODIFIED:20250408T051933Z
UID:10000267-1744311600-1744318800@utahcarczar.com
SUMMARY:Cars & Curry West Valley
DESCRIPTION:
URL:https://utahcarczar.com/event/cars-curry-west-valley/2025-04-10/
LOCATION:Curry Pizza – West Valley\, 2927 S 5600 W\, West Valley\, Utah\, 84120
CATEGORIES:Cars & Curry
ATTACH;FMTTYPE=image/png:https://utahcarczar.com/wp-content/uploads/2025/04/Curry-Pizza-West-Valley-Logo.png
END:VEVENT
BEGIN:VEVENT
DTSTART;TZID=America/Denver:20250409T190000
DTEND;TZID=America/Denver:20250409T210000
DTSTAMP:20260422T061600
CREATED:20250408T050105Z
LAST-MODIFIED:20250418T050408Z
UID:10000206-1744225200-1744232400@utahcarczar.com
SUMMARY:Cars & Curry Lehi
DESCRIPTION:
URL:https://utahcarczar.com/event/cars-curry-lehi/2025-04-09/
LOCATION:Curry Pizza\, 2450 Executive Pkwy #150\, Lehi\, Utah
CATEGORIES:Cars & Curry
ATTACH;FMTTYPE=image/png:https://utahcarczar.com/wp-content/uploads/2025/04/Curry-Pizza-Lehi-Logo.png
END:VEVENT
BEGIN:VEVENT
DTSTART;TZID=America/Denver:20250328T183000
DTEND;TZID=America/Denver:20250328T183000
DTSTAMP:20260422T061600
CREATED:20250327T040238Z
LAST-MODIFIED:20250416T132701Z
UID:10000103-1743186600-1743186600@utahcarczar.com
SUMMARY:Springville HS Car Meet
DESCRIPTION:For more info\, text 469-370-9710
URL:https://utahcarczar.com/event/springville-hs-car-meet/
LOCATION:Springville High School\, 1205 E 900 S\, Springville\, 84663
CATEGORIES:Car Show
ATTACH;FMTTYPE=image/jpeg:https://utahcarczar.com/wp-content/uploads/2025/03/Springville-High-School-Cars-Logo.jpeg
END:VEVENT
BEGIN:VEVENT
DTSTART;TZID=America/Denver:20250316T100000
DTEND;TZID=America/Denver:20250316T180000
DTSTAMP:20260422T061600
CREATED:20250311T070734Z
LAST-MODIFIED:20250416T132943Z
UID:10000037-1742119200-1742148000@utahcarczar.com
SUMMARY:Autorama Utah Day 3
DESCRIPTION:Visit autorama.com/attend/salt-lake-city/ for more details about the Utah Autorama
URL:https://utahcarczar.com/event/autorama-utah-day-3/
LOCATION:Mountain America Expo Center\, 9575 South State Street\, Sandy\, Utah
CATEGORIES:Car Show
ATTACH;FMTTYPE=image/png:https://utahcarczar.com/wp-content/uploads/2025/03/Autorama.png
END:VEVENT
BEGIN:VEVENT
DTSTART;TZID=America/Denver:20250315T100000
DTEND;TZID=America/Denver:20250315T210000
DTSTAMP:20260422T061600
CREATED:20250311T070700Z
LAST-MODIFIED:20250416T132944Z
UID:10000036-1742032800-1742072400@utahcarczar.com
SUMMARY:Autorama Utah Day 2
DESCRIPTION:Visit autorama.com/attend/salt-lake-city/ for more details about the Utah Autorama
URL:https://utahcarczar.com/event/autorama-utah-day-2/
LOCATION:Mountain America Expo Center\, 9575 South State Street\, Sandy\, Utah
CATEGORIES:Car Show
ATTACH;FMTTYPE=image/png:https://utahcarczar.com/wp-content/uploads/2025/03/Autorama.png
END:VEVENT
BEGIN:VEVENT
DTSTART;TZID=America/Denver:20250314T150000
DTEND;TZID=America/Denver:20250314T210000
DTSTAMP:20260422T061600
CREATED:20250310T064617Z
LAST-MODIFIED:20250416T132946Z
UID:10000035-1741964400-1741986000@utahcarczar.com
SUMMARY:Autorama Utah Day 1
DESCRIPTION:Visit autorama.com/attend/salt-lake-city/ for more details about the Utah Autorama
URL:https://utahcarczar.com/event/autorama-utah-day-1/
LOCATION:Mountain America Expo Center\, 9575 South State Street\, Sandy\, Utah
CATEGORIES:Car Show
ATTACH;FMTTYPE=image/png:https://utahcarczar.com/wp-content/uploads/2025/03/Autorama.png
END:VEVENT
END:VCALENDAR