BEGIN:VCALENDAR
VERSION:2.0
PRODID:-//Utah Car Czar - ECPv6.15.18//NONSGML v1.0//EN
CALSCALE:GREGORIAN
METHOD:PUBLISH
X-WR-CALNAME:Utah Car Czar
X-ORIGINAL-URL:https://utahcarczar.com
X-WR-CALDESC:Events for Utah Car Czar
REFRESH-INTERVAL;VALUE=DURATION:PT1H
X-Robots-Tag:noindex
X-PUBLISHED-TTL:PT1H
BEGIN:VTIMEZONE
TZID:America/Denver
BEGIN:DAYLIGHT
TZOFFSETFROM:-0700
TZOFFSETTO:-0600
TZNAME:MDT
DTSTART:20240310T090000
END:DAYLIGHT
BEGIN:STANDARD
TZOFFSETFROM:-0600
TZOFFSETTO:-0700
TZNAME:MST
DTSTART:20241103T080000
END:STANDARD
BEGIN:DAYLIGHT
TZOFFSETFROM:-0700
TZOFFSETTO:-0600
TZNAME:MDT
DTSTART:20250309T090000
END:DAYLIGHT
BEGIN:STANDARD
TZOFFSETFROM:-0600
TZOFFSETTO:-0700
TZNAME:MST
DTSTART:20251102T080000
END:STANDARD
BEGIN:DAYLIGHT
TZOFFSETFROM:-0700
TZOFFSETTO:-0600
TZNAME:MDT
DTSTART:20260308T090000
END:DAYLIGHT
BEGIN:STANDARD
TZOFFSETFROM:-0600
TZOFFSETTO:-0700
TZNAME:MST
DTSTART:20261101T080000
END:STANDARD
END:VTIMEZONE
BEGIN:VEVENT
DTSTART;TZID=America/Denver:20251003T160000
DTEND;TZID=America/Denver:20251003T190000
DTSTAMP:20260421T174445
CREATED:20250928T235155Z
LAST-MODIFIED:20250928T235155Z
UID:10001790-1759507200-1759518000@utahcarczar.com
SUMMARY:Car x Planes Show
DESCRIPTION:
URL:https://utahcarczar.com/event/car-x-planes-show/
LOCATION:Morgan County Airport 42U\, 5827 Willow Creek Rd\, Morgan\, Utah\, 84050
CATEGORIES:Car Show
ATTACH;FMTTYPE=image/webp:https://utahcarczar.com/wp-content/uploads/2025/09/Morgan-County-Logo.webp
END:VEVENT
BEGIN:VEVENT
DTSTART;TZID=America/Denver:20251002T190000
DTEND;TZID=America/Denver:20251002T210000
DTSTAMP:20260421T174445
CREATED:20250408T050851Z
LAST-MODIFIED:20250408T051933Z
UID:10000292-1759431600-1759438800@utahcarczar.com
SUMMARY:Cars & Curry West Valley
DESCRIPTION:
URL:https://utahcarczar.com/event/cars-curry-west-valley/2025-10-02/
LOCATION:Curry Pizza – West Valley\, 2927 S 5600 W\, West Valley\, Utah\, 84120
CATEGORIES:Cars & Curry
ATTACH;FMTTYPE=image/png:https://utahcarczar.com/wp-content/uploads/2025/04/Curry-Pizza-West-Valley-Logo.png
END:VEVENT
BEGIN:VEVENT
DTSTART;TZID=America/Denver:20251001T190000
DTEND;TZID=America/Denver:20251001T210000
DTSTAMP:20260421T174445
CREATED:20250418T050441Z
LAST-MODIFIED:20250418T050442Z
UID:10000231-1759345200-1759352400@utahcarczar.com
SUMMARY:Cars & Curry Lehi
DESCRIPTION:
URL:https://utahcarczar.com/event/cars-curry-lehi-2/2025-10-01/
LOCATION:Curry Pizza\, 2450 Executive Pkwy #150\, Lehi\, Utah
CATEGORIES:Cars & Curry
ATTACH;FMTTYPE=image/png:https://utahcarczar.com/wp-content/uploads/2025/04/Curry-Pizza-Lehi-Logo.png
END:VEVENT
BEGIN:VEVENT
DTSTART;TZID=America/Denver:20250927T190000
DTEND;TZID=America/Denver:20250927T210000
DTSTAMP:20260421T174445
CREATED:20250516T055815Z
LAST-MODIFIED:20250519T040057Z
UID:10001568-1758999600-1759006800@utahcarczar.com
SUMMARY:Culver's Cruise-In
DESCRIPTION:
URL:https://utahcarczar.com/event/culvers-cruise-in-st-george/2025-09-27/
LOCATION:Culver’s – St. George\, 1586 S 270 E\, St. George\, Utah
CATEGORIES:Cruise Night
ATTACH;FMTTYPE=image/png:https://utahcarczar.com/wp-content/uploads/2023/05/culvers-restaurants-1-logo-png-transparent.png
END:VEVENT
BEGIN:VEVENT
DTSTART;TZID=America/Denver:20250927T160000
DTEND;TZID=America/Denver:20250927T190000
DTSTAMP:20260421T174445
CREATED:20250817T223128Z
LAST-MODIFIED:20250902T172203Z
UID:10001735-1758988800-1758999600@utahcarczar.com
SUMMARY:Syracuse High Dance Car Show
DESCRIPTION:Cars\, Food Trucks\, Music\, Raffle Prizes\, and Car Prizes. Over 90 vehicles last year\, let’s do it again this year. All proceeds go to the Syracuse Dance Foundation.
URL:https://utahcarczar.com/event/syracuse-high-dance-car-show/
LOCATION:Syracuse High School\, 665 South 2000 West\, Syracuse
CATEGORIES:Car Show
ATTACH;FMTTYPE=image/png:https://utahcarczar.com/wp-content/uploads/2023/09/Syuracuse-High-School-Logo.png
END:VEVENT
BEGIN:VEVENT
DTSTART;TZID=America/Denver:20250927T120000
DTEND;TZID=America/Denver:20250927T140000
DTSTAMP:20260421T174445
CREATED:20250927T060711Z
LAST-MODIFIED:20250927T060711Z
UID:10001787-1758974400-1758981600@utahcarczar.com
SUMMARY:Cache Valley Car Meet - Bully Awareness & Safety
DESCRIPTION:Free Event for all. Open show from noon until 2 PM. Casual meet to help support the community with Bully awareness. Quantum Martial Arts Studio is sponsoring this event to help build self confidence in young people.\nThey would love to have the “Cool Car Community” join in because these young and vulnerable people LOVE cars!!
URL:https://utahcarczar.com/event/cache-valley-car-meet-bully-awareness-safety/
LOCATION:Quantum Martial Arts\, 917 West 600 North\, Logan\, UT
CATEGORIES:Charity Car Show
ATTACH;FMTTYPE=image/png:https://utahcarczar.com/wp-content/uploads/2025/09/Quantum-Martial-Arts-logo.png
END:VEVENT
BEGIN:VEVENT
DTSTART;TZID=America/Denver:20250927T110000
DTEND;TZID=America/Denver:20250927T150000
DTSTAMP:20260421T174445
CREATED:20250918T213945Z
LAST-MODIFIED:20250921T220048Z
UID:10001780-1758970800-1758985200@utahcarczar.com
SUMMARY:St Mary Fall Festival Car Show
DESCRIPTION:We ask that all participants register in advance. Please use the registration link to submit your application and online payment. \nRegistration includes a meal voucher for up to $10.
URL:https://utahcarczar.com/event/st-mary-fall-festival-car-show/
LOCATION:St Mary Catholic Church\, 4050 S 3900 W\, West Haven
CATEGORIES:Charity Car Show
ATTACH;FMTTYPE=image/jpeg:https://utahcarczar.com/wp-content/uploads/2025/09/final-logo-in-color-scaled.jpg
END:VEVENT
BEGIN:VEVENT
DTSTART;TZID=America/Denver:20250927T110000
DTEND;TZID=America/Denver:20250927T140000
DTSTAMP:20260421T174445
CREATED:20250830T194440Z
LAST-MODIFIED:20250830T194440Z
UID:10001756-1758970800-1758981600@utahcarczar.com
SUMMARY:Sandy City Heritage Festival
DESCRIPTION:Calling All Classic Car Owners\, Car Clubs & Businesses!\nSaturday\, September 27\, 2025\nFestival: 10 a.m. – 2 p.m.\nCar Show: 11 a.m. – 2 p.m.\nLoad-in Time: 10:45 a.m. (or after horse parade has passed Main St Park)
URL:https://utahcarczar.com/event/sandy-city-heritage-festival/
LOCATION:Main Street Park\, 60 East Main Street\, Sandy
CATEGORIES:Car Show
ATTACH;FMTTYPE=image/png:https://utahcarczar.com/wp-content/uploads/2025/08/Horse-Parade-Invite-11-x-8.5-in.png
END:VEVENT
BEGIN:VEVENT
DTSTART;TZID=America/Denver:20250927T100000
DTEND;TZID=America/Denver:20250927T160000
DTSTAMP:20260421T174445
CREATED:20250830T235242Z
LAST-MODIFIED:20250830T235242Z
UID:10001762-1758967200-1758988800@utahcarczar.com
SUMMARY:Red Rocks Car Show
DESCRIPTION:
URL:https://utahcarczar.com/event/red-rocks-car-show/
LOCATION:Santa Clara City Park\, 1400 N Canyon View Dr\, Santa Clara\, Utah\, 84765
CATEGORIES:Car Show
ATTACH;FMTTYPE=image/png:https://utahcarczar.com/wp-content/uploads/2025/08/Red-Rocks-Car-Show-Logo.png
END:VEVENT
BEGIN:VEVENT
DTSTART;TZID=America/Denver:20250927T100000
DTEND;TZID=America/Denver:20250927T140000
DTSTAMP:20260421T174445
CREATED:20250826T220052Z
LAST-MODIFIED:20250908T214547Z
UID:10001748-1758967200-1758981600@utahcarczar.com
SUMMARY:South Ogden Post Acute Annual Car and Bike Show
DESCRIPTION:Please Call or email if you are able to attend. We need some cars!! \nWe are raising money for Christmas gifts and room renovations at our skilled nursing facility. This is a great cause and the highlight of the year for them. There will be booths\, food\, and prizes.
URL:https://utahcarczar.com/event/car-and-bike-show-south-ogden-post-acute/
LOCATION:South Ogden Post Acute\, 5540 S 1050 E\, South Ogden
CATEGORIES:Car Show
ATTACH;FMTTYPE=image/png:https://utahcarczar.com/wp-content/uploads/2024/05/south-ogden-post-acute-logo.png
END:VEVENT
BEGIN:VEVENT
DTSTART;TZID=America/Denver:20250927T080000
DTEND;TZID=America/Denver:20250927T100000
DTSTAMP:20260421T174445
CREATED:20250623T034328Z
LAST-MODIFIED:20250623T042407Z
UID:10001642-1758960000-1758967200@utahcarczar.com
SUMMARY:Grinds and Gears
DESCRIPTION:Kick off your weekend with Grinds & Gears at Young Powersports Logan! Join us every fourth Saturday of the month from 8 AM to 10 AM for an early-morning meet-up full of car limbo\, epic prizes\, tasty food\, games\, music\, and more. From SxSs and motorcycles to custom cars and classic builds\, if it’s got wheels\, it belongs here. Come out for great rides\, great vibes\, and an even better community. Don’t miss it!
URL:https://utahcarczar.com/event/grinds-and-gears/2025-09-27/
LOCATION:Young Powersports\, 1903 S 800 W Suite 2\, Logan\, Utah\, 84321
CATEGORIES:Car Show
ATTACH;FMTTYPE=image/jpeg:https://utahcarczar.com/wp-content/uploads/2025/06/Grinds-and-Gears-Saturday-Meet-2025.jpg
END:VEVENT
BEGIN:VEVENT
DTSTART;TZID=America/Denver:20250926T160000
DTEND;TZID=America/Denver:20250926T190000
DTSTAMP:20260421T174445
CREATED:20250419T213940Z
LAST-MODIFIED:20250419T213940Z
UID:10001472-1758902400-1758913200@utahcarczar.com
SUMMARY:Woody's Drive-In Cruise Night
DESCRIPTION:
URL:https://utahcarczar.com/event/woodys-drive-in-cruise-night/2025-09-26/
LOCATION:Woody’s Drive-In\, 6172 S 1300 E\, Murray\, Utah
CATEGORIES:Cruise Night
ATTACH;FMTTYPE=image/webp:https://utahcarczar.com/wp-content/uploads/2025/04/Woodys-Drive-In-Logo.webp
END:VEVENT
BEGIN:VEVENT
DTSTART;TZID=America/Denver:20250925T190000
DTEND;TZID=America/Denver:20250925T210000
DTSTAMP:20260421T174445
CREATED:20250408T050851Z
LAST-MODIFIED:20250408T051933Z
UID:10000291-1758826800-1758834000@utahcarczar.com
SUMMARY:Cars & Curry West Valley
DESCRIPTION:
URL:https://utahcarczar.com/event/cars-curry-west-valley/2025-09-25/
LOCATION:Curry Pizza – West Valley\, 2927 S 5600 W\, West Valley\, Utah\, 84120
CATEGORIES:Cars & Curry
ATTACH;FMTTYPE=image/png:https://utahcarczar.com/wp-content/uploads/2025/04/Curry-Pizza-West-Valley-Logo.png
END:VEVENT
BEGIN:VEVENT
DTSTART;TZID=America/Denver:20250925T180000
DTEND;TZID=America/Denver:20250925T210000
DTSTAMP:20260421T174445
CREATED:20250416T132515Z
LAST-MODIFIED:20250507T050231Z
UID:10001531-1758823200-1758834000@utahcarczar.com
SUMMARY:Firehouse Pizza Cruise Night
DESCRIPTION:
URL:https://utahcarczar.com/event/firehouse-pizza-cruise-night/2025-09-25/
LOCATION:Firehouse Pizza\, 646 S Main St\, Brigham City\, Utah\, 84302
CATEGORIES:Cruise Night
ATTACH;FMTTYPE=image/png:https://utahcarczar.com/wp-content/uploads/2022/03/Firehouse-Pizzeria-Logo.png
END:VEVENT
BEGIN:VEVENT
DTSTART;TZID=America/Denver:20250925T180000
DTEND;TZID=America/Denver:20250925T210000
DTSTAMP:20260421T174445
CREATED:20250414T043425Z
LAST-MODIFIED:20250419T190010Z
UID:10000312-1758823200-1758834000@utahcarczar.com
SUMMARY:Fiiz Drinks Cruise Nights
DESCRIPTION:
URL:https://utahcarczar.com/event/fiiz-drinks-cruise-nights/2025-09-25/
LOCATION:Fiiz Drinks\, 623 N UT-198\, Salem\, Utah\, 84653
CATEGORIES:Cruise Night
ATTACH;FMTTYPE=image/jpeg:https://utahcarczar.com/wp-content/uploads/2025/04/Fiiz-Drinks-Logo.jpg
END:VEVENT
BEGIN:VEVENT
DTSTART;TZID=America/Denver:20250924T190000
DTEND;TZID=America/Denver:20250924T210000
DTSTAMP:20260421T174445
CREATED:20250418T050441Z
LAST-MODIFIED:20250418T050442Z
UID:10000230-1758740400-1758747600@utahcarczar.com
SUMMARY:Cars & Curry Lehi
DESCRIPTION:
URL:https://utahcarczar.com/event/cars-curry-lehi-2/2025-09-24/
LOCATION:Curry Pizza\, 2450 Executive Pkwy #150\, Lehi\, Utah
CATEGORIES:Cars & Curry
ATTACH;FMTTYPE=image/png:https://utahcarczar.com/wp-content/uploads/2025/04/Curry-Pizza-Lehi-Logo.png
END:VEVENT
BEGIN:VEVENT
DTSTART;TZID=America/Denver:20250920T110000
DTEND;TZID=America/Denver:20250920T150000
DTSTAMP:20260421T174445
CREATED:20250921T220340Z
LAST-MODIFIED:20250921T220340Z
UID:10001781-1758366000-1758380400@utahcarczar.com
SUMMARY:Karl Malone Ford Car Show
DESCRIPTION:
URL:https://utahcarczar.com/event/karl-malone-ford-car-show/
LOCATION:Karl Malone Ford Park City\, 2175 Rasmussen Road\, Park City\, UT
CATEGORIES:Car Show
END:VEVENT
BEGIN:VEVENT
DTSTART;TZID=America/Denver:20250920T100000
DTEND;TZID=America/Denver:20250920T150000
DTSTAMP:20260421T174445
CREATED:20250825T151112Z
LAST-MODIFIED:20250825T151112Z
UID:10001743-1758362400-1758380400@utahcarczar.com
SUMMARY:Salt City Invasion
DESCRIPTION:Registration Rules: \n1. Pre- 1965 Traditional Hot Rods and Kustoms \n2. Traditional styled wheels \n3. No exposed late model suspension \n4. No Rat Rod Junk\, No Art Cars \n5. Our Show\, Our Rules \n6. NO BURNOUTS. RESPECT THE VENUE. \nWe have the right to refuse any vehicle that does not reflect traditional styling . \nIf you are in doubt if your vehicle fits into the criteria for the show you can email us pictures of your car to mofo@saltcityInvasion.com and we will be gentle as possible in critiquing your vehicle for acceptance. In order to stay true to the spirit of Salt City Invasion\, we have to be particular or else it would be just like any other car show. If your car is denied\, please do not be offended\, its nothing personal we are just trying to maintain a certain standard.
URL:https://utahcarczar.com/event/salt-city-invasion/
LOCATION:Murray FOE 1760\, 10 W 4th Ave\, Murray\, Utah
CATEGORIES:Charity Car Show
ATTACH;FMTTYPE=image/jpeg:https://utahcarczar.com/wp-content/uploads/2021/06/Fraternal-Order-of-Eagles-Utah-Logo.jpg
END:VEVENT
BEGIN:VEVENT
DTSTART;TZID=America/Denver:20250920T100000
DTEND;TZID=America/Denver:20250920T150000
DTSTAMP:20260421T174445
CREATED:20250825T074133Z
LAST-MODIFIED:20250908T214657Z
UID:10001741-1758362400-1758380400@utahcarczar.com
SUMMARY:Angels Fundraiser Car Show
DESCRIPTION:Free Food\nTaligate games\nSide walk chalk\nMusic / DJ\nRaffle\nAwards\nTreats \nPlease come support Angels figure skating performance team! This is our 3rd annual car show we are raising money for our season to help with costumes\, ice time\, travel fees\, competition fees\, team fees\, etc. This is such a fun car show we would love to see you there! Please spread the word
URL:https://utahcarczar.com/event/acord-angels-fundraiser-car-show/
LOCATION:Ray Bird Design\, 6570 South 400 West\, Murray
CATEGORIES:Car Show
ATTACH;FMTTYPE=image/jpeg:https://utahcarczar.com/wp-content/uploads/2025/08/Angels-Logo.jpg
END:VEVENT
BEGIN:VEVENT
DTSTART;TZID=America/Denver:20250920T100000
DTEND;TZID=America/Denver:20250920T140000
DTSTAMP:20260421T174445
CREATED:20250912T164036Z
LAST-MODIFIED:20250912T164036Z
UID:10001775-1758362400-1758376800@utahcarczar.com
SUMMARY:Car Show for Bros
DESCRIPTION:This is a fundraiser for the I Love You Bro Project. A Foundation focused on Men’s Mental Health. September is Suicide Awareness and Prevention month. We are bringing community together to support them and have a party. Multiple businesses will be here and we will be raffling off some great prizes as well.
URL:https://utahcarczar.com/event/car-show-for-bros/
CATEGORIES:Car Show
ATTACH;FMTTYPE=image/webp:https://utahcarczar.com/wp-content/uploads/2025/09/sun-kisst-spa-logo.webp
END:VEVENT
BEGIN:VEVENT
DTSTART;TZID=America/Denver:20250920T100000
DTEND;TZID=America/Denver:20250920T140000
DTSTAMP:20260421T174445
CREATED:20250808T055802Z
LAST-MODIFIED:20250915T172737Z
UID:10001730-1758362400-1758376800@utahcarczar.com
SUMMARY:Cars For A Cause Car Show - Tiny Tim
DESCRIPTION:Family friendly car show supporting Tiny Tim’s Foundation for Kids\, a local nonprofit dedicated to providing wooden toys and humanitarian aid to children in need around the world.\nCar show to raise awareness and funds for the foundation. 100% of the proceeds from the event will go directly to support their incredible mission.
URL:https://utahcarczar.com/event/cars-for-a-cause-car-show-tiny-tim/
LOCATION:Big Kid Custom Rides\, 165 N 1300 W\, Orem
CATEGORIES:Car Show
ATTACH;FMTTYPE=image/png:https://utahcarczar.com/wp-content/uploads/2025/05/Logo-1.png
END:VEVENT
BEGIN:VEVENT
DTSTART;TZID=America/Denver:20250920T090000
DTEND;TZID=America/Denver:20250920T160000
DTSTAMP:20260421T174445
CREATED:20250915T170557Z
LAST-MODIFIED:20250915T171011Z
UID:10001779-1758358800-1758384000@utahcarczar.com
SUMMARY:Whitlock Collision 50th Anniversary Car Show
DESCRIPTION:Come celebrate the 50th Anniversary of Whitlock Collision
URL:https://utahcarczar.com/event/whitlock-collision-car-show/
LOCATION:Whitlock Collision\, 836 S 100 E\, Provo\, Utah\, 84606
CATEGORIES:Car Show
ATTACH;FMTTYPE=image/png:https://utahcarczar.com/wp-content/uploads/2025/09/Whitlock-Collision-Logo.png
END:VEVENT
BEGIN:VEVENT
DTSTART;TZID=America/Denver:20250920T090000
DTEND;TZID=America/Denver:20250920T140000
DTSTAMP:20260421T174445
CREATED:20250727T172508Z
LAST-MODIFIED:20250727T172508Z
UID:10001716-1758358800-1758376800@utahcarczar.com
SUMMARY:Clear Creek Canyon Car Show
DESCRIPTION:Car Registrants can enter extra vehicles for $10.00 (swag bag\, etc. not included).\nInitial Registrations for $25.00 will receive a swag bag\, dash plaque\, and free t-shirt.\n5 Trophies will be given out at the end of the day! Best Engine\, Best Upholstery\, Best Custom\, Best Paint\, and Most Unique!\nFREE to attend. Enjoy amazing raffle prizes given out every hour on the hour\, music\, and food trucks.
URL:https://utahcarczar.com/event/clear-creek-canyon-car-show/
LOCATION:Fremont Indian State Park\, 3820 W. Clear Creek Canyon Rd.\, Sevier
CATEGORIES:Car Show
ATTACH;FMTTYPE=image/png:https://utahcarczar.com/wp-content/uploads/2022/09/Utah-DNR-Logo.png
END:VEVENT
BEGIN:VEVENT
DTSTART;TZID=America/Denver:20250920T090000
DTEND;TZID=America/Denver:20250920T120000
DTSTAMP:20260421T174445
CREATED:20250831T215948Z
LAST-MODIFIED:20250915T053052Z
UID:10001765-1758358800-1758369600@utahcarczar.com
SUMMARY:Cars and Smoothies
DESCRIPTION:
URL:https://utahcarczar.com/event/cars-and-smoothies/
LOCATION:The Orange Peel\, 1215 E Snow Canyon Parkway\, Ivins\, Utah\, 84738
CATEGORIES:Car Show
ATTACH;FMTTYPE=image/png:https://utahcarczar.com/wp-content/uploads/2025/08/the-orange-peel-logo.png
END:VEVENT
BEGIN:VEVENT
DTSTART;TZID=America/Denver:20250919T180000
DTEND;TZID=America/Denver:20250919T210000
DTSTAMP:20260421T174445
CREATED:20250721T051223Z
LAST-MODIFIED:20250721T051223Z
UID:10001708-1758304800-1758315600@utahcarczar.com
SUMMARY:Wings and Wheels
DESCRIPTION:
URL:https://utahcarczar.com/event/wings-and-wheels-buffalo-wild-wings/2025-09-19/
LOCATION:Buffalo Wild Wings\, 11266 south state street\, Sandy
CATEGORIES:Car Show
ATTACH;FMTTYPE=image/jpeg:https://utahcarczar.com/wp-content/uploads/2020/05/buffalo-wild-wings.jpg
END:VEVENT
BEGIN:VEVENT
DTSTART;TZID=America/Denver:20250919T170000
DTEND;TZID=America/Denver:20250919T200000
DTSTAMP:20260421T174445
CREATED:20250803T220457Z
LAST-MODIFIED:20250803T220457Z
UID:10001723-1758301200-1758312000@utahcarczar.com
SUMMARY:Downtown Provo Car Show 2025
DESCRIPTION:Downtown Provo Inc & The Man Barber are proud to announce the 5th Annual Downtown Provo CLASSIC Car Show! \nGrab your family and friends\, fire up your classic ride and join us on Center Street! There will be cars\, live music\, games and of course the phenomenal food offerings Downtown!! \n– Early Registration $20\n– Day Of/In Person Registration $30\n(Registration Fee helps cover the costs for road closure & insurance) \nPayments also Accepted via Venmo @downtownprovo — Please include your email under payment description for registration confirmation — \nThe show is open to ALL types of automobiles\, preceding the 1991 model year. No categories or classes. \nAwards\, cash prizes and gift cards\, will be provided by sponsors and local business owners\, including Mayor’s Choice and People’s Choice. The Awards Ceremony will begin at 7 PM outside The Man Barber – 120 W Center St. \nEach participant will receive a goodie bag with our official dash plaque\, coupons to local restaurants\, and more.
URL:https://utahcarczar.com/event/downtown-provo-car-show/
LOCATION:Downtown Provo\, 100 W Center Street\, Provo\, UT
CATEGORIES:Car Show
ATTACH;FMTTYPE=image/jpeg:https://utahcarczar.com/wp-content/uploads/2025/07/Provo-Car-Show-2025-scaled.jpg
END:VEVENT
BEGIN:VEVENT
DTSTART;TZID=America/Denver:20250919T080000
DTEND;TZID=America/Denver:20250920T050000
DTSTAMP:20260421T174445
CREATED:20250915T053005Z
LAST-MODIFIED:20250915T053005Z
UID:10001778-1758268800-1758344400@utahcarczar.com
SUMMARY:Delta Car Show
DESCRIPTION:
URL:https://utahcarczar.com/event/delta-car-show/
LOCATION:Delta City Park\, 140 W Main St\, Delta\, UT\, 84624
CATEGORIES:Car Show
ATTACH;FMTTYPE=image/png:https://utahcarczar.com/wp-content/uploads/2025/09/Delta-City-Logo.png
END:VEVENT
BEGIN:VEVENT
DTSTART;TZID=America/Denver:20250918T190000
DTEND;TZID=America/Denver:20250918T210000
DTSTAMP:20260421T174445
CREATED:20250408T050851Z
LAST-MODIFIED:20250408T051933Z
UID:10000290-1758222000-1758229200@utahcarczar.com
SUMMARY:Cars & Curry West Valley
DESCRIPTION:
URL:https://utahcarczar.com/event/cars-curry-west-valley/2025-09-18/
LOCATION:Curry Pizza – West Valley\, 2927 S 5600 W\, West Valley\, Utah\, 84120
CATEGORIES:Cars & Curry
ATTACH;FMTTYPE=image/png:https://utahcarczar.com/wp-content/uploads/2025/04/Curry-Pizza-West-Valley-Logo.png
END:VEVENT
BEGIN:VEVENT
DTSTART;TZID=America/Denver:20250918T180000
DTEND;TZID=America/Denver:20250918T180000
DTSTAMP:20260421T174445
CREATED:20250331T062257Z
LAST-MODIFIED:20250416T131635Z
UID:10000114-1758218400-1758218400@utahcarczar.com
SUMMARY:Phillips 66 Cruise
DESCRIPTION:Cruise to a new location every month.
URL:https://utahcarczar.com/event/phillips-66-cruise/2025-09-18/
LOCATION:Phillips 66\, 527 S 700 W\, Woods Cross\, Utah\, 84087
CATEGORIES:Cruise Night
ATTACH;FMTTYPE=image/png:https://utahcarczar.com/wp-content/uploads/2025/03/Phillips_66_logo.png
END:VEVENT
BEGIN:VEVENT
DTSTART;TZID=America/Denver:20250918T100000
DTEND;TZID=America/Denver:20250920T160000
DTSTAMP:20260421T174445
CREATED:20250803T220842Z
LAST-MODIFIED:20250908T214437Z
UID:10001725-1758189600-1758384000@utahcarczar.com
SUMMARY:Wasatch Eurofest 2025
DESCRIPTION:
URL:https://utahcarczar.com/event/wasatch-eurofest/
LOCATION:Midway Town Hall\, 75 100 W\, Midway\, UT 84049\, Midway
CATEGORIES:Car Show
ATTACH;FMTTYPE=image/jpeg:https://utahcarczar.com/wp-content/uploads/2024/09/Wasatch-EuroFest-2024.jpg
END:VEVENT
END:VCALENDAR