BEGIN:VCALENDAR
VERSION:2.0
PRODID:-//Utah Car Czar - ECPv6.15.18//NONSGML v1.0//EN
CALSCALE:GREGORIAN
METHOD:PUBLISH
X-ORIGINAL-URL:https://utahcarczar.com
X-WR-CALDESC:Events for Utah Car Czar
REFRESH-INTERVAL;VALUE=DURATION:PT1H
X-Robots-Tag:noindex
X-PUBLISHED-TTL:PT1H
BEGIN:VTIMEZONE
TZID:America/Denver
BEGIN:DAYLIGHT
TZOFFSETFROM:-0700
TZOFFSETTO:-0600
TZNAME:MDT
DTSTART:20240310T090000
END:DAYLIGHT
BEGIN:STANDARD
TZOFFSETFROM:-0600
TZOFFSETTO:-0700
TZNAME:MST
DTSTART:20241103T080000
END:STANDARD
BEGIN:DAYLIGHT
TZOFFSETFROM:-0700
TZOFFSETTO:-0600
TZNAME:MDT
DTSTART:20250309T090000
END:DAYLIGHT
BEGIN:STANDARD
TZOFFSETFROM:-0600
TZOFFSETTO:-0700
TZNAME:MST
DTSTART:20251102T080000
END:STANDARD
BEGIN:DAYLIGHT
TZOFFSETFROM:-0700
TZOFFSETTO:-0600
TZNAME:MDT
DTSTART:20260308T090000
END:DAYLIGHT
BEGIN:STANDARD
TZOFFSETFROM:-0600
TZOFFSETTO:-0700
TZNAME:MST
DTSTART:20261101T080000
END:STANDARD
END:VTIMEZONE
BEGIN:VEVENT
DTSTART;TZID=America/Denver:20250716T190000
DTEND;TZID=America/Denver:20250716T210000
DTSTAMP:20260422T000651
CREATED:20250418T050441Z
LAST-MODIFIED:20250418T050442Z
UID:10000220-1752692400-1752699600@utahcarczar.com
SUMMARY:Cars & Curry Lehi
DESCRIPTION:
URL:https://utahcarczar.com/event/cars-curry-lehi-2/2025-07-16/
LOCATION:Curry Pizza\, 2450 Executive Pkwy #150\, Lehi\, Utah
CATEGORIES:Cars & Curry
ATTACH;FMTTYPE=image/png:https://utahcarczar.com/wp-content/uploads/2025/04/Curry-Pizza-Lehi-Logo.png
END:VEVENT
BEGIN:VEVENT
DTSTART;TZID=America/Denver:20250715T180000
DTEND;TZID=America/Denver:20250715T210000
DTSTAMP:20260422T000651
CREATED:20250707T051700Z
LAST-MODIFIED:20250707T051700Z
UID:10001659-1752602400-1752613200@utahcarczar.com
SUMMARY:Car Meet at Classic Skating
DESCRIPTION:LIVE Outdoor DJ\nFREE Hot Dogs\nFREE Drinks\nRC CAR RACING inside on the skating rink from 9-10pm (Bring your own car)
URL:https://utahcarczar.com/event/classic-carnival-car-meet-july/2025-07-15/
LOCATION:Classic Fun Center\, 9151 South 255 West\, Sandy
CATEGORIES:Cruise Night
ATTACH;FMTTYPE=image/png:https://utahcarczar.com/wp-content/uploads/2025/04/ClassicLOGO.png
END:VEVENT
BEGIN:VEVENT
DTSTART;TZID=America/Denver:20250712T200000
DTEND;TZID=America/Denver:20250712T200000
DTSTAMP:20260422T000651
CREATED:20250709T062734Z
LAST-MODIFIED:20250709T062802Z
UID:10001672-1752350400-1752350400@utahcarczar.com
SUMMARY:Automotive Addiction at Trolley square
DESCRIPTION:Automotive Addiction @ Trolley Square Car Show!\nPublic Welcome – Free to Attend! (Cars by Invite Only.\nDM us if you feel like you should have received an invite)\n🗓️: Saturday\, July 12th\n⌚️: 8pm to 10pm\n📍: Trolley Square • 602 E 500 S\, Salt Lake City\,
URL:https://utahcarczar.com/event/automotive-addiction-trolley-square/
LOCATION:Trolley Square\, 602 E 500 S\, Salt Lake City
CATEGORIES:Car Show
ATTACH;FMTTYPE=image/png:https://utahcarczar.com/wp-content/uploads/2022/07/Automotive-Addiction-Logo.png
END:VEVENT
BEGIN:VEVENT
DTSTART;TZID=America/Denver:20250712T094500
DTEND;TZID=America/Denver:20250712T113000
DTSTAMP:20260422T000651
CREATED:20250710T064656Z
LAST-MODIFIED:20250710T064656Z
UID:10001673-1752313500-1752319800@utahcarczar.com
SUMMARY:RIDE FOR DAX
DESCRIPTION:This is a charity parade for a little boy who was diagnosed with leukemia and has an incredible passion for cars.
URL:https://utahcarczar.com/event/ride-for-dax/
LOCATION:Bridge Elementary Charter\, 4824 MIDLAND DR\, Roy\, UT
CATEGORIES:Charity Car Show
ATTACH;FMTTYPE=image/png:https://utahcarczar.com/wp-content/uploads/2025/03/Utah-Car-Show-Icon-2.png
END:VEVENT
BEGIN:VEVENT
DTSTART;TZID=America/Denver:20250712T080000
DTEND;TZID=America/Denver:20250712T140000
DTSTAMP:20260422T000651
CREATED:20250529T044150Z
LAST-MODIFIED:20250529T044732Z
UID:10001597-1752307200-1752328800@utahcarczar.com
SUMMARY:Mt.Nebo Cruzin Association 40th Anniversary Car Show
DESCRIPTION:Mt. Nebo Cruzin Association 40th Anniversary Car Show 2025
URL:https://utahcarczar.com/event/mt-nebo-cruzin-association-car-showmt-nebo-cruzin-association-40th-anniversary-car-show/
LOCATION:Nephi City Park\, 600 N Main Street\, Nephi\, UT
CATEGORIES:Car Show
ATTACH;FMTTYPE=image/jpeg:https://utahcarczar.com/wp-content/uploads/2011/12/Mt-Nebo-Association-scaled.jpg
END:VEVENT
BEGIN:VEVENT
DTSTART;TZID=America/Denver:20250711T200000
DTEND;TZID=America/Denver:20250711T220000
DTSTAMP:20260422T000651
CREATED:20250318T053952Z
LAST-MODIFIED:20250318T053952Z
UID:10000094-1752264000-1752271200@utahcarczar.com
SUMMARY:Firestone Block Party
DESCRIPTION:Bring your vintage car or motorcycles\, park on the street and hang out. No agenda\, no awards\, no drama\, just cool machines\, food/drinks\, and good people. 2nd Friday of every month at the Firestone Building on 3rd & 3rd.
URL:https://utahcarczar.com/event/firestone-block-party/2025-07-11/
LOCATION:Cucina Toscana\, 282 S 300 W\, Salt Lake City\, Utah
CATEGORIES:Car Show
ATTACH;FMTTYPE=image/png:https://utahcarczar.com/wp-content/uploads/2025/03/Utah-Car-Show-Icon-1.png
END:VEVENT
BEGIN:VEVENT
DTSTART;TZID=America/Denver:20250711T190000
DTEND;TZID=America/Denver:20250711T210000
DTSTAMP:20260422T000651
CREATED:20250318T050030Z
LAST-MODIFIED:20250506T150625Z
UID:10001517-1752260400-1752267600@utahcarczar.com
SUMMARY:Cars and Shakes Riverdale
DESCRIPTION:
URL:https://utahcarczar.com/event/cars-and-shakes-riverdale/2025-07-11/
LOCATION:Dutch Bros\, 4177 Riverdale Road\, Riverdale\, Utah\, 84405
CATEGORIES:Cruise Night
ATTACH;FMTTYPE=image/png:https://utahcarczar.com/wp-content/uploads/2025/03/Dutch-Bros-Logo.png
END:VEVENT
BEGIN:VEVENT
DTSTART;TZID=America/Denver:20250711T100000
DTEND;TZID=America/Denver:20250711T120000
DTSTAMP:20260422T000651
CREATED:20250709T062334Z
LAST-MODIFIED:20250709T062334Z
UID:10001671-1752228000-1752235200@utahcarczar.com
SUMMARY:Car Show at Central Utah Enterprises
DESCRIPTION:This is a FREE car show (Free for car owners\, free for attendees.) There will not be vendors at this event. This is an opportunity for you to show off your car to adults with special needs. There will be no rewards/prizes given out. Guests will need to sign it\, and cars will need to register beforehand. Thank you!
URL:https://utahcarczar.com/event/car-show-at-central-utah-enterprises/
LOCATION:Central Utah Enterprises\, 1170 South 350 East\, Provo
CATEGORIES:Charity Car Show
ATTACH;FMTTYPE=image/png:https://utahcarczar.com/wp-content/uploads/2025/03/Utah-Car-Show-Icon-1.png
END:VEVENT
BEGIN:VEVENT
DTSTART;TZID=America/Denver:20250710T190000
DTEND;TZID=America/Denver:20250710T210000
DTSTAMP:20260422T000651
CREATED:20250408T050851Z
LAST-MODIFIED:20250408T051933Z
UID:10000280-1752174000-1752181200@utahcarczar.com
SUMMARY:Cars & Curry West Valley
DESCRIPTION:
URL:https://utahcarczar.com/event/cars-curry-west-valley/2025-07-10/
LOCATION:Curry Pizza – West Valley\, 2927 S 5600 W\, West Valley\, Utah\, 84120
CATEGORIES:Cars & Curry
ATTACH;FMTTYPE=image/png:https://utahcarczar.com/wp-content/uploads/2025/04/Curry-Pizza-West-Valley-Logo.png
END:VEVENT
BEGIN:VEVENT
DTSTART;TZID=America/Denver:20250710T171500
DTEND;TZID=America/Denver:20250710T210000
DTSTAMP:20260422T000651
CREATED:20250616T010344Z
LAST-MODIFIED:20250616T010344Z
UID:10001625-1752167700-1752181200@utahcarczar.com
SUMMARY:Cruisin with the Choir
DESCRIPTION:“Cruisin with the Choir” will start at Roy Marketplace Plaza\, leaving at 5:15pm. We will be cruising to Heber City for the Heber Market on Main where Texas’s own Midnight River Choir will be performing until 9pm. \nALL cars are welcome to join. Let’s cruise!
URL:https://utahcarczar.com/event/cruisin-with-the-choir/
LOCATION:Roy Marketplace Plaza\, 5420 S 1900 W\, Roy\, UT\, 84067
CATEGORIES:Cruise
ATTACH;FMTTYPE=image/png:https://utahcarczar.com/wp-content/uploads/2025/03/Utah-Car-Show-Icon-1.png
END:VEVENT
BEGIN:VEVENT
DTSTART;TZID=America/Denver:20250709T190000
DTEND;TZID=America/Denver:20250709T210000
DTSTAMP:20260422T000651
CREATED:20250418T050441Z
LAST-MODIFIED:20250418T050442Z
UID:10000219-1752087600-1752094800@utahcarczar.com
SUMMARY:Cars & Curry Lehi
DESCRIPTION:
URL:https://utahcarczar.com/event/cars-curry-lehi-2/2025-07-09/
LOCATION:Curry Pizza\, 2450 Executive Pkwy #150\, Lehi\, Utah
CATEGORIES:Cars & Curry
ATTACH;FMTTYPE=image/png:https://utahcarczar.com/wp-content/uploads/2025/04/Curry-Pizza-Lehi-Logo.png
END:VEVENT
BEGIN:VEVENT
DTSTART;TZID=America/Denver:20250708T180000
DTEND;TZID=America/Denver:20250708T210000
DTSTAMP:20260422T000651
CREATED:20250707T051700Z
LAST-MODIFIED:20250707T051700Z
UID:10001658-1751997600-1752008400@utahcarczar.com
SUMMARY:Car Meet at Classic Skating
DESCRIPTION:LIVE Outdoor DJ\nFREE Hot Dogs\nFREE Drinks\nRC CAR RACING inside on the skating rink from 9-10pm (Bring your own car)
URL:https://utahcarczar.com/event/classic-carnival-car-meet-july/2025-07-08/
LOCATION:Classic Fun Center\, 9151 South 255 West\, Sandy
CATEGORIES:Cruise Night
ATTACH;FMTTYPE=image/png:https://utahcarczar.com/wp-content/uploads/2025/04/ClassicLOGO.png
END:VEVENT
BEGIN:VEVENT
DTSTART;TZID=America/Denver:20250706T120000
DTEND;TZID=America/Denver:20250706T150000
DTSTAMP:20260422T000651
CREATED:20250601T224940Z
LAST-MODIFIED:20250608T230244Z
UID:10001603-1751803200-1751814000@utahcarczar.com
SUMMARY:Car Show for Primary Children’s
DESCRIPTION:Rev up your engines and mark your calendars for our upcoming car show on July 6th For Children’s Miracle Network! From 12pm to 3pm\, you’ll have the chance to marvel at some of the coolest cars around. Entry is just $15\, a small price for a big experience. \nBut that’s not all! We’ll also have pop-up vendors throughout the event. For just $30\, you can secure a spot to showcase your products to a crowd of car enthusiasts. It’s the perfect opportunity to connect with potential customers and fellow car lovers. \nSo\, save the date and get ready for a day filled with horsepower and fun. We can’t wait to see you there! \nAll Proceeds go to our local Primary Children’s.
URL:https://utahcarczar.com/event/car-show-for-primary-childrens/
LOCATION:Walmart Clinton\, 1632 N 2000 W\, Clinton
CATEGORIES:Charity Car Show
ATTACH;FMTTYPE=image/png:https://utahcarczar.com/wp-content/uploads/2024/05/Walmart-Logo.png
END:VEVENT
BEGIN:VEVENT
DTSTART;TZID=America/Denver:20250705T190000
DTEND;TZID=America/Denver:20250705T210000
DTSTAMP:20260422T000651
CREATED:20250516T060916Z
LAST-MODIFIED:20250516T060916Z
UID:10001570-1751742000-1751749200@utahcarczar.com
SUMMARY:Cruisin the Brewery
DESCRIPTION:
URL:https://utahcarczar.com/event/cruisin-the-brewery-st-george-2/
LOCATION:Strap Tank Brewery St. George\, 1872 Crosby Way\, St. George\, Utah
CATEGORIES:Cruise Night
ATTACH;FMTTYPE=image/png:https://utahcarczar.com/wp-content/uploads/2025/05/Strap-Tank-Brewery-Logo.png
END:VEVENT
BEGIN:VEVENT
DTSTART;TZID=America/Denver:20250705T110000
DTEND;TZID=America/Denver:20250705T140000
DTSTAMP:20260422T000651
CREATED:20250512T044957Z
LAST-MODIFIED:20260308T081933Z
UID:10001558-1751713200-1751724000@utahcarczar.com
SUMMARY:Car Show for Primary Children’s Hospital
DESCRIPTION:Help us raise money for Primary Children’s Hospital!
URL:https://utahcarczar.com/event/car-show-for-primary-childrens-hospital-july-2025/
LOCATION:American Fork Walmart\, 949 Grassland Dr\, American Fork
CATEGORIES:Charity Car Show
ATTACH;FMTTYPE=image/png:https://utahcarczar.com/wp-content/uploads/2024/05/Walmart-Logo.png
END:VEVENT
BEGIN:VEVENT
DTSTART;TZID=America/Denver:20250705T100000
DTEND;TZID=America/Denver:20250705T153000
DTSTAMP:20260422T000651
CREATED:20250327T050409Z
LAST-MODIFIED:20250427T235756Z
UID:10000107-1751709600-1751729400@utahcarczar.com
SUMMARY:Mountain View Ranch Classic Auto Show
DESCRIPTION:
URL:https://utahcarczar.com/event/mountain-view-ranch-classic-auto-show/
LOCATION:Mountain View Ranch & Museum\, 10 S 600 W\, Parowan\, Utah\, 84761
CATEGORIES:Car Show
ATTACH;FMTTYPE=image/png:https://utahcarczar.com/wp-content/uploads/2025/03/Utah-Car-Show-Icon-2.png
END:VEVENT
BEGIN:VEVENT
DTSTART;TZID=America/Denver:20250704T103000
DTEND;TZID=America/Denver:20250704T150000
DTSTAMP:20260422T000651
CREATED:20250629T222256Z
LAST-MODIFIED:20250629T222305Z
UID:10001650-1751625000-1751641200@utahcarczar.com
SUMMARY:WildBunch Benefit Bike Show
DESCRIPTION:
URL:https://utahcarczar.com/event/wildbunch-benefit-bike-show/
LOCATION:Canyon View Middle School\, 550 N 400 W\, Huntington\, Utah\, 84528
CATEGORIES:Charity Car Show
ATTACH;FMTTYPE=image/png:https://utahcarczar.com/wp-content/uploads/2025/03/Utah-Car-Show-Icon-1.png
END:VEVENT
BEGIN:VEVENT
DTSTART;TZID=America/Denver:20250704T090000
DTEND;TZID=America/Denver:20250704T140000
DTSTAMP:20260422T000651
CREATED:20250608T223607Z
LAST-MODIFIED:20250608T223636Z
UID:10001616-1751619600-1751637600@utahcarczar.com
SUMMARY:Gunnison Valley independence Day Celebration Car Show
DESCRIPTION:$10 dollars per additional car. Please reach out with any questions.
URL:https://utahcarczar.com/event/gunnison-valley-independence-day-celebration-car-show/
LOCATION:Gunnison City Park\, 260 N Main St\, Gunnison\, UT 84634\, Gunnison
CATEGORIES:Car Show
ATTACH;FMTTYPE=image/png:https://utahcarczar.com/wp-content/uploads/2025/03/Utah-Car-Show-Icon-2.png
END:VEVENT
BEGIN:VEVENT
DTSTART;TZID=America/Denver:20250704T080000
DTEND;TZID=America/Denver:20250704T120000
DTSTAMP:20260422T000651
CREATED:20250624T052957Z
LAST-MODIFIED:20250629T224709Z
UID:10001644-1751616000-1751630400@utahcarczar.com
SUMMARY:OMR 4th of July Huntsville Car Show
DESCRIPTION:Ogden Midnight Runners is back for year 2 at the Huntsville Car Show\, on the 4th of July!\nThe car show will run from 8am – 12pm (noon)!
URL:https://utahcarczar.com/event/omr-4th-of-july-huntsville-car-show/
LOCATION:Huntsville Square\, 7355 E 200 S\, Huntsville\, Utah
CATEGORIES:Car Show
ATTACH;FMTTYPE=image/png:https://utahcarczar.com/wp-content/uploads/2024/07/OMR-gold-logo-.png
END:VEVENT
BEGIN:VEVENT
DTSTART;TZID=America/Denver:20250703T190000
DTEND;TZID=America/Denver:20250703T210000
DTSTAMP:20260422T000651
CREATED:20250408T050851Z
LAST-MODIFIED:20250408T051933Z
UID:10000279-1751569200-1751576400@utahcarczar.com
SUMMARY:Cars & Curry West Valley
DESCRIPTION:
URL:https://utahcarczar.com/event/cars-curry-west-valley/2025-07-03/
LOCATION:Curry Pizza – West Valley\, 2927 S 5600 W\, West Valley\, Utah\, 84120
CATEGORIES:Cars & Curry
ATTACH;FMTTYPE=image/png:https://utahcarczar.com/wp-content/uploads/2025/04/Curry-Pizza-West-Valley-Logo.png
END:VEVENT
BEGIN:VEVENT
DTSTART;TZID=America/Denver:20250703T180000
DTEND;TZID=America/Denver:20250703T210000
DTSTAMP:20260422T000651
CREATED:20250416T132515Z
LAST-MODIFIED:20250507T050231Z
UID:10001525-1751565600-1751576400@utahcarczar.com
SUMMARY:Firehouse Pizza Cruise Night
DESCRIPTION:
URL:https://utahcarczar.com/event/firehouse-pizza-cruise-night/2025-07-03/
LOCATION:Firehouse Pizza\, 646 S Main St\, Brigham City\, Utah\, 84302
CATEGORIES:Cruise Night
ATTACH;FMTTYPE=image/png:https://utahcarczar.com/wp-content/uploads/2022/03/Firehouse-Pizzeria-Logo.png
END:VEVENT
BEGIN:VEVENT
DTSTART;TZID=America/Denver:20250703T180000
DTEND;TZID=America/Denver:20250703T210000
DTSTAMP:20260422T000651
CREATED:20250414T043425Z
LAST-MODIFIED:20250419T190010Z
UID:10000306-1751565600-1751576400@utahcarczar.com
SUMMARY:Fiiz Drinks Cruise Nights
DESCRIPTION:
URL:https://utahcarczar.com/event/fiiz-drinks-cruise-nights/2025-07-03/
LOCATION:Fiiz Drinks\, 623 N UT-198\, Salem\, Utah\, 84653
CATEGORIES:Cruise Night
ATTACH;FMTTYPE=image/jpeg:https://utahcarczar.com/wp-content/uploads/2025/04/Fiiz-Drinks-Logo.jpg
END:VEVENT
BEGIN:VEVENT
DTSTART;TZID=America/Denver:20250702T190000
DTEND;TZID=America/Denver:20250702T210000
DTSTAMP:20260422T000651
CREATED:20250418T050441Z
LAST-MODIFIED:20250418T050442Z
UID:10000218-1751482800-1751490000@utahcarczar.com
SUMMARY:Cars & Curry Lehi
DESCRIPTION:
URL:https://utahcarczar.com/event/cars-curry-lehi-2/2025-07-02/
LOCATION:Curry Pizza\, 2450 Executive Pkwy #150\, Lehi\, Utah
CATEGORIES:Cars & Curry
ATTACH;FMTTYPE=image/png:https://utahcarczar.com/wp-content/uploads/2025/04/Curry-Pizza-Lehi-Logo.png
END:VEVENT
BEGIN:VEVENT
DTSTART;TZID=America/Denver:20250701T180000
DTEND;TZID=America/Denver:20250701T220000
DTSTAMP:20260422T000651
CREATED:20250611T054419Z
LAST-MODIFIED:20250629T213808Z
UID:10001624-1751392800-1751407200@utahcarczar.com
SUMMARY:Classic CAR•NIVAL Car Meet
DESCRIPTION:CLASSIC CAR•NIVAL CAR MEET is FREE and is a Family Friendly Event (Bring an awesome car\, your significant other AND any cool kids you know)\n*No reservations needed\, just show up and pick a spot.\nLIVE Outdoor DJ\nFREE BBQ Hot Dogs\nFREE Drinks\nHUGE Drawing\nRC CAR RACING inside on the skating rink from 9-10pm (Bring your own car)\nIf you decide to venture inside Classic from 6-9pm for some added fun\, here are the details…\nCAR LOAD SPECIAL (JUST SKATING) $20\nCAR LOAD SPECIAL (UNLIMITED ACTIVITIES) $40\n*Up to 5 guests per car. \nBrand New parking lot (100 stalls) for most of the cars and awesome sunsets for pics. (Over 300 stalls total including a dirt section for awesome trucks and a 10 foot wide X 150 foot long sidewalk just for motorcycles.\nCome for the cool cars\, stay for the fun! \nDetails:\n*While supplies last…first come\, first served!
URL:https://utahcarczar.com/event/classic-carnival-car-meet-july-2/
LOCATION:Classic Fun Center\, 9151 South 255 West\, Sandy
CATEGORIES:Car Show
ATTACH;FMTTYPE=image/png:https://utahcarczar.com/wp-content/uploads/2025/04/ClassicLOGO.png
END:VEVENT
BEGIN:VEVENT
DTSTART;TZID=America/Denver:20250701T180000
DTEND;TZID=America/Denver:20250701T210000
DTSTAMP:20260422T000651
CREATED:20250408T045703Z
LAST-MODIFIED:20250408T045703Z
UID:10000202-1751392800-1751403600@utahcarczar.com
SUMMARY:Kirt's Drive-In Cruise Night
DESCRIPTION:
URL:https://utahcarczar.com/event/kirts-drive-in-cruise-night/2025-07-01/
LOCATION:Kirt’s Drive-In\, 1974 N 400 E St\, North Ogden\, Utah\, 84414
CATEGORIES:Cruise Night
ATTACH;FMTTYPE=image/jpeg:https://utahcarczar.com/wp-content/uploads/2021/06/Kirts-Drive-In-Logo.jpg
END:VEVENT
BEGIN:VEVENT
DTSTART;TZID=America/Denver:20250628T190000
DTEND;TZID=America/Denver:20250628T210000
DTSTAMP:20260422T000651
CREATED:20250516T055815Z
LAST-MODIFIED:20250519T040057Z
UID:10001565-1751137200-1751144400@utahcarczar.com
SUMMARY:Culver's Cruise-In
DESCRIPTION:
URL:https://utahcarczar.com/event/culvers-cruise-in-st-george/2025-06-28/
LOCATION:Culver’s – St. George\, 1586 S 270 E\, St. George\, Utah
CATEGORIES:Cruise Night
ATTACH;FMTTYPE=image/png:https://utahcarczar.com/wp-content/uploads/2023/05/culvers-restaurants-1-logo-png-transparent.png
END:VEVENT
BEGIN:VEVENT
DTSTART;TZID=America/Denver:20250628T150000
DTEND;TZID=America/Denver:20250628T200000
DTSTAMP:20260422T000651
CREATED:20250616T011244Z
LAST-MODIFIED:20250616T011244Z
UID:10001627-1751122800-1751140800@utahcarczar.com
SUMMARY:Motors for Miracles Car Show
DESCRIPTION:All proceeds will go to Primary Children’s Hospital. There will be prizes awarded for Mayor’s Choice\, Store Manager’s Choice\, People’s Choice\, and Most Donations. Our associates will also have snacks and drinks available for purchase.
URL:https://utahcarczar.com/event/motors-for-miracles-car-show/
LOCATION:Walmart – Price\, 255 S Hwy 55\, Price\, Utah
CATEGORIES:Charity Car Show
ATTACH;FMTTYPE=image/png:https://utahcarczar.com/wp-content/uploads/2024/05/Walmart-Logo.png
END:VEVENT
BEGIN:VEVENT
DTSTART;TZID=America/Denver:20250628T100000
DTEND;TZID=America/Denver:20250628T180000
DTSTAMP:20260422T000651
CREATED:20250525T234401Z
LAST-MODIFIED:20250525T234401Z
UID:10001594-1751104800-1751133600@utahcarczar.com
SUMMARY:Car Show and Food Drive
DESCRIPTION:Pre-registration: $10Day-of registration: $20(All entry fees go directly to the Utah Food Bank!)
URL:https://utahcarczar.com/event/car-show-and-food-drive/
LOCATION:Magna Copper Park\, 8975 W 2600 S\, Magna\, Utah\, 84044
CATEGORIES:Charity Car Show
ATTACH;FMTTYPE=image/png:https://utahcarczar.com/wp-content/uploads/2025/03/Utah-Car-Show-Icon-2.png
END:VEVENT
BEGIN:VEVENT
DTSTART;TZID=America/Denver:20250628T100000
DTEND;TZID=America/Denver:20250628T140000
DTSTAMP:20260422T000651
CREATED:20250623T032045Z
LAST-MODIFIED:20250623T032045Z
UID:10001638-1751104800-1751119200@utahcarczar.com
SUMMARY:Big Truckin' Car Show
DESCRIPTION:
URL:https://utahcarczar.com/event/big-truckin-car-show/
LOCATION:Cahone Park\, 52367 US-491\, Cahone\, Colorado\, 81324
CATEGORIES:Car Show
END:VEVENT
BEGIN:VEVENT
DTSTART;TZID=America/Denver:20250628T100000
DTEND;TZID=America/Denver:20250628T130000
DTSTAMP:20260422T000651
CREATED:20250430T053811Z
LAST-MODIFIED:20250430T053811Z
UID:10001504-1751104800-1751115600@utahcarczar.com
SUMMARY:Welsh Days Car Show
DESCRIPTION:
URL:https://utahcarczar.com/event/welsh-days-car-show/
LOCATION:Wales City Park\, 150 State St\, Wales\, UT\, 84667
CATEGORIES:Car Show
ATTACH;FMTTYPE=image/png:https://utahcarczar.com/wp-content/uploads/2025/03/Utah-Car-Show-Icon-2.png
END:VEVENT
END:VCALENDAR