BEGIN:VCALENDAR
VERSION:2.0
PRODID:-//Utah Car Czar - ECPv6.15.18//NONSGML v1.0//EN
CALSCALE:GREGORIAN
METHOD:PUBLISH
X-ORIGINAL-URL:https://utahcarczar.com
X-WR-CALDESC:Events for Utah Car Czar
REFRESH-INTERVAL;VALUE=DURATION:PT1H
X-Robots-Tag:noindex
X-PUBLISHED-TTL:PT1H
BEGIN:VTIMEZONE
TZID:America/Denver
BEGIN:DAYLIGHT
TZOFFSETFROM:-0700
TZOFFSETTO:-0600
TZNAME:MDT
DTSTART:20240310T090000
END:DAYLIGHT
BEGIN:STANDARD
TZOFFSETFROM:-0600
TZOFFSETTO:-0700
TZNAME:MST
DTSTART:20241103T080000
END:STANDARD
BEGIN:DAYLIGHT
TZOFFSETFROM:-0700
TZOFFSETTO:-0600
TZNAME:MDT
DTSTART:20250309T090000
END:DAYLIGHT
BEGIN:STANDARD
TZOFFSETFROM:-0600
TZOFFSETTO:-0700
TZNAME:MST
DTSTART:20251102T080000
END:STANDARD
BEGIN:DAYLIGHT
TZOFFSETFROM:-0700
TZOFFSETTO:-0600
TZNAME:MDT
DTSTART:20260308T090000
END:DAYLIGHT
BEGIN:STANDARD
TZOFFSETFROM:-0600
TZOFFSETTO:-0700
TZNAME:MST
DTSTART:20261101T080000
END:STANDARD
END:VTIMEZONE
BEGIN:VEVENT
DTSTART;TZID=America/Denver:20250628T100000
DTEND;TZID=America/Denver:20250628T120000
DTSTAMP:20260422T014225
CREATED:20250602T043811Z
LAST-MODIFIED:20250602T043811Z
UID:10001611-1751104800-1751112000@utahcarczar.com
SUMMARY:Geared Up Jamboree
DESCRIPTION:
URL:https://utahcarczar.com/event/geared-up-jamboree/
LOCATION:C-A-L Ranch – St. George\, 2849 E 850 N St\, St. George\, Utah\, 84790
CATEGORIES:Car Show
ATTACH;FMTTYPE=image/png:https://utahcarczar.com/wp-content/uploads/2020/09/CAL-Ranch-Logo.png
END:VEVENT
BEGIN:VEVENT
DTSTART;TZID=America/Denver:20250628T080000
DTEND;TZID=America/Denver:20250628T170000
DTSTAMP:20260422T014225
CREATED:20250623T040434Z
LAST-MODIFIED:20250623T040434Z
UID:10001643-1751097600-1751130000@utahcarczar.com
SUMMARY:BABSP Car Wash for A Cause
DESCRIPTION:All proceeds go to the Bikers Against Bullying Suicide Prevention for the continued fight against bullying and suicide.
URL:https://utahcarczar.com/event/babsp-car-wash-for-a-cause/
LOCATION:Serenity Park\, 214 N 2500 E\, Ballard\, Utah
CATEGORIES:Charity Car Show
END:VEVENT
BEGIN:VEVENT
DTSTART;TZID=America/Denver:20250628T080000
DTEND;TZID=America/Denver:20250628T150000
DTSTAMP:20260422T014225
CREATED:20250416T125615Z
LAST-MODIFIED:20250419T205115Z
UID:10000236-1751097600-1751122800@utahcarczar.com
SUMMARY:Old Capital Cruisers Car Show
DESCRIPTION:
URL:https://utahcarczar.com/event/old-capital-cruisers-car-show-fillmore/
LOCATION:Territorial Statehouse State Park Museum\, 50 W Capitol St\, Fillmore\, Utah\, 84631
CATEGORIES:Car Show
ATTACH;FMTTYPE=image/png:https://utahcarczar.com/wp-content/uploads/2025/03/Utah-Car-Show-Icon-1.png
END:VEVENT
BEGIN:VEVENT
DTSTART;TZID=America/Denver:20250628T080000
DTEND;TZID=America/Denver:20250628T100000
DTSTAMP:20260422T014225
CREATED:20250623T034328Z
LAST-MODIFIED:20250623T042407Z
UID:10001639-1751097600-1751104800@utahcarczar.com
SUMMARY:Grinds and Gears
DESCRIPTION:Kick off your weekend with Grinds & Gears at Young Powersports Logan! Join us every fourth Saturday of the month from 8 AM to 10 AM for an early-morning meet-up full of car limbo\, epic prizes\, tasty food\, games\, music\, and more. From SxSs and motorcycles to custom cars and classic builds\, if it’s got wheels\, it belongs here. Come out for great rides\, great vibes\, and an even better community. Don’t miss it!
URL:https://utahcarczar.com/event/grinds-and-gears/2025-06-28/
LOCATION:Young Powersports\, 1903 S 800 W Suite 2\, Logan\, Utah\, 84321
CATEGORIES:Car Show
ATTACH;FMTTYPE=image/jpeg:https://utahcarczar.com/wp-content/uploads/2025/06/Grinds-and-Gears-Saturday-Meet-2025.jpg
END:VEVENT
BEGIN:VEVENT
DTSTART;TZID=America/Denver:20250627T180000
DTEND;TZID=America/Denver:20250627T200000
DTSTAMP:20260422T014225
CREATED:20250624T053114Z
LAST-MODIFIED:20250624T053114Z
UID:10001645-1751047200-1751054400@utahcarczar.com
SUMMARY:Cruisin' for a Cause
DESCRIPTION:We are still hoping for volunteers for this event. Meal and raffle tickets with the purchase of a $10 registration. Our residents look forward to this event every year and all proceeds supplement their activity budget. Please come help ups support our seniors and make their day!
URL:https://utahcarczar.com/event/cruisin-for-a-cause-cascades-orchard-park/
LOCATION:Cascades at Orchard Park\, 740 N 300 E\, Orem
CATEGORIES:Charity Car Show
END:VEVENT
BEGIN:VEVENT
DTSTART;TZID=America/Denver:20250627T160000
DTEND;TZID=America/Denver:20250627T190000
DTSTAMP:20260422T014225
CREATED:20250419T213940Z
LAST-MODIFIED:20250419T213940Z
UID:10001469-1751040000-1751050800@utahcarczar.com
SUMMARY:Woody's Drive-In Cruise Night
DESCRIPTION:
URL:https://utahcarczar.com/event/woodys-drive-in-cruise-night/2025-06-27/
LOCATION:Woody’s Drive-In\, 6172 S 1300 E\, Murray\, Utah
CATEGORIES:Cruise Night
ATTACH;FMTTYPE=image/webp:https://utahcarczar.com/wp-content/uploads/2025/04/Woodys-Drive-In-Logo.webp
END:VEVENT
BEGIN:VEVENT
DTSTART;TZID=America/Denver:20250626T190000
DTEND;TZID=America/Denver:20250626T210000
DTSTAMP:20260422T014225
CREATED:20250408T050851Z
LAST-MODIFIED:20250408T051933Z
UID:10000278-1750964400-1750971600@utahcarczar.com
SUMMARY:Cars & Curry West Valley
DESCRIPTION:
URL:https://utahcarczar.com/event/cars-curry-west-valley/2025-06-26/
LOCATION:Curry Pizza – West Valley\, 2927 S 5600 W\, West Valley\, Utah\, 84120
CATEGORIES:Cars & Curry
ATTACH;FMTTYPE=image/png:https://utahcarczar.com/wp-content/uploads/2025/04/Curry-Pizza-West-Valley-Logo.png
END:VEVENT
BEGIN:VEVENT
DTSTART;TZID=America/Denver:20250625T190000
DTEND;TZID=America/Denver:20250625T210000
DTSTAMP:20260422T014225
CREATED:20250418T050441Z
LAST-MODIFIED:20250418T050442Z
UID:10000217-1750878000-1750885200@utahcarczar.com
SUMMARY:Cars & Curry Lehi
DESCRIPTION:
URL:https://utahcarczar.com/event/cars-curry-lehi-2/2025-06-25/
LOCATION:Curry Pizza\, 2450 Executive Pkwy #150\, Lehi\, Utah
CATEGORIES:Cars & Curry
ATTACH;FMTTYPE=image/png:https://utahcarczar.com/wp-content/uploads/2025/04/Curry-Pizza-Lehi-Logo.png
END:VEVENT
BEGIN:VEVENT
DTSTART;TZID=America/Denver:20250622T110000
DTEND;TZID=America/Denver:20250622T160000
DTSTAMP:20260422T014225
CREATED:20250616T061338Z
LAST-MODIFIED:20250616T061338Z
UID:10001629-1750590000-1750608000@utahcarczar.com
SUMMARY:Ride for Life
DESCRIPTION:1st annual Ride-For-Life Car\, Truck\, ATV and Motorcycle show benefitting Make-A-Wish Utah. All proceeds are used locally for kids and families in need. Join us for a great time and enjoy food at Salsa Leedos Mexican Grill.
URL:https://utahcarczar.com/event/ride-for-life/
LOCATION:Salsa Leedos\, 13298 S Market Center Dr\, Riverton\, Utah\, 84065
CATEGORIES:Charity Car Show
ATTACH;FMTTYPE=image/png:https://utahcarczar.com/wp-content/uploads/2025/06/Salsa-Leedos-Mexican-Grill-Logo.png
END:VEVENT
BEGIN:VEVENT
DTSTART;TZID=America/Denver:20250622T110000
DTEND;TZID=America/Denver:20250622T160000
DTSTAMP:20260422T014225
CREATED:20250616T010547Z
LAST-MODIFIED:20250616T010547Z
UID:10001626-1750590000-1750608000@utahcarczar.com
SUMMARY:DDP Presents Pin-Ups and Chrome Car Truck and Bike Show
DESCRIPTION:Dottie’s Dames Pinups presents Pin-Ups & Chrome Car\, Truck and Bike Show! Fun for the entire community! This All ages event is Sunday June 22nd\, at Les Schwab in Murray! (4355 S State St\, Murray UT) \nAll vehicles – Free Registration! \nPin-up contest at 1pm! ( must be 18+) \nVendors and more!!! \nVisit dottiesdamespinups.org for details and registration! 💋
URL:https://utahcarczar.com/event/ddp-presents-pin-ups-and-chrome-car-truck-and-bike-show/
LOCATION:Les Schwab Murray\, 4355 s State Street\, Murray
CATEGORIES:Car Show
ATTACH;FMTTYPE=image/jpeg:https://utahcarczar.com/wp-content/uploads/2023/05/Dotties-Dames-Logo.jpg
END:VEVENT
BEGIN:VEVENT
DTSTART;TZID=America/Denver:20250621T160000
DTEND;TZID=America/Denver:20250621T200000
DTSTAMP:20260422T014225
CREATED:20250416T125513Z
LAST-MODIFIED:20250616T005349Z
UID:10000142-1750521600-1750536000@utahcarczar.com
SUMMARY:OMR South Ogden Days Car Show
DESCRIPTION:
URL:https://utahcarczar.com/event/south-ogden-days-car-show/
LOCATION:South Ogden Friendship Park\, 5500 S 650 E\, South Ogden\, Utah
CATEGORIES:Car Show
ATTACH;FMTTYPE=image/png:https://utahcarczar.com/wp-content/uploads/2024/07/OMR-gold-logo-.png
END:VEVENT
BEGIN:VEVENT
DTSTART;TZID=America/Denver:20250621T100000
DTEND;TZID=America/Denver:20250621T150000
DTSTAMP:20260422T014225
CREATED:20250425T051415Z
LAST-MODIFIED:20250608T215514Z
UID:10001486-1750500000-1750518000@utahcarczar.com
SUMMARY:Coalville City Fender Fest
DESCRIPTION:
URL:https://utahcarczar.com/event/coalville-city-fender-fest/
LOCATION:Coalville City Fender Fest\, Main Street\, Coalville
CATEGORIES:Car Show
ATTACH;FMTTYPE=image/png:https://utahcarczar.com/wp-content/uploads/2024/04/Coalville-UT-Logo.png
END:VEVENT
BEGIN:VEVENT
DTSTART;TZID=America/Denver:20250621T090000
DTEND;TZID=America/Denver:20250621T140000
DTSTAMP:20260422T014225
CREATED:20250608T224021Z
LAST-MODIFIED:20250608T224021Z
UID:10001617-1750496400-1750514400@utahcarczar.com
SUMMARY:Genola Days Car Show
DESCRIPTION:3rd annual Genola days Free car show! Trophies cash giveaway’s\, have your kids vote on there favorite car for the kids choice trophy\, fun and free for the whole family.
URL:https://utahcarczar.com/event/genola-days-car-show/
LOCATION:Genola Town Park\, 800 S Main Street\, Genola\, Utah
CATEGORIES:Car Show
ATTACH;FMTTYPE=image/png:https://utahcarczar.com/wp-content/uploads/2025/06/Genola-Utah-Logo.png
END:VEVENT
BEGIN:VEVENT
DTSTART;TZID=America/Denver:20250621T090000
DTEND;TZID=America/Denver:20250621T140000
DTSTAMP:20260422T014225
CREATED:20250416T125616Z
LAST-MODIFIED:20250419T182709Z
UID:10000316-1750496400-1750514400@utahcarczar.com
SUMMARY:Bennion Veterans Home Car Show
DESCRIPTION:
URL:https://utahcarczar.com/event/bennion-veterans-home-car-show/
LOCATION:Bennion Veterans Home\, 1551 N Main St\, Payson\, Utah\, 84651
CATEGORIES:Car Show
ATTACH;FMTTYPE=image/png:https://utahcarczar.com/wp-content/uploads/2022/05/Bennion-VECTOR.png
END:VEVENT
BEGIN:VEVENT
DTSTART;TZID=America/Denver:20250620T190000
DTEND;TZID=America/Denver:20250620T210000
DTSTAMP:20260422T014225
CREATED:20250611T060229Z
LAST-MODIFIED:20250611T060256Z
UID:10001516-1750446000-1750453200@utahcarczar.com
SUMMARY:Cars and Shakes Riverdale
DESCRIPTION:
URL:https://utahcarczar.com/event/cars-and-shakes-riverdale-june-2025/
LOCATION:Dutch Bros\, 4177 Riverdale Road\, Riverdale\, Utah\, 84405
CATEGORIES:Cruise Night
ATTACH;FMTTYPE=image/png:https://utahcarczar.com/wp-content/uploads/2025/03/Dutch-Bros-Logo.png
END:VEVENT
BEGIN:VEVENT
DTSTART;TZID=America/Denver:20250620T170000
DTEND;TZID=America/Denver:20250620T200000
DTSTAMP:20260422T014225
CREATED:20250525T223116Z
LAST-MODIFIED:20250525T223116Z
UID:10001588-1750438800-1750449600@utahcarczar.com
SUMMARY:Tiny Tim's Foundation for Kids Car Show
DESCRIPTION:Come on out and have some fun with Classic\, Cool\, Original\, Fast and even Toy Cars. Support Tiny Tim’s with a night of cars\, games\, free Domino’s Pizza\, Auction and Boutique. What we do is important to the community\, children and the world. We’d love to see you there.
URL:https://utahcarczar.com/event/tiny-tims-foundation-for-kids-car-show/
LOCATION:Tiny Tim’s Foundation for Kids\, 6818 S AIRPORT RD\, WEST JORDAN
CATEGORIES:Charity Car Show
ATTACH;FMTTYPE=image/png:https://utahcarczar.com/wp-content/uploads/2025/05/Logo-1.png
END:VEVENT
BEGIN:VEVENT
DTSTART;TZID=America/Denver:20250620T170000
DTEND;TZID=America/Denver:20250620T200000
DTSTAMP:20260422T014225
CREATED:20250518T161858Z
LAST-MODIFIED:20250518T161858Z
UID:10001577-1750438800-1750449600@utahcarczar.com
SUMMARY:Treeo 10th Anniversary Classic Car Show & Food Truck Rally
DESCRIPTION:
URL:https://utahcarczar.com/event/treeo-senior-living-annual-car-show/
LOCATION:Treeo Senior Living\, 6086 S. Ridgeline Dr\, South Ogden
CATEGORIES:Car Show
ATTACH;FMTTYPE=image/jpeg:https://utahcarczar.com/wp-content/uploads/2025/05/Treeo_Senior_Living.jpg
END:VEVENT
BEGIN:VEVENT
DTSTART;TZID=America/Denver:20250620T080000
DTEND;TZID=America/Denver:20250622T150000
DTSTAMP:20260422T014225
CREATED:20250525T224432Z
LAST-MODIFIED:20250525T224432Z
UID:10001592-1750406400-1750604400@utahcarczar.com
SUMMARY:Antique Power Show
DESCRIPTION:Description of show: \nJoin us for the 23rd Annual Antique Power Show hosted by the Richard W. Erickson Foundation — a three-day celebration of American ingenuity\, Utah’s agricultural roots\, and the machines that powered generations. From roaring engines to hands-on history\, this event is packed with one-of-a-kind experiences for all ages. \nExplore the evolution of power with up-close encounters of tractors\, engines\, working scale models\, and rare mechanical innovations. Watch history come to life with live demonstrations you won’t find anywhere else: a belt-driven sawmill\, a working blacksmith forge\, hit & miss engines\, tractor pulls\, and a thrilling cyclekart rally. \nWhen the sun sets\, stay for the live music\, mouthwatering food\, and good company under the Wasatch Mountain sky. Whether you roll in with an RV or pitch a tent\, there’s space for the whole family — bikes\, scooters\, and all.
URL:https://utahcarczar.com/event/antique-power-show/
LOCATION:Richard W. Ericson Antique and Classic Power Museum\, 50 Starks Lane\, Wallsburg\, Utah 84082\, Wallsburg\, UT
CATEGORIES:Car Show
ATTACH;FMTTYPE=image/png:https://utahcarczar.com/wp-content/uploads/2025/05/Richard-W.-Ericson-Antique-and-Classic-Power-Museum-Logo.png
END:VEVENT
BEGIN:VEVENT
DTSTART;TZID=America/Denver:20250619T190000
DTEND;TZID=America/Denver:20250619T210000
DTSTAMP:20260422T014225
CREATED:20250408T050851Z
LAST-MODIFIED:20250408T051933Z
UID:10000277-1750359600-1750366800@utahcarczar.com
SUMMARY:Cars & Curry West Valley
DESCRIPTION:
URL:https://utahcarczar.com/event/cars-curry-west-valley/2025-06-19/
LOCATION:Curry Pizza – West Valley\, 2927 S 5600 W\, West Valley\, Utah\, 84120
CATEGORIES:Cars & Curry
ATTACH;FMTTYPE=image/png:https://utahcarczar.com/wp-content/uploads/2025/04/Curry-Pizza-West-Valley-Logo.png
END:VEVENT
BEGIN:VEVENT
DTSTART;TZID=America/Denver:20250619T180000
DTEND;TZID=America/Denver:20250619T210000
DTSTAMP:20260422T014225
CREATED:20250416T132515Z
LAST-MODIFIED:20250507T050231Z
UID:10001524-1750356000-1750366800@utahcarczar.com
SUMMARY:Firehouse Pizza Cruise Night
DESCRIPTION:
URL:https://utahcarczar.com/event/firehouse-pizza-cruise-night/2025-06-19/
LOCATION:Firehouse Pizza\, 646 S Main St\, Brigham City\, Utah\, 84302
CATEGORIES:Cruise Night
ATTACH;FMTTYPE=image/png:https://utahcarczar.com/wp-content/uploads/2022/03/Firehouse-Pizzeria-Logo.png
END:VEVENT
BEGIN:VEVENT
DTSTART;TZID=America/Denver:20250619T180000
DTEND;TZID=America/Denver:20250619T210000
DTSTAMP:20260422T014225
CREATED:20250414T043425Z
LAST-MODIFIED:20250419T190010Z
UID:10000305-1750356000-1750366800@utahcarczar.com
SUMMARY:Fiiz Drinks Cruise Nights
DESCRIPTION:
URL:https://utahcarczar.com/event/fiiz-drinks-cruise-nights/2025-06-19/
LOCATION:Fiiz Drinks\, 623 N UT-198\, Salem\, Utah\, 84653
CATEGORIES:Cruise Night
ATTACH;FMTTYPE=image/jpeg:https://utahcarczar.com/wp-content/uploads/2025/04/Fiiz-Drinks-Logo.jpg
END:VEVENT
BEGIN:VEVENT
DTSTART;TZID=America/Denver:20250619T180000
DTEND;TZID=America/Denver:20250619T180000
DTSTAMP:20260422T014225
CREATED:20250331T062257Z
LAST-MODIFIED:20250416T131635Z
UID:10000111-1750356000-1750356000@utahcarczar.com
SUMMARY:Phillips 66 Cruise
DESCRIPTION:Cruise to a new location every month.
URL:https://utahcarczar.com/event/phillips-66-cruise/2025-06-19/
LOCATION:Phillips 66\, 527 S 700 W\, Woods Cross\, Utah\, 84087
CATEGORIES:Cruise Night
ATTACH;FMTTYPE=image/png:https://utahcarczar.com/wp-content/uploads/2025/03/Phillips_66_logo.png
END:VEVENT
BEGIN:VEVENT
DTSTART;TZID=America/Denver:20250618T190000
DTEND;TZID=America/Denver:20250618T210000
DTSTAMP:20260422T014225
CREATED:20250418T050441Z
LAST-MODIFIED:20250418T050442Z
UID:10000216-1750273200-1750280400@utahcarczar.com
SUMMARY:Cars & Curry Lehi
DESCRIPTION:
URL:https://utahcarczar.com/event/cars-curry-lehi-2/2025-06-18/
LOCATION:Curry Pizza\, 2450 Executive Pkwy #150\, Lehi\, Utah
CATEGORIES:Cars & Curry
ATTACH;FMTTYPE=image/png:https://utahcarczar.com/wp-content/uploads/2025/04/Curry-Pizza-Lehi-Logo.png
END:VEVENT
BEGIN:VEVENT
DTSTART;TZID=America/Denver:20250615T113000
DTEND;TZID=America/Denver:20250615T170000
DTSTAMP:20260422T014225
CREATED:20250608T224838Z
LAST-MODIFIED:20250608T224838Z
UID:10001619-1749987000-1750006800@utahcarczar.com
SUMMARY:Juneteenth Fathers Day 25th Street Car Show Off
DESCRIPTION:Bike\, and Pedal Car
URL:https://utahcarczar.com/event/juneteenth-fathers-day-25th-street-car-show-off/
LOCATION:Ogden Amphitheater\, 343 25TH STREET\, Ogden
CATEGORIES:Car Show
ATTACH;FMTTYPE=image/jpeg:https://utahcarczar.com/wp-content/uploads/2025/04/Downtown-Ogden-Historic-25th-Logo.jpg
END:VEVENT
BEGIN:VEVENT
DTSTART;TZID=America/Denver:20250614T183000
DTEND;TZID=America/Denver:20250614T203000
DTSTAMP:20260422T014225
CREATED:20250608T230139Z
LAST-MODIFIED:20250608T230139Z
UID:10001621-1749925800-1749933000@utahcarczar.com
SUMMARY:Cars for a Cause - Loveland Aquarium
DESCRIPTION:Aquarium parking lot is reserved for car show participants. The public may park in the business parking lot just to the north of the Aquarium.
URL:https://utahcarczar.com/event/cars-for-a-cause-loveland-aquarium/
LOCATION:Loveland Living Planet Aquarium\, 12033 Lone Peak Pkwy\, Draper
CATEGORIES:Charity Car Show
ATTACH;FMTTYPE=image/jpeg:https://utahcarczar.com/wp-content/uploads/2025/06/IMG_7701.jpeg
END:VEVENT
BEGIN:VEVENT
DTSTART;TZID=America/Denver:20250614T170000
DTEND;TZID=America/Denver:20250615T210000
DTSTAMP:20260422T014225
CREATED:20250608T224452Z
LAST-MODIFIED:20250608T224452Z
UID:10001618-1749920400-1750021200@utahcarczar.com
SUMMARY:Bountiful Rotary “Coats for Kids” Car Show
DESCRIPTION:
URL:https://utahcarczar.com/event/bountiful-rotary-coats-for-kids-car-show/
LOCATION:Bountiful Main Street\, Bountiful Main Street\, Bountiful
CATEGORIES:Charity Car Show
ATTACH;FMTTYPE=image/png:https://utahcarczar.com/wp-content/uploads/2022/09/car-show-logo.png
END:VEVENT
BEGIN:VEVENT
DTSTART;TZID=America/Denver:20250614T140000
DTEND;TZID=America/Denver:20250614T170000
DTSTAMP:20260422T014225
CREATED:20250525T224128Z
LAST-MODIFIED:20250525T224128Z
UID:10001591-1749909600-1749920400@utahcarczar.com
SUMMARY:C10 Club Utah Ice Cream Social
DESCRIPTION:
URL:https://utahcarczar.com/event/c10-club-utah-ice-cream-social/
LOCATION:Snelgroves Ice Cream\, 4243 Orinda Lane\, Lehi
CATEGORIES:Cruise Night
ATTACH;FMTTYPE=image/jpeg:https://utahcarczar.com/wp-content/uploads/2023/05/utah-c10-club.jpg
END:VEVENT
BEGIN:VEVENT
DTSTART;TZID=America/Denver:20250614T133000
DTEND;TZID=America/Denver:20250614T150000
DTSTAMP:20260422T014225
CREATED:20250430T053300Z
LAST-MODIFIED:20250430T053300Z
UID:10001503-1749907800-1749913200@utahcarczar.com
SUMMARY:Whisper Cove Fathers Day Car Show
DESCRIPTION:
URL:https://utahcarczar.com/event/whisper-cove-fathers-day-car-show/
LOCATION:Whisper Cove Assisted Living\, 725 S. Main Street\, Kaysville\, UT
CATEGORIES:Car Show
ATTACH;FMTTYPE=image/png:https://utahcarczar.com/wp-content/uploads/2025/04/Whisper-Cover-Logo.png
END:VEVENT
BEGIN:VEVENT
DTSTART;TZID=America/Denver:20250614T120000
DTEND;TZID=America/Denver:20250614T150000
DTSTAMP:20260422T014225
CREATED:20250601T223430Z
LAST-MODIFIED:20250601T223612Z
UID:10001600-1749902400-1749913200@utahcarczar.com
SUMMARY:Saratoga Splash Car Show
DESCRIPTION:
URL:https://utahcarczar.com/event/saratoga-splash-car-show/
LOCATION:Neptune Park\, 452 W 400 N\, Saratoga Springs
CATEGORIES:Car Show
ATTACH;FMTTYPE=image/png:https://utahcarczar.com/wp-content/uploads/2020/05/saratoga-springs-UT-logo.png
END:VEVENT
BEGIN:VEVENT
DTSTART;TZID=America/Denver:20250614T100000
DTEND;TZID=America/Denver:20250614T150000
DTSTAMP:20260422T014225
CREATED:20250608T223351Z
LAST-MODIFIED:20250608T223351Z
UID:10001615-1749895200-1749913200@utahcarczar.com
SUMMARY:Sevier Valley Veterans Car Show
DESCRIPTION:
URL:https://utahcarczar.com/event/sevier-valley-veterans-car-show/
LOCATION:Richfield City Park\, 98 East 400 North\, Richfield
CATEGORIES:Car Show
ATTACH;FMTTYPE=image/png:https://utahcarczar.com/wp-content/uploads/2025/03/Utah-Car-Show-Icon-1.png
END:VEVENT
END:VCALENDAR