BEGIN:VCALENDAR
VERSION:2.0
PRODID:-//Utah Car Czar - ECPv6.15.18//NONSGML v1.0//EN
CALSCALE:GREGORIAN
METHOD:PUBLISH
X-WR-CALNAME:Utah Car Czar
X-ORIGINAL-URL:https://utahcarczar.com
X-WR-CALDESC:Events for Utah Car Czar
REFRESH-INTERVAL;VALUE=DURATION:PT1H
X-Robots-Tag:noindex
X-PUBLISHED-TTL:PT1H
BEGIN:VTIMEZONE
TZID:America/Denver
BEGIN:DAYLIGHT
TZOFFSETFROM:-0700
TZOFFSETTO:-0600
TZNAME:MDT
DTSTART:20240310T090000
END:DAYLIGHT
BEGIN:STANDARD
TZOFFSETFROM:-0600
TZOFFSETTO:-0700
TZNAME:MST
DTSTART:20241103T080000
END:STANDARD
BEGIN:DAYLIGHT
TZOFFSETFROM:-0700
TZOFFSETTO:-0600
TZNAME:MDT
DTSTART:20250309T090000
END:DAYLIGHT
BEGIN:STANDARD
TZOFFSETFROM:-0600
TZOFFSETTO:-0700
TZNAME:MST
DTSTART:20251102T080000
END:STANDARD
BEGIN:DAYLIGHT
TZOFFSETFROM:-0700
TZOFFSETTO:-0600
TZNAME:MDT
DTSTART:20260308T090000
END:DAYLIGHT
BEGIN:STANDARD
TZOFFSETFROM:-0600
TZOFFSETTO:-0700
TZNAME:MST
DTSTART:20261101T080000
END:STANDARD
BEGIN:DAYLIGHT
TZOFFSETFROM:-0700
TZOFFSETTO:-0600
TZNAME:MDT
DTSTART:20270314T090000
END:DAYLIGHT
BEGIN:STANDARD
TZOFFSETFROM:-0600
TZOFFSETTO:-0700
TZNAME:MST
DTSTART:20271107T080000
END:STANDARD
END:VTIMEZONE
BEGIN:VEVENT
DTSTART;TZID=America/Denver:20260418T110000
DTEND;TZID=America/Denver:20260418T150000
DTSTAMP:20260422T085631
CREATED:20260301T200152Z
LAST-MODIFIED:20260301T200540Z
UID:10002054-1776510000-1776524400@utahcarczar.com
SUMMARY:Car Show for Murray Children's Pantry
DESCRIPTION:
URL:https://utahcarczar.com/event/car-show-for-murray-childrens-pantry/
LOCATION:Liberty Park\, 600 Harvey Milk Blvd\, Salt Lake City\, Utah\, 84105
CATEGORIES:Charity Car Show
ATTACH;FMTTYPE=image/png:https://utahcarczar.com/wp-content/uploads/2022/04/241664901_542521440412532_5984518428803894701_n.png
END:VEVENT
BEGIN:VEVENT
DTSTART;TZID=America/Denver:20260411T150000
DTEND;TZID=America/Denver:20260411T180000
DTSTAMP:20260422T085631
CREATED:20250416T125457Z
LAST-MODIFIED:20260401T055605Z
UID:10000907-1775919600-1775930400@utahcarczar.com
SUMMARY:Easter Cruise
DESCRIPTION:
URL:https://utahcarczar.com/event/easter-cruise/
LOCATION:Oquirrh Elementary School\, 7165 S 3285 W\, West Jordan\, Utah\, 84084
CATEGORIES:Cruise
ATTACH;FMTTYPE=image/png:https://utahcarczar.com/wp-content/uploads/2025/05/2026-Car-Show-Icon-2.png
END:VEVENT
BEGIN:VEVENT
DTSTART;TZID=America/Denver:20260321T110000
DTEND;TZID=America/Denver:20260321T150000
DTSTAMP:20260422T085631
CREATED:20250325T202809Z
LAST-MODIFIED:20260301T195630Z
UID:10000099-1774090800-1774105200@utahcarczar.com
SUMMARY:Community Easter Hunt
DESCRIPTION:11am Car Show \nSpecial Need Hunt at 1pm \nMain Hunt at 2p \nFree to ages 0-18. Donations are accepted and appreciated\, including plastic filled eggs or a donation to buy a bike.
URL:https://utahcarczar.com/event/community-easter-hunt/
LOCATION:Gary C. Swensen Valley Regional Park\, 5100 S 2700 W\, Taylorsville\, UT
CATEGORIES:Car Show
ATTACH;FMTTYPE=image/png:https://utahcarczar.com/wp-content/uploads/2022/04/241664901_542521440412532_5984518428803894701_n.png
END:VEVENT
BEGIN:VEVENT
DTSTART;TZID=America/Denver:20251125T110000
DTEND;TZID=America/Denver:20251125T190000
DTSTAMP:20260422T085631
CREATED:20251104T224319Z
LAST-MODIFIED:20251119T001710Z
UID:10001820-1764068400-1764097200@utahcarczar.com
SUMMARY:Candy Cane Corner Lindon
DESCRIPTION:
URL:https://utahcarczar.com/event/candy-cane-corner-les-schwab-lindon/
LOCATION:Les Schwab Lindon\, 589 Lindon Park Drive\, Lindon\, Utah
CATEGORIES:Car Show
ATTACH;FMTTYPE=image/png:https://utahcarczar.com/wp-content/uploads/2025/11/candy-cane-corner-logo-utah.png
END:VEVENT
BEGIN:VEVENT
DTSTART;TZID=America/Denver:20251121T110000
DTEND;TZID=America/Denver:20251121T190000
DTSTAMP:20260422T085631
CREATED:20251104T224159Z
LAST-MODIFIED:20251104T224229Z
UID:10001819-1763722800-1763751600@utahcarczar.com
SUMMARY:Candy Cane Corner Kaysville
DESCRIPTION:
URL:https://utahcarczar.com/event/candy-cane-corner-les-schwab-kaysville/
LOCATION:Les Schwab Kaysville\, 251 N 400 W\, Kaysville\, Utah
CATEGORIES:Car Show
ATTACH;FMTTYPE=image/png:https://utahcarczar.com/wp-content/uploads/2025/11/candy-cane-corner-logo-utah.png
END:VEVENT
BEGIN:VEVENT
DTSTART;TZID=America/Denver:20251114T110000
DTEND;TZID=America/Denver:20251114T190000
DTSTAMP:20260422T085631
CREATED:20251104T224053Z
LAST-MODIFIED:20251104T224053Z
UID:10001818-1763118000-1763146800@utahcarczar.com
SUMMARY:Candy Cane Corner Ogden
DESCRIPTION:
URL:https://utahcarczar.com/event/candy-cane-corner-ogden/
LOCATION:Les Schwab Ogden\, 268 W 12th Street\, Ogden\, Utah
CATEGORIES:Car Show
ATTACH;FMTTYPE=image/png:https://utahcarczar.com/wp-content/uploads/2025/11/candy-cane-corner-logo-utah.png
END:VEVENT
BEGIN:VEVENT
DTSTART;TZID=America/Denver:20251107T110000
DTEND;TZID=America/Denver:20251107T180000
DTSTAMP:20260422T085631
CREATED:20251104T045452Z
LAST-MODIFIED:20251104T223907Z
UID:10001812-1762513200-1762538400@utahcarczar.com
SUMMARY:Candy Cane Corner South Jordan
DESCRIPTION:
URL:https://utahcarczar.com/event/candy-cane-corner-les-schwab-nov-7/
LOCATION:Les Schwab South Jordan\, 10532s. Redwood Road\, South Jordan\, UT
CATEGORIES:Car Show
ATTACH;FMTTYPE=image/png:https://utahcarczar.com/wp-content/uploads/2025/11/candy-cane-corner-logo-utah.png
END:VEVENT
BEGIN:VEVENT
DTSTART;TZID=America/Denver:20251025T110000
DTEND;TZID=America/Denver:20251025T150000
DTSTAMP:20260422T085631
CREATED:20251006T040827Z
LAST-MODIFIED:20251006T040827Z
UID:10001798-1761390000-1761404400@utahcarczar.com
SUMMARY:Trunk or Treat Halloween Celebration
DESCRIPTION:We invite anyone to come out and decorate your ride a table or Canopy to hand out treats for the little ones. There will be Music\, Games\, Toys\, Candy\, Bounce House\, Raffles\, Food \, and spooky Awards.
URL:https://utahcarczar.com/event/trunk-or-treat-halloween-celebration/
LOCATION:Premier Computing\, 11456 Temple Dr\, South Jordan\, Utah\, 84095
CATEGORIES:Trunk or Treat
ATTACH;FMTTYPE=image/png:https://utahcarczar.com/wp-content/uploads/2022/04/241664901_542521440412532_5984518428803894701_n.png
END:VEVENT
BEGIN:VEVENT
DTSTART;TZID=America/Denver:20250926T170000
DTEND;TZID=America/Denver:20250926T190000
DTSTAMP:20260422T085631
CREATED:20250921T220738Z
LAST-MODIFIED:20250921T220738Z
UID:10001782-1758906000-1758913200@utahcarczar.com
SUMMARY:Schoolyard Mentor Bash & Car Show
DESCRIPTION:Free and open to all.
URL:https://utahcarczar.com/event/schoolyard-mentor-bash-car-show/
LOCATION:South Kearns Elementary School\, 5500 S 4385 W\, Kearns\, Utah\, 84118
CATEGORIES:Car Show
ATTACH;FMTTYPE=image/png:https://utahcarczar.com/wp-content/uploads/2022/04/241664901_542521440412532_5984518428803894701_n.png
END:VEVENT
BEGIN:VEVENT
DTSTART;TZID=America/Denver:20250918T163000
DTEND;TZID=America/Denver:20250918T180000
DTSTAMP:20260422T085631
CREATED:20250416T125536Z
LAST-MODIFIED:20250908T214424Z
UID:10000729-1758213000-1758218400@utahcarczar.com
SUMMARY:Cottonwood Creek Senior Living Car Show
DESCRIPTION:Free meal with registration.
URL:https://utahcarczar.com/event/cottonwood-creek-senior-living-car-show/
LOCATION:Cottonwood Creek Senior Living\, 1245 E Murray Holladay Rd\, Salt Lake City\, Utah\, 84117
CATEGORIES:Car Show
ATTACH;FMTTYPE=image/webp:https://utahcarczar.com/wp-content/uploads/2023/09/Cottonwood-Creek-Senior-Living-Logo.webp
END:VEVENT
BEGIN:VEVENT
DTSTART;TZID=America/Denver:20250913T170000
DTEND;TZID=America/Denver:20250913T190000
DTSTAMP:20260422T085631
CREATED:20250416T125421Z
LAST-MODIFIED:20250902T171849Z
UID:10001084-1757782800-1757790000@utahcarczar.com
SUMMARY:Rumble On Car Parade
DESCRIPTION:Meet at 5pm\, rollout at 6pm
URL:https://utahcarczar.com/event/rumble-on-car-parade/
LOCATION:Sandy Church House\, 9824 Flint Dr\, Sandy\, Utah\, 84094
CATEGORIES:Cruise
ATTACH;FMTTYPE=image/png:https://utahcarczar.com/wp-content/uploads/2022/04/241664901_542521440412532_5984518428803894701_n.png
END:VEVENT
BEGIN:VEVENT
DTSTART;TZID=America/Denver:20250911T170000
DTEND;TZID=America/Denver:20250911T200000
DTSTAMP:20260422T085631
CREATED:20250509T024206Z
LAST-MODIFIED:20250509T024206Z
UID:10001537-1757610000-1757620800@utahcarczar.com
SUMMARY:Midtown Manor Car Show
DESCRIPTION:Free show for Everyone
URL:https://utahcarczar.com/event/midtown-manor-car-show/
LOCATION:Midtown Manor\, 125s.900w\, Salt lake
CATEGORIES:Cruise Night
ATTACH;FMTTYPE=image/png:https://utahcarczar.com/wp-content/uploads/2022/04/241664901_542521440412532_5984518428803894701_n.png
END:VEVENT
BEGIN:VEVENT
DTSTART;TZID=America/Denver:20250829T160000
DTEND;TZID=America/Denver:20250829T190000
DTSTAMP:20260422T085631
CREATED:20250818T054533Z
LAST-MODIFIED:20250818T054710Z
UID:10001736-1756483200-1756494000@utahcarczar.com
SUMMARY:Sandy Health and Rehab Car Show
DESCRIPTION:Free registration. \nFree hot dogs and root beer floats!
URL:https://utahcarczar.com/event/sandy-health-and-rehab-car-show/
LOCATION:Sandy Health & Rehab\, 50 E 9000 S\, Sandy\, Utah\, 84070
CATEGORIES:Car Show
ATTACH;FMTTYPE=image/png:https://utahcarczar.com/wp-content/uploads/2022/04/241664901_542521440412532_5984518428803894701_n.png
END:VEVENT
BEGIN:VEVENT
DTSTART;TZID=America/Denver:20250823T160000
DTEND;TZID=America/Denver:20250823T200000
DTSTAMP:20260422T085631
CREATED:20250518T163642Z
LAST-MODIFIED:20250722T045027Z
UID:10001583-1755964800-1755979200@utahcarczar.com
SUMMARY:Last Blast of Summer Car Show
DESCRIPTION:Fun for the whole family food games music and lots of Vendors and fireworks at the end of the night
URL:https://utahcarczar.com/event/last-blast-of-summer-car-show-white-city/
LOCATION:Big Bear Park\, 9708 S. Poppy lane\, Sandy\, Utah
CATEGORIES:Car Show
ATTACH;FMTTYPE=image/png:https://utahcarczar.com/wp-content/uploads/2022/06/White-City-Logo.png
END:VEVENT
BEGIN:VEVENT
DTSTART;TZID=America/Denver:20250809T170000
DTEND;TZID=America/Denver:20250809T200000
DTSTAMP:20260422T085631
CREATED:20250722T034717Z
LAST-MODIFIED:20250806T140816Z
UID:10001714-1754758800-1754769600@utahcarczar.com
SUMMARY:Kearns Day Car Show
DESCRIPTION:
URL:https://utahcarczar.com/event/kearns-day-car-show/
LOCATION:Oquirrh Park\, 4950 S. Ed Mayne lane\, Kearns\, Utah
CATEGORIES:Car Show
ATTACH;FMTTYPE=image/png:https://utahcarczar.com/wp-content/uploads/2022/04/241664901_542521440412532_5984518428803894701_n.png
END:VEVENT
BEGIN:VEVENT
DTSTART;TZID=America/Denver:20250805T180000
DTEND;TZID=America/Denver:20250805T210000
DTSTAMP:20260422T085631
CREATED:20250722T034020Z
LAST-MODIFIED:20250722T034020Z
UID:10001713-1754416800-1754427600@utahcarczar.com
SUMMARY:Night Out Against Crime and Rolling Car Show
DESCRIPTION:Food trucks\, music\, games\, bounce houses & slides.
URL:https://utahcarczar.com/event/night-out-against-crime-and-rolling-car-show/
LOCATION:Big Cottonwood Regional Park\, 4300 S 1300 E\, Millcreek\, Utah\, 84117
CATEGORIES:Car Show
ATTACH;FMTTYPE=image/png:https://utahcarczar.com/wp-content/uploads/2022/04/241664901_542521440412532_5984518428803894701_n.png
END:VEVENT
BEGIN:VEVENT
DTSTART;TZID=America/Denver:20250723T190000
DTEND;TZID=America/Denver:20250723T190000
DTSTAMP:20260422T085631
CREATED:20250722T033517Z
LAST-MODIFIED:20250722T033541Z
UID:10001712-1753297200-1753297200@utahcarczar.com
SUMMARY:State Street Cruise
DESCRIPTION:Rollout at 7:10p
URL:https://utahcarczar.com/event/state-street-cruise/
LOCATION:Reams\, 2783 S State St\, South Salt Lake\, Utah\, 84115
CATEGORIES:Cruise
ATTACH;FMTTYPE=image/png:https://utahcarczar.com/wp-content/uploads/2022/04/241664901_542521440412532_5984518428803894701_n.png
END:VEVENT
BEGIN:VEVENT
DTSTART;TZID=America/Denver:20250711T170000
DTEND;TZID=America/Denver:20250711T200000
DTSTAMP:20260422T085631
CREATED:20250512T045330Z
LAST-MODIFIED:20250512T045330Z
UID:10001559-1752253200-1752264000@utahcarczar.com
SUMMARY:Copper Creek Senior Living Cruise Night
DESCRIPTION:Veterans car show! Veterans get to chose their favorite vehicles for awards. \nFree Registration and Free Meal to car owners
URL:https://utahcarczar.com/event/copper-creek-senior-living-cruise-night/
LOCATION:Coppercreek Senior Living\, 10569 s.River Heights Dr.\, South Jordan
CATEGORIES:Cruise Night
ATTACH;FMTTYPE=image/jpeg:https://utahcarczar.com/wp-content/uploads/2023/07/Copper-Creek-Senior-Living-Logo.jpg
END:VEVENT
BEGIN:VEVENT
DTSTART;TZID=America/Denver:20250627T170000
DTEND;TZID=America/Denver:20250627T200000
DTSTAMP:20260422T085631
CREATED:20250416T125535Z
LAST-MODIFIED:20250507T050237Z
UID:10000733-1751043600-1751054400@utahcarczar.com
SUMMARY:Mt. Olympus Car Show
DESCRIPTION:Free Registration and Free Meal to car owners
URL:https://utahcarczar.com/event/mt-olympus-car-show/
LOCATION:Mt Olympus Rehab\, 2200 E. 3300S.\, Millcreek ut
ATTACH;FMTTYPE=image/jpeg:https://utahcarczar.com/wp-content/uploads/2020/05/Mt-Olympus-Rehab-Center-Logo.jpg
END:VEVENT
BEGIN:VEVENT
DTSTART;TZID=America/Denver:20250613T170000
DTEND;TZID=America/Denver:20250613T200000
DTSTAMP:20260422T085631
CREATED:20250507T051449Z
LAST-MODIFIED:20250608T235003Z
UID:10001534-1749834000-1749844800@utahcarczar.com
SUMMARY:Highland Care Center Car Show
DESCRIPTION:Free Show Free Registration and Free Meal to car owners.
URL:https://utahcarczar.com/event/highland-care-center-car-show/
LOCATION:Highland Care Center\, 4285 Highland Dr.\, Holladay
CATEGORIES:Cruise Night
ATTACH;FMTTYPE=image/jpeg:https://utahcarczar.com/wp-content/uploads/2023/09/Highland-Car-Center-Utah-Logo.jpg
END:VEVENT
BEGIN:VEVENT
DTSTART;TZID=America/Denver:20250530T103000
DTEND;TZID=America/Denver:20250530T120000
DTSTAMP:20260422T085631
CREATED:20250505T001336Z
LAST-MODIFIED:20250505T001336Z
UID:10001514-1748601000-1748606400@utahcarczar.com
SUMMARY:Kars & Kids
DESCRIPTION:We will set up for the kids to come out and check out your awesome rides and ask questions.
URL:https://utahcarczar.com/event/kars-and-kids-westvale-elementary/
LOCATION:Westvale Elementary\, 2300 Gardner ln.\, WEST JORDAN
CATEGORIES:Car Show
ATTACH;FMTTYPE=image/png:https://utahcarczar.com/wp-content/uploads/2025/05/cropped-web_westvale_logo.png
END:VEVENT
BEGIN:VEVENT
DTSTART;TZID=America/Denver:20250524T100000
DTEND;TZID=America/Denver:20250524T100000
DTSTAMP:20260422T085631
CREATED:20250505T044539Z
LAST-MODIFIED:20250505T060039Z
UID:10001515-1748080800-1748080800@utahcarczar.com
SUMMARY:Smiths Primary Children's Hospital Car Show
DESCRIPTION:Come out and have some fun Free Registration we will be doing raffle tickets to win some awesome prizes.
URL:https://utahcarczar.com/event/primary-childrens-hospital-fundraiser-car-show-west-jordan/
LOCATION:Smiths Marketplace (West Jordan)\, 5710 W 7800 S\, West Jordan\, UT
CATEGORIES:Car Show
ATTACH;FMTTYPE=image/jpeg:https://utahcarczar.com/wp-content/uploads/2020/05/Smiths-Marketplace-Logo.jpg
END:VEVENT
BEGIN:VEVENT
DTSTART;TZID=America/Denver:20250509T113000
DTEND;TZID=America/Denver:20250509T133000
DTSTAMP:20260422T085631
CREATED:20250505T000444Z
LAST-MODIFIED:20250505T000444Z
UID:10001513-1746790200-1746797400@utahcarczar.com
SUMMARY:Kars & Kids
DESCRIPTION:We will be set up for the kids to come out and check out all the Awesome Rides and ask questions
URL:https://utahcarczar.com/event/kars-and-kids/
LOCATION:Joel P .Jensen Middle School\, 8105 S. 3200W.\, WEST JORDAN
CATEGORIES:Car Show
ATTACH;FMTTYPE=image/png:https://utahcarczar.com/wp-content/uploads/2022/04/241664901_542521440412532_5984518428803894701_n.png
END:VEVENT
BEGIN:VEVENT
DTSTART;TZID=America/Denver:20250503T144500
DTEND;TZID=America/Denver:20250503T153000
DTSTAMP:20260422T085631
CREATED:20250502T045004Z
LAST-MODIFIED:20250502T045004Z
UID:10001511-1746283500-1746286200@utahcarczar.com
SUMMARY:Cruise For Larry
DESCRIPTION:We will meet at 2:45 Smiths parking lot and at 3pm cruise over to the park to celebrate the Veterans 85th Birthday.
URL:https://utahcarczar.com/event/cruise-for-larry/
LOCATION:Smiths\, 9000 S 4000 W\, West Jordan\, UT
CATEGORIES:Bike Show/Cruise
ATTACH;FMTTYPE=image/png:https://utahcarczar.com/wp-content/uploads/2022/04/241664901_542521440412532_5984518428803894701_n.png
END:VEVENT
BEGIN:VEVENT
DTSTART;TZID=America/Denver:20250419T150000
DTEND;TZID=America/Denver:20250419T170000
DTSTAMP:20260422T085631
CREATED:20250325T202959Z
LAST-MODIFIED:20250416T132317Z
UID:10000100-1745074800-1745082000@utahcarczar.com
SUMMARY:Easter Parade
DESCRIPTION:
URL:https://utahcarczar.com/event/easter-parade/
LOCATION:Oquirrh Elementary School\, 7165 S 3285 W\, West Jordan\, Utah\, 84084
CATEGORIES:Car Show
ATTACH;FMTTYPE=image/png:https://utahcarczar.com/wp-content/uploads/2022/04/241664901_542521440412532_5984518428803894701_n.png
END:VEVENT
END:VCALENDAR