BEGIN:VCALENDAR
VERSION:2.0
PRODID:-//Utah Car Czar - ECPv6.15.18//NONSGML v1.0//EN
CALSCALE:GREGORIAN
METHOD:PUBLISH
X-WR-CALNAME:Utah Car Czar
X-ORIGINAL-URL:https://utahcarczar.com
X-WR-CALDESC:Events for Utah Car Czar
REFRESH-INTERVAL;VALUE=DURATION:PT1H
X-Robots-Tag:noindex
X-PUBLISHED-TTL:PT1H
BEGIN:VTIMEZONE
TZID:America/Denver
BEGIN:DAYLIGHT
TZOFFSETFROM:-0700
TZOFFSETTO:-0600
TZNAME:MDT
DTSTART:20250309T090000
END:DAYLIGHT
BEGIN:STANDARD
TZOFFSETFROM:-0600
TZOFFSETTO:-0700
TZNAME:MST
DTSTART:20251102T080000
END:STANDARD
BEGIN:DAYLIGHT
TZOFFSETFROM:-0700
TZOFFSETTO:-0600
TZNAME:MDT
DTSTART:20260308T090000
END:DAYLIGHT
BEGIN:STANDARD
TZOFFSETFROM:-0600
TZOFFSETTO:-0700
TZNAME:MST
DTSTART:20261101T080000
END:STANDARD
BEGIN:DAYLIGHT
TZOFFSETFROM:-0700
TZOFFSETTO:-0600
TZNAME:MDT
DTSTART:20270314T090000
END:DAYLIGHT
BEGIN:STANDARD
TZOFFSETFROM:-0600
TZOFFSETTO:-0700
TZNAME:MST
DTSTART:20271107T080000
END:STANDARD
END:VTIMEZONE
BEGIN:VEVENT
DTSTART;TZID=America/Denver:20260613T090000
DTEND;TZID=America/Denver:20260613T140000
DTSTAMP:20260421T143148
CREATED:20250416T125514Z
LAST-MODIFIED:20260223T013652Z
UID:10000828-1781341200-1781359200@utahcarczar.com
SUMMARY:Sigurd Stampede Car Show
DESCRIPTION:Car show in behalf of suicide prevention awareness. Free t-shirt and dash plaque to the first 50 pre-registrations. Music by JC Hackett.
URL:https://utahcarczar.com/event/sigurd-stampede-car-show/
LOCATION:Sigurd Town Park\, 595 North State St.\, Sigurd\, Utah
CATEGORIES:Car Show
ATTACH;FMTTYPE=image/png:https://utahcarczar.com/wp-content/uploads/2025/05/2026-Car-Show-Icon-2.png
END:VEVENT
BEGIN:VEVENT
DTSTART;TZID=America/Denver:20260613T090000
DTEND;TZID=America/Denver:20260613T150000
DTSTAMP:20260421T143148
CREATED:20250518T163430Z
LAST-MODIFIED:20260328T002054Z
UID:10001582-1781341200-1781362800@utahcarczar.com
SUMMARY:Down & Dirty 19 presented by Unlucky Ones Car Club
DESCRIPTION:Live music\, custom awards\, raffles!!!
URL:https://utahcarczar.com/event/down-dirty-car-show/
LOCATION:Magna Copper Park\, 8975 W 2600 S\, Magna\, Utah\, 84044
CATEGORIES:Car Show
ATTACH;FMTTYPE=image/jpeg:https://utahcarczar.com/wp-content/uploads/2011/12/Unlucky-Ones-Car-Club.jpg
END:VEVENT
BEGIN:VEVENT
DTSTART;TZID=America/Denver:20260613T090000
DTEND;TZID=America/Denver:20260613T150000
DTSTAMP:20260421T143148
CREATED:20260209T055656Z
LAST-MODIFIED:20260209T055656Z
UID:10002008-1781341200-1781362800@utahcarczar.com
SUMMARY:Ray Citte RV Car Show
DESCRIPTION:80 Years Celebration Car Show \nFree Hot dogs & Chips
URL:https://utahcarczar.com/event/ray-citte-rv-car-show/
LOCATION:Ray Citte RV\, 1677 W Riverdale Rd\, Roy\, Utah\, 84067
CATEGORIES:Car Show
ATTACH;FMTTYPE=image/png:https://utahcarczar.com/wp-content/uploads/2026/02/Ray-Citte-RV-Logo-scaled.png
ORGANIZER;CN="Krank-it-Up Productions":MAILTO:1mikemanilla@gmail.com
END:VEVENT
BEGIN:VEVENT
DTSTART;TZID=America/Denver:20260613T100000
DTEND;TZID=America/Denver:20260613T130000
DTSTAMP:20260421T143148
CREATED:20250416T125623Z
LAST-MODIFIED:20260301T230558Z
UID:10000505-1781344800-1781355600@utahcarczar.com
SUMMARY:Utah Takes Steps for Crohns
DESCRIPTION:We will have a car show a cruise and walk to support Crohns we will be selling raffle tickets to win some awesome prizes all proceeds go to Crohns Awareness.
URL:https://utahcarczar.com/event/show-cruise-and-walk-for-crohns/
LOCATION:Sugarhouse Park\, 1330 East 2100 South\, Salt Lake City\, UT
CATEGORIES:Car Show
ATTACH;FMTTYPE=image/png:https://utahcarczar.com/wp-content/uploads/2022/04/241664901_542521440412532_5984518428803894701_n.png
END:VEVENT
BEGIN:VEVENT
DTSTART;TZID=America/Denver:20260613T110000
DTEND;TZID=America/Denver:20260613T170000
DTSTAMP:20260421T143148
CREATED:20250416T125632Z
LAST-MODIFIED:20260330T065323Z
UID:10000462-1781348400-1781370000@utahcarczar.com
SUMMARY:Tooele Downtown Fest Car Show
DESCRIPTION:5th Annual Car Show. \nWe are bringing local music artists to the event for some live music. There will be a car show\, vendor boutique\, and kids games. There is something for everyone at this event so mark this one in your calendar!
URL:https://utahcarczar.com/event/tooele-downtown-fest-car-show/
LOCATION:Veterans Memorial Park – Tooele\, 15 W Vine St\, Tooele\, Utah\, 84074
CATEGORIES:Car Show
ATTACH;FMTTYPE=image/jpeg:https://utahcarczar.com/wp-content/uploads/2024/06/Tooele-Downtown-Alliance-Logo.jpg
END:VEVENT
BEGIN:VEVENT
DTSTART;TZID=America/Denver:20260613T113000
DTEND;TZID=America/Denver:20260613T180000
DTSTAMP:20260421T143148
CREATED:20260406T035546Z
LAST-MODIFIED:20260406T035546Z
UID:10002081-1781350200-1781373600@utahcarczar.com
SUMMARY:Legends Block Party
DESCRIPTION:This isn’t just an event… this is THE one everyone will be talking about.\n\n\n WALL OF DEATH — loud\, raw\, and unreal\n HIVE CREW STUNT SHOWS — some of the best riders on the planet\n CUSTOM BIKES + CLASSICS EVERYWHERE YOU LOOK\n NEXT-LEVEL VENDORS bringing gear\, parts\, and one-of-a-kind finds\n\n\nStep inside Legends and you’re walking through real motorcycle history!
URL:https://utahcarczar.com/event/legends-block-party/
LOCATION:Legends Motorcycle Museum\, 1715 W 500 S\, Springville\, Utah
CATEGORIES:Bike Show/Cruise,Car Show
ATTACH;FMTTYPE=image/jpeg:https://utahcarczar.com/wp-content/uploads/2019/12/Legends-Motorcycles-Logo.jpg
END:VEVENT
BEGIN:VEVENT
DTSTART;TZID=America/Denver:20260613T140000
DTEND;TZID=America/Denver:20260613T190000
DTSTAMP:20260421T143148
CREATED:20250416T125439Z
LAST-MODIFIED:20260406T034910Z
UID:10001001-1781359200-1781377200@utahcarczar.com
SUMMARY:Heavy Hitters Car and Bike Show
DESCRIPTION:
URL:https://utahcarczar.com/event/heavy-hitter-show-and-shine/
LOCATION:W Stockman Wy\, W Stockman Wy\, Ogden\, UT\, 84401
CATEGORIES:Car Show
ATTACH;FMTTYPE=image/jpeg:https://utahcarczar.com/wp-content/uploads/2023/01/Heavy-Hitters-Logo.jpg
END:VEVENT
BEGIN:VEVENT
DTSTART;TZID=America/Denver:20260613T160000
DTEND;TZID=America/Denver:20260613T190000
DTSTAMP:20260421T143148
CREATED:20260406T060742Z
LAST-MODIFIED:20260406T060742Z
UID:10002083-1781366400-1781377200@utahcarczar.com
SUMMARY:Active Re-Entry Annual Car Show
DESCRIPTION:
URL:https://utahcarczar.com/event/active-re-entry-annual-car-show/
LOCATION:Carbon County Senior Citizens Center\, 418 S Fairgrounds Way\, Price\, UT\, 84501
CATEGORIES:Car Show
ATTACH;FMTTYPE=image/png:https://utahcarczar.com/wp-content/uploads/2025/05/2026-Car-Show-Icon-2.png
END:VEVENT
BEGIN:VEVENT
DTSTART;TZID=America/Denver:20260619T170000
DTEND;TZID=America/Denver:20260619T200000
DTSTAMP:20260421T143148
CREATED:20250507T051747Z
LAST-MODIFIED:20260302T024147Z
UID:10001535-1781888400-1781899200@utahcarczar.com
SUMMARY:Meadow Peak Car Show
DESCRIPTION:Free Registration and Free Meal to all car owners
URL:https://utahcarczar.com/event/meadow-peak-car-show/
LOCATION:Meadow Peak Assisted Living\, 6084 s. Smt. Vis Blvd.\, Taylorsville
CATEGORIES:Car Show
ATTACH;FMTTYPE=image/png:https://utahcarczar.com/wp-content/uploads/2022/04/241664901_542521440412532_5984518428803894701_n.png
END:VEVENT
BEGIN:VEVENT
DTSTART;TZID=America/Denver:20260620T100000
DTEND;TZID=America/Denver:20260620T150000
DTSTAMP:20260421T143148
CREATED:20250318T051156Z
LAST-MODIFIED:20260308T082821Z
UID:10000088-1781949600-1781967600@utahcarczar.com
SUMMARY:Wendover Fathers Day Car Show
DESCRIPTION:Poker run Friday night at 4p
URL:https://utahcarczar.com/event/wendover-fathers-day-car-show/
LOCATION:Red Garter Casino\, 1225 Wendover Blvd\, West Wendover\, Nevada\, 89883
CATEGORIES:Car Show
ATTACH;FMTTYPE=image/png:https://utahcarczar.com/wp-content/uploads/2025/03/Red-Garter-Casino-and-Hotel-Wendover-Logo.png
END:VEVENT
BEGIN:VEVENT
DTSTART;TZID=America/Denver:20260620T100000
DTEND;TZID=America/Denver:20260620T150000
DTSTAMP:20260421T143148
CREATED:20250507T052151Z
LAST-MODIFIED:20260412T000042Z
UID:10001536-1781949600-1781967600@utahcarczar.com
SUMMARY:Syracuse Heritage Days
DESCRIPTION:Free registration\, enter the day of show ONLY\nDash plaques/Awards by entrant voting\nThere will be lots of food trucks and vendors.\nParade before car show @ 9:00
URL:https://utahcarczar.com/event/syracuse-heritage-days-car-show/
LOCATION:Founders Park\, 1700 S 1904 W\, Syracuse
CATEGORIES:Car Show
ATTACH;FMTTYPE=image/png:https://utahcarczar.com/wp-content/uploads/2025/05/2026-Car-Show-Icon.png
ORGANIZER;CN="BJ Cruisin DJ":MAILTO:bjcruisindj@gmail.com
END:VEVENT
BEGIN:VEVENT
DTSTART;TZID=America/Denver:20260624T130000
DTEND;TZID=America/Denver:20260624T160000
DTSTAMP:20260421T143148
CREATED:20250416T125612Z
LAST-MODIFIED:20260219T025115Z
UID:10000117-1782306000-1782316800@utahcarczar.com
SUMMARY:Roy High Latinos in Action Car Show
DESCRIPTION:
URL:https://utahcarczar.com/event/roy-high-latinos-in-action-car-show/
LOCATION:Roy High School\, 2150 W 4800 S\, Roy\, Utah
CATEGORIES:Car Show
ATTACH;FMTTYPE=image/png:https://utahcarczar.com/wp-content/uploads/2025/03/Roy-High-School-Logo.png
END:VEVENT
BEGIN:VEVENT
DTSTART;TZID=America/Denver:20260626T170000
DTEND;TZID=America/Denver:20260626T200000
DTSTAMP:20260421T143148
CREATED:20260302T045350Z
LAST-MODIFIED:20260302T050347Z
UID:10002056-1782493200-1782504000@utahcarczar.com
SUMMARY:Cannon Classic Cars “Summer Ignition”
DESCRIPTION:Kicking Off the Summer with Serious Horsepower \nStart off your summer with a roar! Join us as the engines heat up\, the paint shines bright\, and the lot fills with the best classics around. It’s the ultimate kick off to cruising season.
URL:https://utahcarczar.com/event/cannon-classic-cars-summer-ignition/
LOCATION:Cannon Classic Cars\, 809 West 1700 South\, Salt Lake City\, Utah
CATEGORIES:Car Show
ATTACH;FMTTYPE=image/jpeg:https://utahcarczar.com/wp-content/uploads/2025/04/cannon-classic-logo.jpg
ORGANIZER;CN="Krank-it-Up Productions":MAILTO:1mikemanilla@gmail.com
END:VEVENT
BEGIN:VEVENT
DTSTART;TZID=America/Denver:20260627T100000
DTEND;TZID=America/Denver:20260627T140000
DTSTAMP:20260421T143148
CREATED:20250416T125603Z
LAST-MODIFIED:20260217T062334Z
UID:10000598-1782554400-1782568800@utahcarczar.com
SUMMARY:Taylorsville Dayzz
DESCRIPTION:DO NOT ENTER off of 2700 West and 5100 South (Old Location)\, you cannot access the new car show area parking from this entrance. \nNEW CAR SHOW ENTRANCE FROM THE NEIGHBORHOOD \n2700 West Midwest Drive at the stoplight (go west) or off 3200 west and Midwest Drive (go East). Enter the car show from a private gated entrance located at the North/West area of the park. \n 
URL:https://utahcarczar.com/event/taylorsville-dayzz/
LOCATION:Valley Regional Park\, 2990 W Midwest Drive\, Taylorsville\, Utah\, 84129
CATEGORIES:Car Show
ATTACH;FMTTYPE=image/jpeg:https://utahcarczar.com/wp-content/uploads/2025/04/Taylorsville-Dayzz-Logo.jpg
ORGANIZER;CN="Krank-it-Up Productions":MAILTO:1mikemanilla@gmail.com
END:VEVENT
BEGIN:VEVENT
DTSTART;TZID=America/Denver:20260627T160000
DTEND;TZID=America/Denver:20260627T200000
DTSTAMP:20260421T143148
CREATED:20250608T225321Z
LAST-MODIFIED:20260405T225722Z
UID:10001620-1782576000-1782590400@utahcarczar.com
SUMMARY:Wasatch Classic 27
DESCRIPTION:The Wasatch Classic is Utah County‘s longest running all-Volkswagen show. \nAll VWs are welcome\, from showroom quality trailer queens to daily drivers and diamonds in the rusty rough\, with or without a radiator.
URL:https://utahcarczar.com/event/wasatch-classic/
LOCATION:The Shops at Riverwoods\, 4801 N University Ave\, Provo
CATEGORIES:Car Show
ATTACH;FMTTYPE=image/png:https://utahcarczar.com/wp-content/uploads/2026/03/Logo-Default-1.png
END:VEVENT
BEGIN:VEVENT
DTSTART;TZID=America/Denver:20260711T100000
DTEND;TZID=America/Denver:20260711T150000
DTSTAMP:20260421T143148
CREATED:20250416T125506Z
LAST-MODIFIED:20260318T184517Z
UID:10000862-1783764000-1783782000@utahcarczar.com
SUMMARY:Gardner Village Car Show
DESCRIPTION:Car show Registration is day of the show\, no pre-registration required. \nAdmission is FREE to enter the car show and spectators are always FREE \nThe car show entries are located in the large clean paved parking lot to the Northeast of the Entrance.
URL:https://utahcarczar.com/event/gardner-village-car-show/
LOCATION:Gardner Village\, 1100 West 7800 South\, West Jordan\, UT
CATEGORIES:Car Show
ATTACH;FMTTYPE=image/jpeg:https://utahcarczar.com/wp-content/uploads/2024/06/GardnerVillage_1024X1024-100-1.jpg
ORGANIZER;CN="Krank-it-Up Productions":MAILTO:1mikemanilla@gmail.com
END:VEVENT
BEGIN:VEVENT
DTSTART;TZID=America/Denver:20260711T110000
DTEND;TZID=America/Denver:20260711T140000
DTSTAMP:20260421T143148
CREATED:20250425T050952Z
LAST-MODIFIED:20260301T225942Z
UID:10001485-1783767600-1783778400@utahcarczar.com
SUMMARY:Sandy Museum Car Show
DESCRIPTION:Each vehicle entry will receive a Free Meal. Registration is also free.
URL:https://utahcarczar.com/event/sandy-museum-car-show/
LOCATION:Sandy Museum\, 8744 s. Center St.\, Sandy
CATEGORIES:Car Show
ATTACH;FMTTYPE=image/png:https://utahcarczar.com/wp-content/uploads/2022/04/241664901_542521440412532_5984518428803894701_n.png
END:VEVENT
BEGIN:VEVENT
DTSTART;TZID=America/Denver:20260716T160000
DTEND;TZID=America/Denver:20260716T200000
DTSTAMP:20260421T143148
CREATED:20250416T125425Z
LAST-MODIFIED:20260209T054554Z
UID:10001073-1784217600-1784232000@utahcarczar.com
SUMMARY:Draper Days Car Show
DESCRIPTION:This is a free\, all-makes\, all-models car show.\nParticipants must pre-register online for the car show or in register in-person at the show and sign the Release and Waiver.\nIn-person registration on July 16 at the show starts at 2:30 PM.\nCars cannot arrive earlier than 2:30 PM. \nShow winners are invited to drive their cars in the Draper Days Parade on Saturday\, July 19. \nAll vehicles must be in safe operating condition.\nDisruptive conduct\, abusive language\, and not abiding by the show’s rules are cause to be denied entry or dismissed from the event.\nCategories and Awards:\nBest in Show 1st $500 + plaque + invite to participate in parade\nBest in Show 2nd $200 + plaque + invite to participate in parade\nBest in Show 3rd $100 + plaque + invite to participate in parade\nMayor’s Choice $50 + plaque + invite to participate in parade\nRoyalty’s Choice $25 + plaque + invite to participate in parade
URL:https://utahcarczar.com/event/draper-days-car-show/
LOCATION:Draper City Park\, 12600 S 1300 E\, Draper\, UT
CATEGORIES:Car Show
ATTACH;FMTTYPE=image/jpeg:https://utahcarczar.com/wp-content/uploads/2023/09/Draper-300x229-1.jpg
ORGANIZER;CN="Krank-it-Up Productions":MAILTO:1mikemanilla@gmail.com
END:VEVENT
BEGIN:VEVENT
DTSTART;TZID=America/Denver:20260717T180000
DTEND;TZID=America/Denver:20260717T200000
DTSTAMP:20260421T143148
CREATED:20250427T233524Z
LAST-MODIFIED:20260217T051906Z
UID:10001495-1784311200-1784318400@utahcarczar.com
SUMMARY:Butlerville Days Car Show
DESCRIPTION:Submit completed registration form at check-in. \nLocation: Entrance adjacent to Guthrie Skate Park (2495 E. Bengal Blvd.) Vehicles will be on the lawn of Butler Park. \nVehicle Entry Time: 5-6 p.m.\nPrizes Awarded: 8:15 p.m.\, -Must be present to win. \nImportant Notice: VEHICLES MUST BE REMOVED FROM GRASS AND DRONE SHOW AREA BY 9 P.M.
URL:https://utahcarczar.com/event/butlerville-days-antique-car-show/
LOCATION:Butler Park\, 2495 E Bengal Blvd\, Cottonwood Heights\, UT
CATEGORIES:Car Show
ATTACH;FMTTYPE=image/jpeg:https://utahcarczar.com/wp-content/uploads/2026/02/COTTON-WOOD-HEIGHTS.jpg
ORGANIZER;CN="Krank-it-Up Productions":MAILTO:1mikemanilla@gmail.com
END:VEVENT
BEGIN:VEVENT
DTSTART;TZID=America/Denver:20260718T100000
DTEND;TZID=America/Denver:20260718T180000
DTSTAMP:20260421T143148
CREATED:20250416T125458Z
LAST-MODIFIED:20260418T235607Z
UID:10000903-1784368800-1784397600@utahcarczar.com
SUMMARY:American Fork Steel Days Car Show
DESCRIPTION:Krank-It-Up Productions is now this years car show host and promoter. \nThis show will be bigger\, better\, with more sponsors\, 15-Jackets from JLM and more custom car show awards than ever. \nLots of raffle prizes from Lion Energy\, local merchants and more. \nMore details\, vehicle registration and information are in the works. Stay tuned! \nAll the regular fun activities as last year’s car show with awesome food trucks\, vendors\, Car Parade and Burn out contest!! \nWe are estimating over 500 Cars\, this is one of largest car show in Utah County\, you do not want to miss out!
URL:https://utahcarczar.com/event/american-fork-steel-days-car-show/
LOCATION:Rotary Park\, 400 S 200 E\, American Fork\, Utah\, 84003
CATEGORIES:Car Show
ATTACH;FMTTYPE=image/png:https://utahcarczar.com/wp-content/uploads/2023/04/American-Fork-Steel-Days-Logo.png
ORGANIZER;CN="Krank-it-Up Productions":MAILTO:1mikemanilla@gmail.com
END:VEVENT
BEGIN:VEVENT
DTSTART;TZID=America/Denver:20260725T100000
DTEND;TZID=America/Denver:20260725T150000
DTSTAMP:20260421T143148
CREATED:20250416T125509Z
LAST-MODIFIED:20260330T070711Z
UID:10000856-1784973600-1784991600@utahcarczar.com
SUMMARY:Blast from the Past Car Show
DESCRIPTION:Cool cars\, trucks\, & motorcycles\, fabulous food trucks\, PIN UP CONTEST\, prizes\, trophies\, AND MORE! It’s a Hot Rod Reunion for car enthusiasts\, featuring as many as 200 entries! \nSalina\, Utah is just off Interstate 70. The Car Show is held at the Salina City Park\, 1500 S. Old Hwy 10.  (Turn South at 300 East Main and drive 1.3 miles to park).‍ ‍
URL:https://utahcarczar.com/event/blast-from-the-past-car-show/
LOCATION:Salina City Park\, 1500 Old Hwy 10\, Salina\, UT\, 84654\, United States
CATEGORIES:Car Show
ATTACH;FMTTYPE=image/webp:https://utahcarczar.com/wp-content/uploads/2025/04/Blast-from-the-Past-Car-Show-Logo.webp
END:VEVENT
BEGIN:VEVENT
DTSTART;TZID=America/Denver:20260725T160000
DTEND;TZID=America/Denver:20260725T190000
DTSTAMP:20260421T143148
CREATED:20260308T075410Z
LAST-MODIFIED:20260308T075410Z
UID:10002065-1784995200-1785006000@utahcarczar.com
SUMMARY:Cleveland Days Car Show
DESCRIPTION:Firework show at the end of the day
URL:https://utahcarczar.com/event/cleveland-days-car-show/
LOCATION:Cleveland Park\, 245 W Main St\, Cleveland\, UT\, 84518\, United States
CATEGORIES:Car Show
ATTACH;FMTTYPE=image/png:https://utahcarczar.com/wp-content/uploads/2025/05/2026-Car-Show-Icon-Euro.png
END:VEVENT
BEGIN:VEVENT
DTSTART;TZID=America/Denver:20260725T170000
DTEND;TZID=America/Denver:20260725T200000
DTSTAMP:20260421T143148
CREATED:20260302T045647Z
LAST-MODIFIED:20260302T050353Z
UID:10002057-1784998800-1785009600@utahcarczar.com
SUMMARY:Cannon Classic Cars “Stars\, Stripes & Tailpipes”
DESCRIPTION:Celebrate Freedom with Chrome and Custom Rides \nThis July\, rev up your patriotic spirit with red\, white and blue celebration of classic and custom cars. It’s a high-octane tribute to American pride\, power and performance.
URL:https://utahcarczar.com/event/cannon-classic-cars-stars-stripes-tailpipes/
LOCATION:Cannon Classic Cars\, 809 West 1700 South\, Salt Lake City\, Utah
CATEGORIES:Car Show
ATTACH;FMTTYPE=image/jpeg:https://utahcarczar.com/wp-content/uploads/2025/04/cannon-classic-logo.jpg
ORGANIZER;CN="Krank-it-Up Productions":MAILTO:1mikemanilla@gmail.com
END:VEVENT
BEGIN:VEVENT
DTSTART;TZID=America/Denver:20260808T090000
DTEND;TZID=America/Denver:20260808T150000
DTSTAMP:20260421T143148
CREATED:20250416T125514Z
LAST-MODIFIED:20260411T185016Z
UID:10000827-1786179600-1786201200@utahcarczar.com
SUMMARY:Loves & Kermits Kruisers Car Show
DESCRIPTION:Join us in the beautiful green lawn\, not the parking lot.
URL:https://utahcarczar.com/event/loves-and-kermits-kruisers-car-show/
LOCATION:Love’s Travel Stop\, 1915 S State St\, Salina\, Utah\, 84654
CATEGORIES:Car Show
ATTACH;FMTTYPE=image/png:https://utahcarczar.com/wp-content/uploads/2022/03/Loves-Travel-Stop-Logo.png
END:VEVENT
BEGIN:VEVENT
DTSTART;TZID=America/Denver:20260808T090000
DTEND;TZID=America/Denver:20260808T150000
DTSTAMP:20260421T143148
CREATED:20250416T125631Z
LAST-MODIFIED:20260405T054449Z
UID:10000467-1786179600-1786201200@utahcarczar.com
SUMMARY:Duchesne Car Show
DESCRIPTION:
URL:https://utahcarczar.com/event/duchesne-car-show/
LOCATION:Duchesne Fair Grounds\, 350 S Center St\, Duchesne\, Utah\, 84021
CATEGORIES:Car Show
ATTACH;FMTTYPE=image/jpeg:https://utahcarczar.com/wp-content/uploads/2026/04/IMG_3947.jpeg
END:VEVENT
BEGIN:VEVENT
DTSTART;TZID=America/Denver:20260808T100000
DTEND;TZID=America/Denver:20260808T140000
DTSTAMP:20260421T143148
CREATED:20250416T125458Z
LAST-MODIFIED:20260219T021350Z
UID:10000904-1786183200-1786197600@utahcarczar.com
SUMMARY:Lindon Days Car Show
DESCRIPTION:Our Lindon Days Car Show is here! This timeless event is great for the entire family! With countless cars\, trucks\, motorcycles\, tricycles\, and more\, it is an event you don’t want to miss out on! Come hungry and try some of the food trucks! \nWhile you are at the Car Show\, come get dinner at one of our many food vendors! Grab dinner\, check out the cars\, and see the chalk art on the sidewalk around the park. \nInterested in showing off your vehicle this year? Registration is FREE. Click the registration link or call into the Community Center at 801-769-8625\, or email Heath Bateman\, hbateman@lindon.gov \nYou can also register day of the show at the Krank-It-Up Productions location.
URL:https://utahcarczar.com/event/lindon-days-car-show/
LOCATION:Lindon City Park\, 200 North State Street\, Lindon\, UT\, 84042
CATEGORIES:Car Show
ATTACH;FMTTYPE=image/jpeg:https://utahcarczar.com/wp-content/uploads/2026/02/Lindon-logo.jpg
ORGANIZER;CN="Krank-it-Up Productions":MAILTO:1mikemanilla@gmail.com
END:VEVENT
BEGIN:VEVENT
DTSTART;TZID=America/Denver:20260822T100000
DTEND;TZID=America/Denver:20260822T160000
DTSTAMP:20260421T143148
CREATED:20260411T234206Z
LAST-MODIFIED:20260411T234206Z
UID:10002093-1787392800-1787414400@utahcarczar.com
SUMMARY:Driven To Stay Car Show
DESCRIPTION:We welcome any and all who want to support and show up for our amazing cause!
URL:https://utahcarczar.com/event/driven-to-stay-car-show/
LOCATION:Crescent View Middle School\, 11150 South 300 East\, Sandy
CATEGORIES:Car Show
ATTACH;FMTTYPE=image/png:https://utahcarczar.com/wp-content/uploads/2026/04/852A81FA-88E1-46F4-9AB6-C5E14DFF3BBA.png
END:VEVENT
BEGIN:VEVENT
DTSTART;TZID=America/Denver:20260822T110000
DTEND;TZID=America/Denver:20260822T140000
DTSTAMP:20260421T143148
CREATED:20250427T232014Z
LAST-MODIFIED:20260308T075958Z
UID:10001492-1787396400-1787407200@utahcarczar.com
SUMMARY:Darren Bideaux RV Car Show
DESCRIPTION:Come and check out this car show\, food trucks\, raffles and more.\nLots of new and used inventory on sale.
URL:https://utahcarczar.com/event/darren-bideaux-rv-annual-car-show/
LOCATION:Darren Bideaux RV\, 1448 W 2100 S\, Ogden\, UT\, 84401
CATEGORIES:Car Show
ATTACH;FMTTYPE=image/png:https://utahcarczar.com/wp-content/uploads/2022/04/Darren-Bideaux-BOS-2018.jpg.png
ORGANIZER;CN="Krank-it-Up Productions":MAILTO:1mikemanilla@gmail.com
END:VEVENT
BEGIN:VEVENT
DTSTART;TZID=America/Denver:20260822T170000
DTEND;TZID=America/Denver:20260822T200000
DTSTAMP:20260421T143148
CREATED:20250427T232434Z
LAST-MODIFIED:20260323T182138Z
UID:10001494-1787418000-1787428800@utahcarczar.com
SUMMARY:Fruit Heights City Car Show
DESCRIPTION:Any question please call Fruit Heights City 801-546-0861 opt.#2 \nPlease pull into the far South Parking lot and head South to the lawn. A nice easy ramp for access. Lots of grass\, so bring your shade. Food Trucks\, family friendly and fun entertainment for the family.
URL:https://utahcarczar.com/event/fruit-heights-car-show-utah/
LOCATION:Harvey Park/Fruit Heights City Hall\, 910 S. Mountain Road\, Fruit Heights\, UT\, 84037
CATEGORIES:Car Show
ATTACH;FMTTYPE=image/png:https://utahcarczar.com/wp-content/uploads/2024/05/Fruit-Heights-logo.png
ORGANIZER;CN="Krank-it-Up Productions":MAILTO:1mikemanilla@gmail.com
END:VEVENT
BEGIN:VEVENT
DTSTART;TZID=America/Denver:20260829T110000
DTEND;TZID=America/Denver:20260829T160000
DTSTAMP:20260421T143148
CREATED:20260407T035030Z
LAST-MODIFIED:20260407T035030Z
UID:10002084-1788001200-1788019200@utahcarczar.com
SUMMARY:Viejitos Annual Car Show
DESCRIPTION:
URL:https://utahcarczar.com/event/viejitos-annual-car-show/
LOCATION:Union Station\, 2501 Wall Ave\, Ogden\, UT\, 84401
CATEGORIES:Car Show
ATTACH;FMTTYPE=image/png:https://utahcarczar.com/wp-content/uploads/2025/05/2026-Car-Show-Icon-2.png
END:VEVENT
END:VCALENDAR