BEGIN:VCALENDAR
VERSION:2.0
PRODID:-//Utah Car Czar - ECPv6.15.18//NONSGML v1.0//EN
CALSCALE:GREGORIAN
METHOD:PUBLISH
X-WR-CALNAME:Utah Car Czar
X-ORIGINAL-URL:https://utahcarczar.com
X-WR-CALDESC:Events for Utah Car Czar
REFRESH-INTERVAL;VALUE=DURATION:PT1H
X-Robots-Tag:noindex
X-PUBLISHED-TTL:PT1H
BEGIN:VTIMEZONE
TZID:America/Denver
BEGIN:DAYLIGHT
TZOFFSETFROM:-0700
TZOFFSETTO:-0600
TZNAME:MDT
DTSTART:20240310T090000
END:DAYLIGHT
BEGIN:STANDARD
TZOFFSETFROM:-0600
TZOFFSETTO:-0700
TZNAME:MST
DTSTART:20241103T080000
END:STANDARD
BEGIN:DAYLIGHT
TZOFFSETFROM:-0700
TZOFFSETTO:-0600
TZNAME:MDT
DTSTART:20250309T090000
END:DAYLIGHT
BEGIN:STANDARD
TZOFFSETFROM:-0600
TZOFFSETTO:-0700
TZNAME:MST
DTSTART:20251102T080000
END:STANDARD
BEGIN:DAYLIGHT
TZOFFSETFROM:-0700
TZOFFSETTO:-0600
TZNAME:MDT
DTSTART:20260308T090000
END:DAYLIGHT
BEGIN:STANDARD
TZOFFSETFROM:-0600
TZOFFSETTO:-0700
TZNAME:MST
DTSTART:20261101T080000
END:STANDARD
END:VTIMEZONE
BEGIN:VEVENT
DTSTART;TZID=America/Denver:20250628T090000
DTEND;TZID=America/Denver:20250628T150000
DTSTAMP:20260421T193337
CREATED:20250416T125624Z
LAST-MODIFIED:20250511T234401Z
UID:10000498-1751101200-1751122800@utahcarczar.com
SUMMARY:Back to the 50s Heber Car Show
DESCRIPTION:
URL:https://utahcarczar.com/event/back-to-the-50s-heber-car-show/
LOCATION:Heber City Main Street Park\, 250 South Main Street\, Heber City\, UTah\, 84032
CATEGORIES:Car Show
ATTACH;FMTTYPE=image/png:https://utahcarczar.com/wp-content/uploads/2025/03/Utah-Car-Show-Icon-1.png
END:VEVENT
BEGIN:VEVENT
DTSTART;TZID=America/Denver:20250628T100000
DTEND;TZID=America/Denver:20250628T120000
DTSTAMP:20260421T193337
CREATED:20250602T043811Z
LAST-MODIFIED:20250602T043811Z
UID:10001611-1751104800-1751112000@utahcarczar.com
SUMMARY:Geared Up Jamboree
DESCRIPTION:
URL:https://utahcarczar.com/event/geared-up-jamboree/
LOCATION:C-A-L Ranch – St. George\, 2849 E 850 N St\, St. George\, Utah\, 84790
CATEGORIES:Car Show
ATTACH;FMTTYPE=image/png:https://utahcarczar.com/wp-content/uploads/2020/09/CAL-Ranch-Logo.png
END:VEVENT
BEGIN:VEVENT
DTSTART;TZID=America/Denver:20250628T100000
DTEND;TZID=America/Denver:20250628T130000
DTSTAMP:20260421T193337
CREATED:20250430T053811Z
LAST-MODIFIED:20250430T053811Z
UID:10001504-1751104800-1751115600@utahcarczar.com
SUMMARY:Welsh Days Car Show
DESCRIPTION:
URL:https://utahcarczar.com/event/welsh-days-car-show/
LOCATION:Wales City Park\, 150 State St\, Wales\, UT\, 84667
CATEGORIES:Car Show
ATTACH;FMTTYPE=image/png:https://utahcarczar.com/wp-content/uploads/2025/03/Utah-Car-Show-Icon-2.png
END:VEVENT
BEGIN:VEVENT
DTSTART;TZID=America/Denver:20250628T100000
DTEND;TZID=America/Denver:20250628T140000
DTSTAMP:20260421T193337
CREATED:20250623T032045Z
LAST-MODIFIED:20250623T032045Z
UID:10001638-1751104800-1751119200@utahcarczar.com
SUMMARY:Big Truckin' Car Show
DESCRIPTION:
URL:https://utahcarczar.com/event/big-truckin-car-show/
LOCATION:Cahone Park\, 52367 US-491\, Cahone\, Colorado\, 81324
CATEGORIES:Car Show
END:VEVENT
BEGIN:VEVENT
DTSTART;TZID=America/Denver:20250628T100000
DTEND;TZID=America/Denver:20250628T150000
DTSTAMP:20260421T193337
CREATED:20250416T125627Z
LAST-MODIFIED:20250419T210005Z
UID:10000489-1751104800-1751122800@utahcarczar.com
SUMMARY:Riverton Town Days Car Show
DESCRIPTION:
URL:https://utahcarczar.com/event/riverton-town-days-car-show/
LOCATION:Riverton City Hall Park\, 12825 S 1830 W\, Riverton\, Utah\, 84065
CATEGORIES:Car Show
ATTACH;FMTTYPE=image/jpeg:https://utahcarczar.com/wp-content/uploads/2025/04/Riverton-City-Days-Car-Show.jpg
ORGANIZER;CN="Rockin Hotrod Productions":MAILTO:rhrp57@yahoo.com
END:VEVENT
BEGIN:VEVENT
DTSTART;TZID=America/Denver:20250629T110000
DTEND;TZID=America/Denver:20250629T160000
DTSTAMP:20260421T193337
CREATED:20250430T054034Z
LAST-MODIFIED:20250430T054115Z
UID:10001505-1751194800-1751212800@utahcarczar.com
SUMMARY:Wings and Wheels Car Show
DESCRIPTION:Sunday Fun Day in the RV park Wings and Wheels \nHave questions? Feel free to give us a call (801-857-5593) at Valley View RV Resort. We look forward to meeting you!
URL:https://utahcarczar.com/event/wings-and-wheels-car-show-valley-view-rv-resort/
LOCATION:Valley View RV Resort\, 100 East 2650 North\, Layton\, UT
CATEGORIES:Car Show
ATTACH;FMTTYPE=image/jpeg:https://utahcarczar.com/wp-content/uploads/2025/04/Screenshot_20250319_132519_Samsung-Internet.jpg
ORGANIZER;CN="Krank-it-Up Productions":MAILTO:1mikemanilla@gmail.com
END:VEVENT
BEGIN:VEVENT
DTSTART;TZID=America/Denver:20250701T180000
DTEND;TZID=America/Denver:20250701T220000
DTSTAMP:20260421T193337
CREATED:20250611T054419Z
LAST-MODIFIED:20250629T213808Z
UID:10001624-1751392800-1751407200@utahcarczar.com
SUMMARY:Classic CAR•NIVAL Car Meet
DESCRIPTION:CLASSIC CAR•NIVAL CAR MEET is FREE and is a Family Friendly Event (Bring an awesome car\, your significant other AND any cool kids you know)\n*No reservations needed\, just show up and pick a spot.\nLIVE Outdoor DJ\nFREE BBQ Hot Dogs\nFREE Drinks\nHUGE Drawing\nRC CAR RACING inside on the skating rink from 9-10pm (Bring your own car)\nIf you decide to venture inside Classic from 6-9pm for some added fun\, here are the details…\nCAR LOAD SPECIAL (JUST SKATING) $20\nCAR LOAD SPECIAL (UNLIMITED ACTIVITIES) $40\n*Up to 5 guests per car. \nBrand New parking lot (100 stalls) for most of the cars and awesome sunsets for pics. (Over 300 stalls total including a dirt section for awesome trucks and a 10 foot wide X 150 foot long sidewalk just for motorcycles.\nCome for the cool cars\, stay for the fun! \nDetails:\n*While supplies last…first come\, first served!
URL:https://utahcarczar.com/event/classic-carnival-car-meet-july-2/
LOCATION:Classic Fun Center\, 9151 South 255 West\, Sandy
CATEGORIES:Car Show
ATTACH;FMTTYPE=image/png:https://utahcarczar.com/wp-content/uploads/2025/04/ClassicLOGO.png
END:VEVENT
BEGIN:VEVENT
DTSTART;TZID=America/Denver:20250702T180000
DTEND;TZID=America/Denver:20250702T210000
DTSTAMP:20260421T193337
CREATED:20250416T125317Z
LAST-MODIFIED:20250629T224726Z
UID:10001391-1751479200-1751490000@utahcarczar.com
SUMMARY:Eaglewood Auto Fest
DESCRIPTION:ag
URL:https://utahcarczar.com/event/eaglewood-festival-of-speed/
LOCATION:Eaglewood Golf Course\, 1110 E Eaglewood Dr\, North Salt Lake\, Utah
CATEGORIES:Car Show
ATTACH;FMTTYPE=image/jpeg:https://utahcarczar.com/wp-content/uploads/2020/05/Eaglewood-Auto-Fest-Logo.jpg
END:VEVENT
BEGIN:VEVENT
DTSTART;TZID=America/Denver:20250703T100000
DTEND;TZID=America/Denver:20250703T130000
DTSTAMP:20260421T193337
CREATED:20250416T125632Z
LAST-MODIFIED:20250511T225532Z
UID:10000459-1751536800-1751547600@utahcarczar.com
SUMMARY:Cache Valley Cruise-In Poker Run Day 1
DESCRIPTION:
URL:https://utahcarczar.com/event/cache-valley-cruise-in-poker-run-day-1/
LOCATION:Cache County Fairgrounds\, 490 S 500 W\, Logan\, Utah\, 84321
CATEGORIES:Car Show
ATTACH;FMTTYPE=image/jpeg:https://utahcarczar.com/wp-content/uploads/2024/06/cache-valley-cruise-in-logo.jpg
END:VEVENT
BEGIN:VEVENT
DTSTART;TZID=America/Denver:20250704T080000
DTEND;TZID=America/Denver:20250704T120000
DTSTAMP:20260421T193337
CREATED:20250624T052957Z
LAST-MODIFIED:20250629T224709Z
UID:10001644-1751616000-1751630400@utahcarczar.com
SUMMARY:OMR 4th of July Huntsville Car Show
DESCRIPTION:Ogden Midnight Runners is back for year 2 at the Huntsville Car Show\, on the 4th of July!\nThe car show will run from 8am – 12pm (noon)!
URL:https://utahcarczar.com/event/omr-4th-of-july-huntsville-car-show/
LOCATION:Huntsville Square\, 7355 E 200 S\, Huntsville\, Utah
CATEGORIES:Car Show
ATTACH;FMTTYPE=image/png:https://utahcarczar.com/wp-content/uploads/2024/07/OMR-gold-logo-.png
END:VEVENT
BEGIN:VEVENT
DTSTART;TZID=America/Denver:20250704T090000
DTEND;TZID=America/Denver:20250704T140000
DTSTAMP:20260421T193337
CREATED:20250608T223607Z
LAST-MODIFIED:20250608T223636Z
UID:10001616-1751619600-1751637600@utahcarczar.com
SUMMARY:Gunnison Valley independence Day Celebration Car Show
DESCRIPTION:$10 dollars per additional car. Please reach out with any questions.
URL:https://utahcarczar.com/event/gunnison-valley-independence-day-celebration-car-show/
LOCATION:Gunnison City Park\, 260 N Main St\, Gunnison\, UT 84634\, Gunnison
CATEGORIES:Car Show
ATTACH;FMTTYPE=image/png:https://utahcarczar.com/wp-content/uploads/2025/03/Utah-Car-Show-Icon-2.png
END:VEVENT
BEGIN:VEVENT
DTSTART;TZID=America/Denver:20250704T090000
DTEND;TZID=America/Denver:20250704T163000
DTSTAMP:20260421T193337
CREATED:20250416T125632Z
LAST-MODIFIED:20250511T225526Z
UID:10000458-1751619600-1751646600@utahcarczar.com
SUMMARY:Cache Valley Cruise-In Day 2
DESCRIPTION:
URL:https://utahcarczar.com/event/cache-valley-cruise-in-cruise-and-car-show-day-2/
LOCATION:Cache County Fairgrounds\, 490 S 500 W\, Logan\, Utah\, 84321
CATEGORIES:Car Show
ATTACH;FMTTYPE=image/jpeg:https://utahcarczar.com/wp-content/uploads/2024/06/cache-valley-cruise-in-logo.jpg
END:VEVENT
BEGIN:VEVENT
DTSTART;TZID=America/Denver:20250704T100000
DTEND;TZID=America/Denver:20250704T150000
DTSTAMP:20260421T193337
CREATED:20250416T125627Z
LAST-MODIFIED:20250424T045303Z
UID:10000490-1751623200-1751641200@utahcarczar.com
SUMMARY:Murray City Days Car Show
DESCRIPTION:
URL:https://utahcarczar.com/event/murray-city-days-car-show/
LOCATION:Murray Park\, 296 E Murray Park Ave\, Murray\, Utah\, 84107
CATEGORIES:Car Show
ATTACH;FMTTYPE=image/png:https://utahcarczar.com/wp-content/uploads/2024/06/download.png
ORGANIZER;CN="Rockin Hotrod Productions":MAILTO:rhrp57@yahoo.com
END:VEVENT
BEGIN:VEVENT
DTSTART;TZID=America/Denver:20250704T100000
DTEND;TZID=America/Denver:20250704T160000
DTSTAMP:20260421T193337
CREATED:20250416T125421Z
LAST-MODIFIED:20250511T050351Z
UID:10001085-1751623200-1751644800@utahcarczar.com
SUMMARY:Grantsville Days Car Show
DESCRIPTION:1 T-shirt and Dash plaque per car entered.
URL:https://utahcarczar.com/event/grantsville-days-car-show/
LOCATION:Cherry Street Park\, 115 East Cherry Street\, Grantsville
CATEGORIES:Car Show
ATTACH;FMTTYPE=image/jpeg:https://utahcarczar.com/wp-content/uploads/2025/05/D11F7C8D-B802-4086-89C8-1976A7405248-scaled.jpeg
END:VEVENT
BEGIN:VEVENT
DTSTART;TZID=America/Denver:20250704T103000
DTEND;TZID=America/Denver:20250704T150000
DTSTAMP:20260421T193337
CREATED:20250416T125638Z
LAST-MODIFIED:20250629T222534Z
UID:10000433-1751625000-1751641200@utahcarczar.com
SUMMARY:Old Glory Days Car Show
DESCRIPTION:
URL:https://utahcarczar.com/event/old-glory-days-car-show/
LOCATION:Riverdale City Community Center\, 4360 Parker Dr\, Riverdale\, Utah\, 84405
CATEGORIES:Car Show
ATTACH;FMTTYPE=image/jpeg:https://utahcarczar.com/wp-content/uploads/2024/06/Old-Glory-Days-Car-Show-Logo.jpg
END:VEVENT
BEGIN:VEVENT
DTSTART;TZID=America/Denver:20250705T080000
DTEND;TZID=America/Denver:20250705T150000
DTSTAMP:20260421T193337
CREATED:20250416T125511Z
LAST-MODIFIED:20250623T041620Z
UID:10000839-1751702400-1751727600@utahcarczar.com
SUMMARY:Car & Tractor Show
DESCRIPTION:
URL:https://utahcarczar.com/event/car-tractor-show/
LOCATION:Old Spanish Trail Arena\, 3641 S Hwy 191\, Moab\, Utah\, 84532
CATEGORIES:Car Show
ATTACH;FMTTYPE=image/jpeg:https://utahcarczar.com/wp-content/uploads/2021/03/carquest-logo.jpg
END:VEVENT
BEGIN:VEVENT
DTSTART;TZID=America/Denver:20250705T090000
DTEND;TZID=America/Denver:20250705T150000
DTSTAMP:20260421T193337
CREATED:20250416T125607Z
LAST-MODIFIED:20250608T234233Z
UID:10000083-1751706000-1751727600@utahcarczar.com
SUMMARY:Apple Days Car Show
DESCRIPTION:
URL:https://utahcarczar.com/event/apple-days-car-show/
LOCATION:Torrey Church House\, 89 East Main Street\, Torrey\, Utah\, 84775
CATEGORIES:Car Show
ATTACH;FMTTYPE=image/png:https://utahcarczar.com/wp-content/uploads/2025/03/Utah-Car-Show-Icon-2.png
END:VEVENT
BEGIN:VEVENT
DTSTART;TZID=America/Denver:20250705T090000
DTEND;TZID=America/Denver:20250705T163000
DTSTAMP:20260421T193337
CREATED:20250416T125632Z
LAST-MODIFIED:20250511T225523Z
UID:10000457-1751706000-1751733000@utahcarczar.com
SUMMARY:Cache Valley Cruise-In Day 3
DESCRIPTION:
URL:https://utahcarczar.com/event/cache-valley-cruise-in-car-show-day-3/
LOCATION:Cache County Fairgrounds\, 490 S 500 W\, Logan\, Utah\, 84321
CATEGORIES:Car Show
ATTACH;FMTTYPE=image/jpeg:https://utahcarczar.com/wp-content/uploads/2024/06/cache-valley-cruise-in-logo.jpg
END:VEVENT
BEGIN:VEVENT
DTSTART;TZID=America/Denver:20250705T100000
DTEND;TZID=America/Denver:20250705T153000
DTSTAMP:20260421T193337
CREATED:20250327T050409Z
LAST-MODIFIED:20250427T235756Z
UID:10000107-1751709600-1751729400@utahcarczar.com
SUMMARY:Mountain View Ranch Classic Auto Show
DESCRIPTION:
URL:https://utahcarczar.com/event/mountain-view-ranch-classic-auto-show/
LOCATION:Mountain View Ranch & Museum\, 10 S 600 W\, Parowan\, Utah\, 84761
CATEGORIES:Car Show
ATTACH;FMTTYPE=image/png:https://utahcarczar.com/wp-content/uploads/2025/03/Utah-Car-Show-Icon-2.png
END:VEVENT
BEGIN:VEVENT
DTSTART;TZID=America/Denver:20250711T200000
DTEND;TZID=America/Denver:20250711T220000
DTSTAMP:20260421T193337
CREATED:20250318T053952Z
LAST-MODIFIED:20250318T053952Z
UID:10000094-1752264000-1752271200@utahcarczar.com
SUMMARY:Firestone Block Party
DESCRIPTION:Bring your vintage car or motorcycles\, park on the street and hang out. No agenda\, no awards\, no drama\, just cool machines\, food/drinks\, and good people. 2nd Friday of every month at the Firestone Building on 3rd & 3rd.
URL:https://utahcarczar.com/event/firestone-block-party/2025-07-11/
LOCATION:Cucina Toscana\, 282 S 300 W\, Salt Lake City\, Utah
CATEGORIES:Car Show
ATTACH;FMTTYPE=image/png:https://utahcarczar.com/wp-content/uploads/2025/03/Utah-Car-Show-Icon-1.png
END:VEVENT
BEGIN:VEVENT
DTSTART;TZID=America/Denver:20250712T080000
DTEND;TZID=America/Denver:20250712T140000
DTSTAMP:20260421T193337
CREATED:20250529T044150Z
LAST-MODIFIED:20250529T044732Z
UID:10001597-1752307200-1752328800@utahcarczar.com
SUMMARY:Mt.Nebo Cruzin Association 40th Anniversary Car Show
DESCRIPTION:Mt. Nebo Cruzin Association 40th Anniversary Car Show 2025
URL:https://utahcarczar.com/event/mt-nebo-cruzin-association-car-showmt-nebo-cruzin-association-40th-anniversary-car-show/
LOCATION:Nephi City Park\, 600 N Main Street\, Nephi\, UT
CATEGORIES:Car Show
ATTACH;FMTTYPE=image/jpeg:https://utahcarczar.com/wp-content/uploads/2011/12/Mt-Nebo-Association-scaled.jpg
END:VEVENT
BEGIN:VEVENT
DTSTART;TZID=America/Denver:20250712T200000
DTEND;TZID=America/Denver:20250712T200000
DTSTAMP:20260421T193337
CREATED:20250709T062734Z
LAST-MODIFIED:20250709T062802Z
UID:10001672-1752350400-1752350400@utahcarczar.com
SUMMARY:Automotive Addiction at Trolley square
DESCRIPTION:Automotive Addiction @ Trolley Square Car Show!\nPublic Welcome – Free to Attend! (Cars by Invite Only.\nDM us if you feel like you should have received an invite)\n🗓️: Saturday\, July 12th\n⌚️: 8pm to 10pm\n📍: Trolley Square • 602 E 500 S\, Salt Lake City\,
URL:https://utahcarczar.com/event/automotive-addiction-trolley-square/
LOCATION:Trolley Square\, 602 E 500 S\, Salt Lake City
CATEGORIES:Car Show
ATTACH;FMTTYPE=image/png:https://utahcarczar.com/wp-content/uploads/2022/07/Automotive-Addiction-Logo.png
END:VEVENT
BEGIN:VEVENT
DTSTART;TZID=America/Denver:20250715T170000
DTEND;TZID=America/Denver:20250715T200000
DTSTAMP:20260421T193337
CREATED:20250423T050606Z
LAST-MODIFIED:20250619T045446Z
UID:10001630-1752598800-1752609600@utahcarczar.com
SUMMARY:Fiiz Drinks Cruise Night West Jordan
DESCRIPTION:
URL:https://utahcarczar.com/event/fiiz-drinks-cruise-night-west-jordan/2025-07-15/
LOCATION:Fiiz Drinks – South Jordan\, 1828 W 9000 S\, West Jordan\, Utah
CATEGORIES:Car Show
ATTACH;FMTTYPE=image/jpeg:https://utahcarczar.com/wp-content/uploads/2025/04/Fiiz-Drinks-Logo.jpg
ORGANIZER;CN="Rockin Hotrod Productions":MAILTO:rhrp57@yahoo.com
END:VEVENT
BEGIN:VEVENT
DTSTART;TZID=America/Denver:20250718T160000
DTEND;TZID=America/Denver:20250718T203000
DTSTAMP:20260421T193337
CREATED:20250713T224009Z
LAST-MODIFIED:20250713T225824Z
UID:10001674-1752854400-1752870600@utahcarczar.com
SUMMARY:Hyde Park City Car Show
DESCRIPTION:
URL:https://utahcarczar.com/event/hyde-park-city-car-show/
LOCATION:City Center Park\, 66 East 100 North\, Hyde Park\, UT
CATEGORIES:Car Show
ATTACH;FMTTYPE=image/jpeg:https://utahcarczar.com/wp-content/uploads/2022/06/Hyde-Park-City-Logo.jpg
END:VEVENT
BEGIN:VEVENT
DTSTART;TZID=America/Denver:20250719T080000
DTEND;TZID=America/Denver:20250719T130000
DTSTAMP:20260421T193337
CREATED:20250416T125418Z
LAST-MODIFIED:20250518T230717Z
UID:10001098-1752912000-1752930000@utahcarczar.com
SUMMARY:Spanish Fork Fiesta Days Car Show
DESCRIPTION:Live Band from 10:00 am to 12:30 pm — CryWolf \nPre-Registration:\nFee is $20 for your first entry and $10 for each additional entry (ownership within the same family\, please). To pre-register\, please complete your Car Show Entry Form by 5:00 pm on July 16. A t-shirt will be given to the first 100 entries who pre-register. Free shirt is only for the first vehicle.
URL:https://utahcarczar.com/event/spanish-fork-fiesta-days-car-show/
LOCATION:Spanish Fork Sports Park\, 493 W Volunteer Dr\, Spanish Fork\, Utah
CATEGORIES:Car Show
ATTACH;FMTTYPE=image/jpeg:https://utahcarczar.com/wp-content/uploads/2025/04/Spanish-Fork-Fiesta-Days-2025-Logo.jpg
END:VEVENT
BEGIN:VEVENT
DTSTART;TZID=America/Denver:20250719T080000
DTEND;TZID=America/Denver:20250719T140000
DTSTAMP:20260421T193337
CREATED:20250518T162531Z
LAST-MODIFIED:20250518T162531Z
UID:10001579-1752912000-1752933600@utahcarczar.com
SUMMARY:Skyridge Summer Palooza and Car Show
DESCRIPTION:• Registration is free!\n• Swag bags for registered participants\n• Free entry to our drawing\n• Club parking available\n• Text to order breakfast & drinks and have it delivered!\n•Those who stay for the entire show will receive two vouchers for lunch!
URL:https://utahcarczar.com/event/skyridge-summer-palooza-and-car-show/
LOCATION:Skyridge High School\, 3000 N Center Street\, Lehi
CATEGORIES:Car Show
ATTACH;FMTTYPE=image/png:https://utahcarczar.com/wp-content/uploads/2023/05/skyridge-high-school-logo.png
END:VEVENT
BEGIN:VEVENT
DTSTART;TZID=America/Denver:20250719T080000
DTEND;TZID=America/Denver:20250719T150000
DTSTAMP:20260421T193337
CREATED:20250704T194548Z
LAST-MODIFIED:20250706T073037Z
UID:10001651-1752912000-1752937200@utahcarczar.com
SUMMARY:Mantua Little Valley Days Car Show
DESCRIPTION:
URL:https://utahcarczar.com/event/mantua-little-valley-days-car-show/
LOCATION:Mantua Park\, 409 N Main St\, Mantua\, 84324
CATEGORIES:Car Show
ATTACH;FMTTYPE=image/png:https://utahcarczar.com/wp-content/uploads/2025/07/Mantua-City-Logo.png
END:VEVENT
BEGIN:VEVENT
DTSTART;TZID=America/Denver:20250719T090000
DTEND;TZID=America/Denver:20250719T130000
DTSTAMP:20260421T193337
CREATED:20250713T230345Z
LAST-MODIFIED:20250713T230345Z
UID:10001676-1752915600-1752930000@utahcarczar.com
SUMMARY:Charleston Pioneer Day Celebration
DESCRIPTION:It is a festival with vendors and bands and fireworks. The drive up the canyon is beautiful!
URL:https://utahcarczar.com/event/charleston-pioneer-day-celebration/
LOCATION:Charleston Town Park\, 3527 W 3600 S\, Heber City\, UT\, 84032
CATEGORIES:Car Show
ATTACH;FMTTYPE=image/png:https://utahcarczar.com/wp-content/uploads/2025/03/Utah-Car-Show-Icon-1.png
END:VEVENT
BEGIN:VEVENT
DTSTART;TZID=America/Denver:20250719T090000
DTEND;TZID=America/Denver:20250719T140000
DTSTAMP:20260421T193337
CREATED:20250416T125358Z
LAST-MODIFIED:20250629T213613Z
UID:10001204-1752915600-1752933600@utahcarczar.com
SUMMARY:Kamas Car Show
DESCRIPTION:
URL:https://utahcarczar.com/event/kamas-car-show/
LOCATION:Kamas City Park\, 505 S Main St\, Kamas\, Utah\, 84036
CATEGORIES:Car Show
ATTACH;FMTTYPE=image/png:https://utahcarczar.com/wp-content/uploads/2025/03/Utah-Car-Show-Icon-1.png
END:VEVENT
BEGIN:VEVENT
DTSTART;TZID=America/Denver:20250719T090000
DTEND;TZID=America/Denver:20250719T150000
DTSTAMP:20260421T193337
CREATED:20250416T125458Z
LAST-MODIFIED:20250511T051333Z
UID:10000902-1752915600-1752937200@utahcarczar.com
SUMMARY:Uintah Basin Cruise-In
DESCRIPTION:
URL:https://utahcarczar.com/event/roosevelt-uintah-basin-car-show/
LOCATION:Constitution Park – Roosevelt\, 792 W 200 S\, Roosevelt\, Utah\, 84066
CATEGORIES:Car Show
ATTACH;FMTTYPE=image/png:https://utahcarczar.com/wp-content/uploads/2025/03/Utah-Car-Show-Icon-2.png
ORGANIZER;CN="Rockin Hotrod Productions":MAILTO:rhrp57@yahoo.com
END:VEVENT
END:VCALENDAR