BEGIN:VCALENDAR
VERSION:2.0
PRODID:-//Utah Car Czar - ECPv6.15.18//NONSGML v1.0//EN
CALSCALE:GREGORIAN
METHOD:PUBLISH
X-ORIGINAL-URL:https://utahcarczar.com
X-WR-CALDESC:Events for Utah Car Czar
REFRESH-INTERVAL;VALUE=DURATION:PT1H
X-Robots-Tag:noindex
X-PUBLISHED-TTL:PT1H
BEGIN:VTIMEZONE
TZID:America/Denver
BEGIN:DAYLIGHT
TZOFFSETFROM:-0700
TZOFFSETTO:-0600
TZNAME:MDT
DTSTART:20250309T090000
END:DAYLIGHT
BEGIN:STANDARD
TZOFFSETFROM:-0600
TZOFFSETTO:-0700
TZNAME:MST
DTSTART:20251102T080000
END:STANDARD
BEGIN:DAYLIGHT
TZOFFSETFROM:-0700
TZOFFSETTO:-0600
TZNAME:MDT
DTSTART:20260308T090000
END:DAYLIGHT
BEGIN:STANDARD
TZOFFSETFROM:-0600
TZOFFSETTO:-0700
TZNAME:MST
DTSTART:20261101T080000
END:STANDARD
BEGIN:DAYLIGHT
TZOFFSETFROM:-0700
TZOFFSETTO:-0600
TZNAME:MDT
DTSTART:20270314T090000
END:DAYLIGHT
BEGIN:STANDARD
TZOFFSETFROM:-0600
TZOFFSETTO:-0700
TZNAME:MST
DTSTART:20271107T080000
END:STANDARD
END:VTIMEZONE
BEGIN:VEVENT
DTSTART;TZID=America/Denver:20260422T170000
DTEND;TZID=America/Denver:20260422T200000
DTSTAMP:20260421T143304
CREATED:20260217T050938Z
LAST-MODIFIED:20260217T051100Z
UID:10002016-1776877200-1776888000@utahcarczar.com
SUMMARY:Burger Stop Cruise Night
DESCRIPTION:
URL:https://utahcarczar.com/event/burger-stop-cruise-night-2/2026-04-22/
LOCATION:Burger Stop\, 323 E Gentile\, Layton\, Utah
CATEGORIES:Cruise Night
ATTACH;FMTTYPE=image/png:https://utahcarczar.com/wp-content/uploads/2025/03/Burger-Stop-Cruise-Night-Logo.png
END:VEVENT
BEGIN:VEVENT
DTSTART;TZID=America/Denver:20260424T170000
DTEND;TZID=America/Denver:20260424T200000
DTSTAMP:20260421T143304
CREATED:20260420T064026Z
LAST-MODIFIED:20260420T064026Z
UID:10002097-1777050000-1777060800@utahcarczar.com
SUMMARY:Woody’s Drive In Cruz Night
DESCRIPTION:Limited parking\, get there early to get a spot! Try Woody’s great menu\, tunes by W.O.W.\, prizes\, awards\, and fun!
URL:https://utahcarczar.com/event/woodys-drive-in-cruz-night/
LOCATION:Woody’s Drive In\, 6172 So. 1300 East\, Murray
CATEGORIES:Cruise Night
ATTACH;FMTTYPE=image/webp:https://utahcarczar.com/wp-content/uploads/2025/04/Woodys-Drive-In-Logo.webp
END:VEVENT
BEGIN:VEVENT
DTSTART;TZID=America/Denver:20260426T120000
DTEND;TZID=America/Denver:20260426T150000
DTSTAMP:20260421T143304
CREATED:20260126T054638Z
LAST-MODIFIED:20260126T054638Z
UID:10001932-1777204800-1777215600@utahcarczar.com
SUMMARY:The Pub Cruise Lunch
DESCRIPTION:
URL:https://utahcarczar.com/event/the-pub-cruise-lunch/2026-04-26/
LOCATION:The Pub Sports Bar\, 5502 W 13400 S\, Herriman\, UT\, United States
CATEGORIES:Cruise Night
ATTACH;FMTTYPE=image/jpeg:https://utahcarczar.com/wp-content/uploads/2025/05/The-Pub-Sports-Bar-Logo.jpg
ORGANIZER;CN="Rockin Hotrod Productions":MAILTO:rhrp57@yahoo.com
END:VEVENT
BEGIN:VEVENT
DTSTART;TZID=America/Denver:20260427T170000
DTEND;TZID=America/Denver:20260427T200000
DTSTAMP:20260421T143304
CREATED:20260126T052918Z
LAST-MODIFIED:20260203T055148Z
UID:10001926-1777309200-1777320000@utahcarczar.com
SUMMARY:Jim's Restaurant Cruise Night
DESCRIPTION:
URL:https://utahcarczar.com/event/jims-restaurant-cruise-night-5/2026-04-27/
LOCATION:Jim’s Restaurant\, 12800 S Redwood Rd\, Riverton\, Utah
CATEGORIES:Cruise Night
ATTACH;FMTTYPE=image/jpeg:https://utahcarczar.com/wp-content/uploads/2024/01/Jims-Restaurant-Square-Logo.jpg
ORGANIZER;CN="Rockin Hotrod Productions":MAILTO:rhrp57@yahoo.com
END:VEVENT
BEGIN:VEVENT
DTSTART;TZID=America/Denver:20260429T170000
DTEND;TZID=America/Denver:20260429T200000
DTSTAMP:20260421T143304
CREATED:20260401T055303Z
LAST-MODIFIED:20260401T055406Z
UID:10001966-1777482000-1777492800@utahcarczar.com
SUMMARY:Culver's Cruise Night
DESCRIPTION:
URL:https://utahcarczar.com/event/culvers-cruise-night-april-2026/
LOCATION:Culver’s\, 7697 S 5600 W\, West Jordan\, Utah
CATEGORIES:Cruise Night
ATTACH;FMTTYPE=image/png:https://utahcarczar.com/wp-content/uploads/2023/05/culvers-restaurants-1-logo-png-transparent.png
ORGANIZER;CN="Rockin Hotrod Productions":MAILTO:rhrp57@yahoo.com
END:VEVENT
BEGIN:VEVENT
DTSTART;TZID=America/Denver:20260501T180000
DTEND;TZID=America/Denver:20260501T210000
DTSTAMP:20260421T143304
CREATED:20260411T190711Z
LAST-MODIFIED:20260411T190711Z
UID:10002091-1777658400-1777669200@utahcarczar.com
SUMMARY:Jurassic Tacos Cruise Night
DESCRIPTION:
URL:https://utahcarczar.com/event/jurassic-tacos-cruise-night/
LOCATION:Jurassic Tacos\, 7173 S Redwood Rd\, West Jordan\, UT\, 84084
CATEGORIES:Cruise Night
ATTACH;FMTTYPE=image/avif:https://utahcarczar.com/wp-content/uploads/2026/04/Jurassic-Tacos-Logo.avif
END:VEVENT
BEGIN:VEVENT
DTSTART;TZID=America/Denver:20260502T150000
DTEND;TZID=America/Denver:20260502T190000
DTSTAMP:20260421T143304
CREATED:20260219T023903Z
LAST-MODIFIED:20260219T023928Z
UID:10002027-1777734000-1777748400@utahcarczar.com
SUMMARY:Texas Roadhouse Cruise-In St. George
DESCRIPTION:The 1st Saturday of every month SGCS & Texas Roadhouse will be hosting a Cruise In and fundraiser to help raise money for programs that need help in Our Community. Cruise In times will be around the weather so please watch for changes thru out the year\, There will be discounts and specials on food during the cruise ins.
URL:https://utahcarczar.com/event/texas-roadhouse-cruise-in-st-george/2026-05-02/
LOCATION:Texas Roadhouse – St. George\, 2654 E Red Cliffs Dr\, St George\, Utah
CATEGORIES:Cruise Night
ATTACH;FMTTYPE=image/png:https://utahcarczar.com/wp-content/uploads/2021/08/Texas-Roadhouse-Logo.png
END:VEVENT
BEGIN:VEVENT
DTSTART;TZID=America/Denver:20260503T120000
DTEND;TZID=America/Denver:20260503T150000
DTSTAMP:20260421T143304
CREATED:20260118T164640Z
LAST-MODIFIED:20260203T060106Z
UID:10001985-1777809600-1777820400@utahcarczar.com
SUMMARY:The Watershed Cruise Lunch
DESCRIPTION:
URL:https://utahcarczar.com/event/the-watershed-cruise-lunch/2026-05-03/
LOCATION:The Watershed Pub and Kitchen\, 7176 S 900 E\, Murray\, UT\, 84047\, United States
CATEGORIES:Cruise Night
ATTACH;FMTTYPE=image/webp:https://utahcarczar.com/wp-content/uploads/2026/01/The-Watershed-Pub-and-Kitchen-Logo.webp
ORGANIZER;CN="Rockin Hotrod Productions":MAILTO:rhrp57@yahoo.com
END:VEVENT
BEGIN:VEVENT
DTSTART;TZID=America/Denver:20260504T170000
DTEND;TZID=America/Denver:20260504T200000
DTSTAMP:20260421T143304
CREATED:20260105T053640Z
LAST-MODIFIED:20260308T081053Z
UID:10001900-1777914000-1777924800@utahcarczar.com
SUMMARY:Lonestar Saloon Cruise Night
DESCRIPTION:
URL:https://utahcarczar.com/event/lonestar-saloon-cruise-night/2026-05-04/
LOCATION:Lonestar Saloon\, 3153 2100 S\, West Valley City\, Utah\, 84119
CATEGORIES:Cruise Night
ATTACH;FMTTYPE=image/jpeg:https://utahcarczar.com/wp-content/uploads/2026/01/Lonestar-Saloon-Utah-Logo.jpg
ORGANIZER;CN="Rockin Hotrod Productions":MAILTO:rhrp57@yahoo.com
END:VEVENT
BEGIN:VEVENT
DTSTART;TZID=America/Denver:20260505T170000
DTEND;TZID=America/Denver:20260505T200000
DTSTAMP:20260421T143304
CREATED:20260216T063452Z
LAST-MODIFIED:20260216T063452Z
UID:10002010-1778000400-1778011200@utahcarczar.com
SUMMARY:One Man Band Cruise Night
DESCRIPTION:Monthly cruise night at One Man Band in Lehi with JC Hackett. Held on the first Tuesday of every month\, April – October. \nParking is limited\, arrive early.
URL:https://utahcarczar.com/event/one-man-band-cruise-night/2026-05-05/
LOCATION:One Man Band\, 1220 E Main St\, Lehi\, UT\, United States
CATEGORIES:Cruise,Cruise Night
ATTACH;FMTTYPE=image/png:https://utahcarczar.com/wp-content/uploads/2025/03/One-Man-Band.png
END:VEVENT
BEGIN:VEVENT
DTSTART;TZID=America/Denver:20260506T170000
DTEND;TZID=America/Denver:20260506T200000
DTSTAMP:20260421T143304
CREATED:20260203T060946Z
LAST-MODIFIED:20260203T061037Z
UID:10002001-1778086800-1778097600@utahcarczar.com
SUMMARY:Jordan Landing Cruise Night 2026
DESCRIPTION:
URL:https://utahcarczar.com/event/jordan-landing-cruise-night-2026/2026-05-06/
LOCATION:Jordan Landing\, 7273 Plaza Center Dr\, West Jordan\, UT\, United States
CATEGORIES:Cruise Night
ATTACH;FMTTYPE=image/png:https://utahcarczar.com/wp-content/uploads/2025/03/Jordan-Landing.png
END:VEVENT
BEGIN:VEVENT
DTSTART;TZID=America/Denver:20260510T120000
DTEND;TZID=America/Denver:20260510T150000
DTSTAMP:20260421T143304
CREATED:20260203T053915Z
LAST-MODIFIED:20260308T081340Z
UID:10001956-1778414400-1778425200@utahcarczar.com
SUMMARY:Exotic Kitty Cruise Lunch
DESCRIPTION:
URL:https://utahcarczar.com/event/exotic-kitty-cruise-lunch/2026-05-10/
LOCATION:Exotic Kitty\, 3055 S State St\, South Salt Lake\, UT\, 84115
CATEGORIES:Cruise Night
ATTACH;FMTTYPE=image/png:https://utahcarczar.com/wp-content/uploads/2025/05/2026-Car-Show-Icon.png
ORGANIZER;CN="Rockin Hotrod Productions":MAILTO:rhrp57@yahoo.com
END:VEVENT
BEGIN:VEVENT
DTSTART;TZID=America/Denver:20260511T170000
DTEND;TZID=America/Denver:20260511T200000
DTSTAMP:20260421T143304
CREATED:20260202T053530Z
LAST-MODIFIED:20260202T053728Z
UID:10001943-1778518800-1778529600@utahcarczar.com
SUMMARY:Chubby's Cruise Night
DESCRIPTION:
URL:https://utahcarczar.com/event/chubbys-cruise-night/2026-05-11/
LOCATION:Chubby’s\, 1276 W 12600 S\, Riverton\, Utah
CATEGORIES:Cruise Night
ATTACH;FMTTYPE=image/png:https://utahcarczar.com/wp-content/uploads/2022/03/Chubbys-logo.png
ORGANIZER;CN="Rockin Hotrod Productions":MAILTO:rhrp57@yahoo.com
END:VEVENT
BEGIN:VEVENT
DTSTART;TZID=America/Denver:20260512T170000
DTEND;TZID=America/Denver:20260512T200000
DTSTAMP:20260421T143304
CREATED:20260223T013454Z
LAST-MODIFIED:20260223T013541Z
UID:10002035-1778605200-1778616000@utahcarczar.com
SUMMARY:Shake Shack Cruise Night
DESCRIPTION:Join cruisers and JC Hackett at Shake Shack in Murray\, UT on the second Tuesday each month (April – October). Great food\, oldies\, and cool cars.
URL:https://utahcarczar.com/event/shake-shack-cruise-night-2026/2026-05-12/
LOCATION:Shake Shack\, 6123 S State Street\, Murray\, Utah
CATEGORIES:Cruise Night
ATTACH;FMTTYPE=image/png:https://utahcarczar.com/wp-content/uploads/2025/03/Shake-Shack-Logo.png
END:VEVENT
BEGIN:VEVENT
DTSTART;TZID=America/Denver:20260517T120000
DTEND;TZID=America/Denver:20260517T150000
DTSTAMP:20260421T143304
CREATED:20260203T055622Z
LAST-MODIFIED:20260203T060036Z
UID:10001995-1779019200-1779030000@utahcarczar.com
SUMMARY:The Watershed Cruise Lunch
DESCRIPTION:Join cruisers and Rockin’ Hot Rod Productions for lunch at The Watershed the third Sunday every month (March – October)
URL:https://utahcarczar.com/event/the-watershed-cruise-lunch-3rd-sunday/2026-05-17/
LOCATION:The Watershed Pub and Kitchen\, 7176 S 900 E\, Murray\, UT\, 84047\, United States
CATEGORIES:Cruise Night
ATTACH;FMTTYPE=image/webp:https://utahcarczar.com/wp-content/uploads/2026/01/The-Watershed-Pub-and-Kitchen-Logo.webp
ORGANIZER;CN="Rockin Hotrod Productions":MAILTO:rhrp57@yahoo.com
END:VEVENT
BEGIN:VEVENT
DTSTART;TZID=America/Denver:20260518T170000
DTEND;TZID=America/Denver:20260518T200000
DTSTAMP:20260421T143304
CREATED:20260126T052918Z
LAST-MODIFIED:20260203T055148Z
UID:10001983-1779123600-1779134400@utahcarczar.com
SUMMARY:Jim's Restaurant Cruise Night
DESCRIPTION:
URL:https://utahcarczar.com/event/jims-restaurant-cruise-night-5/2026-05-18/
LOCATION:Jim’s Restaurant\, 12800 S Redwood Rd\, Riverton\, Utah
CATEGORIES:Cruise Night
ATTACH;FMTTYPE=image/jpeg:https://utahcarczar.com/wp-content/uploads/2024/01/Jims-Restaurant-Square-Logo.jpg
ORGANIZER;CN="Rockin Hotrod Productions":MAILTO:rhrp57@yahoo.com
END:VEVENT
BEGIN:VEVENT
DTSTART;TZID=America/Denver:20260520T170000
DTEND;TZID=America/Denver:20260520T200000
DTSTAMP:20260421T143304
CREATED:20260203T054131Z
LAST-MODIFIED:20260308T080749Z
UID:10001967-1779296400-1779307200@utahcarczar.com
SUMMARY:Culver's Cruise Night
DESCRIPTION:
URL:https://utahcarczar.com/event/culvers-cruise-night-2/2026-05-20/
LOCATION:Culver’s\, 7697 S 5600 W\, West Jordan\, Utah
CATEGORIES:Cruise Night
ATTACH;FMTTYPE=image/png:https://utahcarczar.com/wp-content/uploads/2023/05/culvers-restaurants-1-logo-png-transparent.png
ORGANIZER;CN="Rockin Hotrod Productions":MAILTO:rhrp57@yahoo.com
END:VEVENT
BEGIN:VEVENT
DTSTART;TZID=America/Denver:20260521T170000
DTEND;TZID=America/Denver:20260521T200000
DTSTAMP:20260421T143304
CREATED:20260223T014013Z
LAST-MODIFIED:20260223T014830Z
UID:10002048-1779382800-1779393600@utahcarczar.com
SUMMARY:Daybreak Soda Row Cruise Night
DESCRIPTION:
URL:https://utahcarczar.com/event/soda-row-cruise-night/2026-05-21/
LOCATION:SoDa Row\, 11248 Kestrel Rise Road\, South Jordan\, Utah
CATEGORIES:Cruise Night
ATTACH;FMTTYPE=image/png:https://utahcarczar.com/wp-content/uploads/2025/03/Daybreak-Soda-Row-Logo.png
END:VEVENT
BEGIN:VEVENT
DTSTART;TZID=America/Denver:20260524T120000
DTEND;TZID=America/Denver:20260524T150000
DTSTAMP:20260421T143304
CREATED:20260126T054638Z
LAST-MODIFIED:20260126T054638Z
UID:10001933-1779624000-1779634800@utahcarczar.com
SUMMARY:The Pub Cruise Lunch
DESCRIPTION:
URL:https://utahcarczar.com/event/the-pub-cruise-lunch/2026-05-24/
LOCATION:The Pub Sports Bar\, 5502 W 13400 S\, Herriman\, UT\, United States
CATEGORIES:Cruise Night
ATTACH;FMTTYPE=image/jpeg:https://utahcarczar.com/wp-content/uploads/2025/05/The-Pub-Sports-Bar-Logo.jpg
ORGANIZER;CN="Rockin Hotrod Productions":MAILTO:rhrp57@yahoo.com
END:VEVENT
BEGIN:VEVENT
DTSTART;TZID=America/Denver:20260527T170000
DTEND;TZID=America/Denver:20260527T200000
DTSTAMP:20260421T143304
CREATED:20260217T050938Z
LAST-MODIFIED:20260217T051100Z
UID:10002017-1779901200-1779912000@utahcarczar.com
SUMMARY:Burger Stop Cruise Night
DESCRIPTION:
URL:https://utahcarczar.com/event/burger-stop-cruise-night-2/2026-05-27/
LOCATION:Burger Stop\, 323 E Gentile\, Layton\, Utah
CATEGORIES:Cruise Night
ATTACH;FMTTYPE=image/png:https://utahcarczar.com/wp-content/uploads/2025/03/Burger-Stop-Cruise-Night-Logo.png
END:VEVENT
BEGIN:VEVENT
DTSTART;TZID=America/Denver:20260601T170000
DTEND;TZID=America/Denver:20260601T200000
DTSTAMP:20260421T143304
CREATED:20260105T053640Z
LAST-MODIFIED:20260308T081053Z
UID:10001901-1780333200-1780344000@utahcarczar.com
SUMMARY:Lonestar Saloon Cruise Night
DESCRIPTION:
URL:https://utahcarczar.com/event/lonestar-saloon-cruise-night/2026-06-01/
LOCATION:Lonestar Saloon\, 3153 2100 S\, West Valley City\, Utah\, 84119
CATEGORIES:Cruise Night
ATTACH;FMTTYPE=image/jpeg:https://utahcarczar.com/wp-content/uploads/2026/01/Lonestar-Saloon-Utah-Logo.jpg
ORGANIZER;CN="Rockin Hotrod Productions":MAILTO:rhrp57@yahoo.com
END:VEVENT
BEGIN:VEVENT
DTSTART;TZID=America/Denver:20260602T170000
DTEND;TZID=America/Denver:20260602T200000
DTSTAMP:20260421T143304
CREATED:20260216T063452Z
LAST-MODIFIED:20260216T063452Z
UID:10002011-1780419600-1780430400@utahcarczar.com
SUMMARY:One Man Band Cruise Night
DESCRIPTION:Monthly cruise night at One Man Band in Lehi with JC Hackett. Held on the first Tuesday of every month\, April – October. \nParking is limited\, arrive early.
URL:https://utahcarczar.com/event/one-man-band-cruise-night/2026-06-02/
LOCATION:One Man Band\, 1220 E Main St\, Lehi\, UT\, United States
CATEGORIES:Cruise,Cruise Night
ATTACH;FMTTYPE=image/png:https://utahcarczar.com/wp-content/uploads/2025/03/One-Man-Band.png
END:VEVENT
BEGIN:VEVENT
DTSTART;TZID=America/Denver:20260603T170000
DTEND;TZID=America/Denver:20260603T200000
DTSTAMP:20260421T143304
CREATED:20260203T060946Z
LAST-MODIFIED:20260203T061037Z
UID:10002002-1780506000-1780516800@utahcarczar.com
SUMMARY:Jordan Landing Cruise Night 2026
DESCRIPTION:
URL:https://utahcarczar.com/event/jordan-landing-cruise-night-2026/2026-06-03/
LOCATION:Jordan Landing\, 7273 Plaza Center Dr\, West Jordan\, UT\, United States
CATEGORIES:Cruise Night
ATTACH;FMTTYPE=image/png:https://utahcarczar.com/wp-content/uploads/2025/03/Jordan-Landing.png
END:VEVENT
BEGIN:VEVENT
DTSTART;TZID=America/Denver:20260606T150000
DTEND;TZID=America/Denver:20260606T190000
DTSTAMP:20260421T143304
CREATED:20260219T023903Z
LAST-MODIFIED:20260219T023928Z
UID:10002028-1780758000-1780772400@utahcarczar.com
SUMMARY:Texas Roadhouse Cruise-In St. George
DESCRIPTION:The 1st Saturday of every month SGCS & Texas Roadhouse will be hosting a Cruise In and fundraiser to help raise money for programs that need help in Our Community. Cruise In times will be around the weather so please watch for changes thru out the year\, There will be discounts and specials on food during the cruise ins.
URL:https://utahcarczar.com/event/texas-roadhouse-cruise-in-st-george/2026-06-06/
LOCATION:Texas Roadhouse – St. George\, 2654 E Red Cliffs Dr\, St George\, Utah
CATEGORIES:Cruise Night
ATTACH;FMTTYPE=image/png:https://utahcarczar.com/wp-content/uploads/2021/08/Texas-Roadhouse-Logo.png
END:VEVENT
BEGIN:VEVENT
DTSTART;TZID=America/Denver:20260607T120000
DTEND;TZID=America/Denver:20260607T150000
DTSTAMP:20260421T143304
CREATED:20260118T164640Z
LAST-MODIFIED:20260203T060106Z
UID:10001910-1780833600-1780844400@utahcarczar.com
SUMMARY:The Watershed Cruise Lunch
DESCRIPTION:
URL:https://utahcarczar.com/event/the-watershed-cruise-lunch/2026-06-07/
LOCATION:The Watershed Pub and Kitchen\, 7176 S 900 E\, Murray\, UT\, 84047\, United States
CATEGORIES:Cruise Night
ATTACH;FMTTYPE=image/webp:https://utahcarczar.com/wp-content/uploads/2026/01/The-Watershed-Pub-and-Kitchen-Logo.webp
ORGANIZER;CN="Rockin Hotrod Productions":MAILTO:rhrp57@yahoo.com
END:VEVENT
BEGIN:VEVENT
DTSTART;TZID=America/Denver:20260608T170000
DTEND;TZID=America/Denver:20260608T200000
DTSTAMP:20260421T143304
CREATED:20260202T053530Z
LAST-MODIFIED:20260202T053728Z
UID:10001944-1780938000-1780948800@utahcarczar.com
SUMMARY:Chubby's Cruise Night
DESCRIPTION:
URL:https://utahcarczar.com/event/chubbys-cruise-night/2026-06-08/
LOCATION:Chubby’s\, 1276 W 12600 S\, Riverton\, Utah
CATEGORIES:Cruise Night
ATTACH;FMTTYPE=image/png:https://utahcarczar.com/wp-content/uploads/2022/03/Chubbys-logo.png
ORGANIZER;CN="Rockin Hotrod Productions":MAILTO:rhrp57@yahoo.com
END:VEVENT
BEGIN:VEVENT
DTSTART;TZID=America/Denver:20260609T170000
DTEND;TZID=America/Denver:20260609T200000
DTSTAMP:20260421T143304
CREATED:20260223T013454Z
LAST-MODIFIED:20260223T013541Z
UID:10002036-1781024400-1781035200@utahcarczar.com
SUMMARY:Shake Shack Cruise Night
DESCRIPTION:Join cruisers and JC Hackett at Shake Shack in Murray\, UT on the second Tuesday each month (April – October). Great food\, oldies\, and cool cars.
URL:https://utahcarczar.com/event/shake-shack-cruise-night-2026/2026-06-09/
LOCATION:Shake Shack\, 6123 S State Street\, Murray\, Utah
CATEGORIES:Cruise Night
ATTACH;FMTTYPE=image/png:https://utahcarczar.com/wp-content/uploads/2025/03/Shake-Shack-Logo.png
END:VEVENT
BEGIN:VEVENT
DTSTART;TZID=America/Denver:20260614T120000
DTEND;TZID=America/Denver:20260614T150000
DTSTAMP:20260421T143304
CREATED:20260203T053915Z
LAST-MODIFIED:20260308T081340Z
UID:10001957-1781438400-1781449200@utahcarczar.com
SUMMARY:Exotic Kitty Cruise Lunch
DESCRIPTION:
URL:https://utahcarczar.com/event/exotic-kitty-cruise-lunch/2026-06-14/
LOCATION:Exotic Kitty\, 3055 S State St\, South Salt Lake\, UT\, 84115
CATEGORIES:Cruise Night
ATTACH;FMTTYPE=image/png:https://utahcarczar.com/wp-content/uploads/2025/05/2026-Car-Show-Icon.png
ORGANIZER;CN="Rockin Hotrod Productions":MAILTO:rhrp57@yahoo.com
END:VEVENT
BEGIN:VEVENT
DTSTART;TZID=America/Denver:20260617T170000
DTEND;TZID=America/Denver:20260617T200000
DTSTAMP:20260421T143304
CREATED:20260203T054131Z
LAST-MODIFIED:20260308T080749Z
UID:10001968-1781715600-1781726400@utahcarczar.com
SUMMARY:Culver's Cruise Night
DESCRIPTION:
URL:https://utahcarczar.com/event/culvers-cruise-night-2/2026-06-17/
LOCATION:Culver’s\, 7697 S 5600 W\, West Jordan\, Utah
CATEGORIES:Cruise Night
ATTACH;FMTTYPE=image/png:https://utahcarczar.com/wp-content/uploads/2023/05/culvers-restaurants-1-logo-png-transparent.png
ORGANIZER;CN="Rockin Hotrod Productions":MAILTO:rhrp57@yahoo.com
END:VEVENT
BEGIN:VEVENT
DTSTART;TZID=America/Denver:20260618T170000
DTEND;TZID=America/Denver:20260618T200000
DTSTAMP:20260421T143304
CREATED:20260223T014013Z
LAST-MODIFIED:20260223T014830Z
UID:10002049-1781802000-1781812800@utahcarczar.com
SUMMARY:Daybreak Soda Row Cruise Night
DESCRIPTION:
URL:https://utahcarczar.com/event/soda-row-cruise-night/2026-06-18/
LOCATION:SoDa Row\, 11248 Kestrel Rise Road\, South Jordan\, Utah
CATEGORIES:Cruise Night
ATTACH;FMTTYPE=image/png:https://utahcarczar.com/wp-content/uploads/2025/03/Daybreak-Soda-Row-Logo.png
END:VEVENT
END:VCALENDAR