BEGIN:VCALENDAR
VERSION:2.0
PRODID:-//Utah Car Czar - ECPv6.15.18//NONSGML v1.0//EN
CALSCALE:GREGORIAN
METHOD:PUBLISH
X-WR-CALNAME:Utah Car Czar
X-ORIGINAL-URL:https://utahcarczar.com
X-WR-CALDESC:Events for Utah Car Czar
REFRESH-INTERVAL;VALUE=DURATION:PT1H
X-Robots-Tag:noindex
X-PUBLISHED-TTL:PT1H
BEGIN:VTIMEZONE
TZID:America/Denver
BEGIN:DAYLIGHT
TZOFFSETFROM:-0700
TZOFFSETTO:-0600
TZNAME:MDT
DTSTART:20240310T090000
END:DAYLIGHT
BEGIN:STANDARD
TZOFFSETFROM:-0600
TZOFFSETTO:-0700
TZNAME:MST
DTSTART:20241103T080000
END:STANDARD
BEGIN:DAYLIGHT
TZOFFSETFROM:-0700
TZOFFSETTO:-0600
TZNAME:MDT
DTSTART:20250309T090000
END:DAYLIGHT
BEGIN:STANDARD
TZOFFSETFROM:-0600
TZOFFSETTO:-0700
TZNAME:MST
DTSTART:20251102T080000
END:STANDARD
BEGIN:DAYLIGHT
TZOFFSETFROM:-0700
TZOFFSETTO:-0600
TZNAME:MDT
DTSTART:20260308T090000
END:DAYLIGHT
BEGIN:STANDARD
TZOFFSETFROM:-0600
TZOFFSETTO:-0700
TZNAME:MST
DTSTART:20261101T080000
END:STANDARD
END:VTIMEZONE
BEGIN:VEVENT
DTSTART;TZID=America/Denver:20251014T163000
DTEND;TZID=America/Denver:20251014T190000
DTSTAMP:20260421T174855
CREATED:20250511T235843Z
LAST-MODIFIED:20250511T235844Z
UID:10000052-1760459400-1760468400@utahcarczar.com
SUMMARY:Shake Shack Cruise Night
DESCRIPTION:
URL:https://utahcarczar.com/event/shake-shack-cruise-night-2-2/2025-10-14/
LOCATION:Shake Shack\, 6123 S State Street\, Murray\, Utah
CATEGORIES:Cruise Night
ATTACH;FMTTYPE=image/png:https://utahcarczar.com/wp-content/uploads/2025/03/Shake-Shack-Logo.png
END:VEVENT
BEGIN:VEVENT
DTSTART;TZID=America/Denver:20251010T190000
DTEND;TZID=America/Denver:20251010T210000
DTSTAMP:20260421T174855
CREATED:20250318T050030Z
LAST-MODIFIED:20250506T150625Z
UID:10001520-1760122800-1760130000@utahcarczar.com
SUMMARY:Cars and Shakes Riverdale
DESCRIPTION:
URL:https://utahcarczar.com/event/cars-and-shakes-riverdale/2025-10-10/
LOCATION:Dutch Bros\, 4177 Riverdale Road\, Riverdale\, Utah\, 84405
CATEGORIES:Cruise Night
ATTACH;FMTTYPE=image/png:https://utahcarczar.com/wp-content/uploads/2025/03/Dutch-Bros-Logo.png
END:VEVENT
BEGIN:VEVENT
DTSTART;TZID=America/Denver:20251010T160000
DTEND;TZID=America/Denver:20251010T190000
DTSTAMP:20260421T174855
CREATED:20250405T051740Z
LAST-MODIFIED:20251003T183154Z
UID:10001796-1760112000-1760122800@utahcarczar.com
SUMMARY:Les Schwab Cruise Night
DESCRIPTION:
URL:https://utahcarczar.com/event/les-schwab-cruise-night/2025-10-10/
LOCATION:Les Schwab – Bountiful\, 2651 South Main Street\, Bountiful\, Utah
CATEGORIES:Cruise Night
ATTACH;FMTTYPE=image/png:https://utahcarczar.com/wp-content/uploads/2025/05/LES-SCHWAB-LOGO-transparent.png
ORGANIZER;CN="Krank-it-Up Productions":MAILTO:1mikemanilla@gmail.com
END:VEVENT
BEGIN:VEVENT
DTSTART;TZID=America/Denver:20251009T180000
DTEND;TZID=America/Denver:20251009T210000
DTSTAMP:20260421T174855
CREATED:20250416T132515Z
LAST-MODIFIED:20250507T050231Z
UID:10001532-1760032800-1760043600@utahcarczar.com
SUMMARY:Firehouse Pizza Cruise Night
DESCRIPTION:
URL:https://utahcarczar.com/event/firehouse-pizza-cruise-night/2025-10-09/
LOCATION:Firehouse Pizza\, 646 S Main St\, Brigham City\, Utah\, 84302
CATEGORIES:Cruise Night
ATTACH;FMTTYPE=image/png:https://utahcarczar.com/wp-content/uploads/2022/03/Firehouse-Pizzeria-Logo.png
END:VEVENT
BEGIN:VEVENT
DTSTART;TZID=America/Denver:20251009T180000
DTEND;TZID=America/Denver:20251009T210000
DTSTAMP:20260421T174855
CREATED:20250414T043425Z
LAST-MODIFIED:20250419T190010Z
UID:10000313-1760032800-1760043600@utahcarczar.com
SUMMARY:Fiiz Drinks Cruise Nights
DESCRIPTION:
URL:https://utahcarczar.com/event/fiiz-drinks-cruise-nights/2025-10-09/
LOCATION:Fiiz Drinks\, 623 N UT-198\, Salem\, Utah\, 84653
CATEGORIES:Cruise Night
ATTACH;FMTTYPE=image/jpeg:https://utahcarczar.com/wp-content/uploads/2025/04/Fiiz-Drinks-Logo.jpg
END:VEVENT
BEGIN:VEVENT
DTSTART;TZID=America/Denver:20251007T180000
DTEND;TZID=America/Denver:20251007T210000
DTSTAMP:20260421T174855
CREATED:20250408T045703Z
LAST-MODIFIED:20250408T045703Z
UID:10000205-1759860000-1759870800@utahcarczar.com
SUMMARY:Kirt's Drive-In Cruise Night
DESCRIPTION:
URL:https://utahcarczar.com/event/kirts-drive-in-cruise-night/2025-10-07/
LOCATION:Kirt’s Drive-In\, 1974 N 400 E St\, North Ogden\, Utah\, 84414
CATEGORIES:Cruise Night
ATTACH;FMTTYPE=image/jpeg:https://utahcarczar.com/wp-content/uploads/2021/06/Kirts-Drive-In-Logo.jpg
END:VEVENT
BEGIN:VEVENT
DTSTART;TZID=America/Denver:20251007T160000
DTEND;TZID=America/Denver:20251007T190000
DTSTAMP:20260421T174855
CREATED:20250601T230217Z
LAST-MODIFIED:20250601T230218Z
UID:10000058-1759852800-1759863600@utahcarczar.com
SUMMARY:One Man Band Cruise Night
DESCRIPTION:Monthly cruise night at One Man Band in Lehi with JC Hackett.
URL:https://utahcarczar.com/event/one-man-band-cruise-night-2-2-2/2025-10-07/
LOCATION:One Man Band\, 1220 E Main St\, Lehi\, UT\, United States
CATEGORIES:Cruise Night
ATTACH;FMTTYPE=image/png:https://utahcarczar.com/wp-content/uploads/2025/03/One-Man-Band.png
END:VEVENT
BEGIN:VEVENT
DTSTART;TZID=America/Denver:20251004T190000
DTEND;TZID=America/Denver:20251004T210000
DTSTAMP:20260421T174855
CREATED:20250516T060252Z
LAST-MODIFIED:20250516T060645Z
UID:10001573-1759604400-1759611600@utahcarczar.com
SUMMARY:Cruisin the Brewery
DESCRIPTION:
URL:https://utahcarczar.com/event/cruisin-the-brewery-st-george/2025-10-04/
LOCATION:Strap Tank Brewery St. George\, 1872 Crosby Way\, St. George\, Utah
CATEGORIES:Cruise Night
ATTACH;FMTTYPE=image/png:https://utahcarczar.com/wp-content/uploads/2025/05/Strap-Tank-Brewery-Logo.png
END:VEVENT
BEGIN:VEVENT
DTSTART;TZID=America/Denver:20251003T170000
DTEND;TZID=America/Denver:20251003T200000
DTSTAMP:20260421T174855
CREATED:20250405T051740Z
LAST-MODIFIED:20251003T183154Z
UID:10001795-1759510800-1759521600@utahcarczar.com
SUMMARY:Les Schwab Cruise Night
DESCRIPTION:
URL:https://utahcarczar.com/event/les-schwab-cruise-night/2025-10-03/
LOCATION:Les Schwab – Bountiful\, 2651 South Main Street\, Bountiful\, Utah
CATEGORIES:Cruise Night
ATTACH;FMTTYPE=image/png:https://utahcarczar.com/wp-content/uploads/2025/05/LES-SCHWAB-LOGO-transparent.png
ORGANIZER;CN="Krank-it-Up Productions":MAILTO:1mikemanilla@gmail.com
END:VEVENT
BEGIN:VEVENT
DTSTART;TZID=America/Denver:20251001T160000
DTEND;TZID=America/Denver:20251001T190000
DTSTAMP:20260421T174855
CREATED:20250511T235945Z
LAST-MODIFIED:20250511T235945Z
UID:10000034-1759334400-1759345200@utahcarczar.com
SUMMARY:Jordan Landing Cruise Night
DESCRIPTION:Monthly cruise night at Jordan Landing with JC Hackett
URL:https://utahcarczar.com/event/jordan-landing-cruise-night-2-2-2/2025-10-01/
LOCATION:Jordan Landing\, 7273 Plaza Center Dr\, West Jordan\, UT\, United States
CATEGORIES:Cruise Night
ATTACH;FMTTYPE=image/png:https://utahcarczar.com/wp-content/uploads/2025/03/Jordan-Landing.png
END:VEVENT
BEGIN:VEVENT
DTSTART;TZID=America/Denver:20250928T120000
DTEND;TZID=America/Denver:20250928T150000
DTSTAMP:20260421T174855
CREATED:20250406T060508Z
LAST-MODIFIED:20250927T054407Z
UID:10000149-1759060800-1759071600@utahcarczar.com
SUMMARY:The Pub Cruise Night
DESCRIPTION:
URL:https://utahcarczar.com/event/bout-time-cruise-night/2025-09-28/
LOCATION:The Pub Sports Bar\, 5502 W 13400 S\, Herriman\, UT\, United States
CATEGORIES:Cruise Night
ATTACH;FMTTYPE=image/jpeg:https://utahcarczar.com/wp-content/uploads/2025/05/The-Pub-Sports-Bar-Logo.jpg
ORGANIZER;CN="Rockin Hotrod Productions":MAILTO:rhrp57@yahoo.com
END:VEVENT
BEGIN:VEVENT
DTSTART;TZID=America/Denver:20250927T190000
DTEND;TZID=America/Denver:20250927T210000
DTSTAMP:20260421T174855
CREATED:20250516T055815Z
LAST-MODIFIED:20250519T040057Z
UID:10001568-1758999600-1759006800@utahcarczar.com
SUMMARY:Culver's Cruise-In
DESCRIPTION:
URL:https://utahcarczar.com/event/culvers-cruise-in-st-george/2025-09-27/
LOCATION:Culver’s – St. George\, 1586 S 270 E\, St. George\, Utah
CATEGORIES:Cruise Night
ATTACH;FMTTYPE=image/png:https://utahcarczar.com/wp-content/uploads/2023/05/culvers-restaurants-1-logo-png-transparent.png
END:VEVENT
BEGIN:VEVENT
DTSTART;TZID=America/Denver:20250926T160000
DTEND;TZID=America/Denver:20250926T190000
DTSTAMP:20260421T174855
CREATED:20250419T213940Z
LAST-MODIFIED:20250419T213940Z
UID:10001472-1758902400-1758913200@utahcarczar.com
SUMMARY:Woody's Drive-In Cruise Night
DESCRIPTION:
URL:https://utahcarczar.com/event/woodys-drive-in-cruise-night/2025-09-26/
LOCATION:Woody’s Drive-In\, 6172 S 1300 E\, Murray\, Utah
CATEGORIES:Cruise Night
ATTACH;FMTTYPE=image/webp:https://utahcarczar.com/wp-content/uploads/2025/04/Woodys-Drive-In-Logo.webp
END:VEVENT
BEGIN:VEVENT
DTSTART;TZID=America/Denver:20250925T180000
DTEND;TZID=America/Denver:20250925T210000
DTSTAMP:20260421T174855
CREATED:20250416T132515Z
LAST-MODIFIED:20250507T050231Z
UID:10001531-1758823200-1758834000@utahcarczar.com
SUMMARY:Firehouse Pizza Cruise Night
DESCRIPTION:
URL:https://utahcarczar.com/event/firehouse-pizza-cruise-night/2025-09-25/
LOCATION:Firehouse Pizza\, 646 S Main St\, Brigham City\, Utah\, 84302
CATEGORIES:Cruise Night
ATTACH;FMTTYPE=image/png:https://utahcarczar.com/wp-content/uploads/2022/03/Firehouse-Pizzeria-Logo.png
END:VEVENT
BEGIN:VEVENT
DTSTART;TZID=America/Denver:20250925T180000
DTEND;TZID=America/Denver:20250925T210000
DTSTAMP:20260421T174855
CREATED:20250414T043425Z
LAST-MODIFIED:20250419T190010Z
UID:10000312-1758823200-1758834000@utahcarczar.com
SUMMARY:Fiiz Drinks Cruise Nights
DESCRIPTION:
URL:https://utahcarczar.com/event/fiiz-drinks-cruise-nights/2025-09-25/
LOCATION:Fiiz Drinks\, 623 N UT-198\, Salem\, Utah\, 84653
CATEGORIES:Cruise Night
ATTACH;FMTTYPE=image/jpeg:https://utahcarczar.com/wp-content/uploads/2025/04/Fiiz-Drinks-Logo.jpg
END:VEVENT
BEGIN:VEVENT
DTSTART;TZID=America/Denver:20250924T170000
DTEND;TZID=America/Denver:20250924T200000
DTSTAMP:20260421T174855
CREATED:20250406T063452Z
LAST-MODIFIED:20250418T041845Z
UID:10000186-1758733200-1758744000@utahcarczar.com
SUMMARY:Burger Stop Cruise Night
DESCRIPTION:
URL:https://utahcarczar.com/event/burger-stop-cruise-night/2025-09-24/
LOCATION:Burger Stop\, 323 E Gentile\, Layton\, Utah
CATEGORIES:Cruise Night
ATTACH;FMTTYPE=image/png:https://utahcarczar.com/wp-content/uploads/2025/03/Burger-Stop-Cruise-Night-Logo.png
END:VEVENT
BEGIN:VEVENT
DTSTART;TZID=America/Denver:20250924T170000
DTEND;TZID=America/Denver:20250924T193000
DTSTAMP:20260421T174855
CREATED:20250915T052018Z
LAST-MODIFIED:20250915T052323Z
UID:10001777-1758733200-1758742200@utahcarczar.com
SUMMARY:The Wellington Assisted Living Center Car Show
DESCRIPTION:The Wellington assisted living Car Show 2025 \nRaffle drawing starting at 7:00 and Awards at 7:30 \nHopefully we can be done before dark. \nFree BBQ and all the fixings. \nCome on out and spend the evening with us and grab a meal.
URL:https://utahcarczar.com/event/wellington-center-car-show/
LOCATION:The Wellington Assisted Living\, 4522 South 1300 East\, Salt Lake City\, UT
CATEGORIES:Cruise Night
ATTACH;FMTTYPE=image/png:https://utahcarczar.com/wp-content/uploads/2020/05/The-Wellington-Senior-Center-Logo.png
ORGANIZER;CN="Krank-it-Up Productions":MAILTO:1mikemanilla@gmail.com
END:VEVENT
BEGIN:VEVENT
DTSTART;TZID=America/Denver:20250923T170000
DTEND;TZID=America/Denver:20250923T200000
DTSTAMP:20260421T174855
CREATED:20250601T230637Z
LAST-MODIFIED:20250601T230637Z
UID:10001608-1758646800-1758657600@utahcarczar.com
SUMMARY:Garage Grill Cruise Night
DESCRIPTION:
URL:https://utahcarczar.com/event/garage-grill-cruise-night/2025-09-23/
LOCATION:Garage Grill\, 1122 East Draper Pkwy\, Draper\, Utahg\, 84020
CATEGORIES:Cruise Night
ATTACH;FMTTYPE=image/png:https://utahcarczar.com/wp-content/uploads/2023/03/Garage-Grill-Logo.png
END:VEVENT
BEGIN:VEVENT
DTSTART;TZID=America/Denver:20250920T170000
DTEND;TZID=America/Denver:20250920T210000
DTSTAMP:20260421T174855
CREATED:20250608T221751Z
LAST-MODIFIED:20250826T220105Z
UID:10001613-1758387600-1758402000@utahcarczar.com
SUMMARY:Les Schwab Cruise Night
DESCRIPTION:(801) 495-9020\nJason Johnson-Manager \nWe’re located just east of I-15 (exit 291) and west of S 700 E\, next to the Minute Wash Car Wash.
URL:https://utahcarczar.com/event/les-schwab-cruise-night-draper/
LOCATION:Les Schwab – Draper\, 653 E 12300 S\, Draper
CATEGORIES:Cruise Night
ATTACH;FMTTYPE=image/png:https://utahcarczar.com/wp-content/uploads/2025/05/LES-SCHWAB-LOGO-transparent.png
ORGANIZER;CN="Krank-it-Up Productions":MAILTO:1mikemanilla@gmail.com
END:VEVENT
BEGIN:VEVENT
DTSTART;TZID=America/Denver:20250918T180000
DTEND;TZID=America/Denver:20250918T180000
DTSTAMP:20260421T174855
CREATED:20250331T062257Z
LAST-MODIFIED:20250416T131635Z
UID:10000114-1758218400-1758218400@utahcarczar.com
SUMMARY:Phillips 66 Cruise
DESCRIPTION:Cruise to a new location every month.
URL:https://utahcarczar.com/event/phillips-66-cruise/2025-09-18/
LOCATION:Phillips 66\, 527 S 700 W\, Woods Cross\, Utah\, 84087
CATEGORIES:Cruise Night
ATTACH;FMTTYPE=image/png:https://utahcarczar.com/wp-content/uploads/2025/03/Phillips_66_logo.png
END:VEVENT
BEGIN:VEVENT
DTSTART;TZID=America/Denver:20250918T170000
DTEND;TZID=America/Denver:20250918T200000
DTSTAMP:20260421T174855
CREATED:20250803T220621Z
LAST-MODIFIED:20250803T220621Z
UID:10001724-1758214800-1758225600@utahcarczar.com
SUMMARY:Summit Vista Car Show Soc Hop
DESCRIPTION:NOTE: All vehicles will be parked behind the OAK SPRINGS apartment building. Car show vehicles will need to come through the security gate\, turn right heading east\, then head northwest to the back of OAK SPRINGS.\nWE ONLY HAVE SPACE FOR 50 VEHICLES SO NEED TO KEEP THE CAR SHOW AT THIS NUMBER IF POSSIBLE!!!
URL:https://utahcarczar.com/event/summit-vista-car-show-soc-hop/
LOCATION:Summit Vista\, 3390 West Signal Peak Drive\, Taylorsville
CATEGORIES:Cruise Night
ATTACH;FMTTYPE=image/jpeg:https://utahcarczar.com/wp-content/uploads/2025/07/summit_vista_logo_final_4c.jpg
ORGANIZER;CN="Krank-it-Up Productions":MAILTO:1mikemanilla@gmail.com
END:VEVENT
BEGIN:VEVENT
DTSTART;TZID=America/Denver:20250918T170000
DTEND;TZID=America/Denver:20250918T200000
DTSTAMP:20260421T174855
CREATED:20250312T033109Z
LAST-MODIFIED:20250312T033254Z
UID:10000076-1758214800-1758225600@utahcarczar.com
SUMMARY:Daybreak Soda Row Cruise Night
DESCRIPTION:
URL:https://utahcarczar.com/event/daybreak-soda-row-cruise-night/2025-09-18/
LOCATION:SoDa Row\, 11248 Kestrel Rise Road\, South Jordan\, Utah
CATEGORIES:Cruise Night
ATTACH;FMTTYPE=image/png:https://utahcarczar.com/wp-content/uploads/2025/03/Daybreak-Soda-Row-Logo.png
END:VEVENT
BEGIN:VEVENT
DTSTART;TZID=America/Denver:20250912T190000
DTEND;TZID=America/Denver:20250912T210000
DTSTAMP:20260421T174855
CREATED:20250318T050030Z
LAST-MODIFIED:20250506T150625Z
UID:10001519-1757703600-1757710800@utahcarczar.com
SUMMARY:Cars and Shakes Riverdale
DESCRIPTION:
URL:https://utahcarczar.com/event/cars-and-shakes-riverdale/2025-09-12/
LOCATION:Dutch Bros\, 4177 Riverdale Road\, Riverdale\, Utah\, 84405
CATEGORIES:Cruise Night
ATTACH;FMTTYPE=image/png:https://utahcarczar.com/wp-content/uploads/2025/03/Dutch-Bros-Logo.png
END:VEVENT
BEGIN:VEVENT
DTSTART;TZID=America/Denver:20250911T180000
DTEND;TZID=America/Denver:20250911T210000
DTSTAMP:20260421T174855
CREATED:20250416T132515Z
LAST-MODIFIED:20250507T050231Z
UID:10001530-1757613600-1757624400@utahcarczar.com
SUMMARY:Firehouse Pizza Cruise Night
DESCRIPTION:
URL:https://utahcarczar.com/event/firehouse-pizza-cruise-night/2025-09-11/
LOCATION:Firehouse Pizza\, 646 S Main St\, Brigham City\, Utah\, 84302
CATEGORIES:Cruise Night
ATTACH;FMTTYPE=image/png:https://utahcarczar.com/wp-content/uploads/2022/03/Firehouse-Pizzeria-Logo.png
END:VEVENT
BEGIN:VEVENT
DTSTART;TZID=America/Denver:20250911T180000
DTEND;TZID=America/Denver:20250911T210000
DTSTAMP:20260421T174855
CREATED:20250414T043425Z
LAST-MODIFIED:20250419T190010Z
UID:10000311-1757613600-1757624400@utahcarczar.com
SUMMARY:Fiiz Drinks Cruise Nights
DESCRIPTION:
URL:https://utahcarczar.com/event/fiiz-drinks-cruise-nights/2025-09-11/
LOCATION:Fiiz Drinks\, 623 N UT-198\, Salem\, Utah\, 84653
CATEGORIES:Cruise Night
ATTACH;FMTTYPE=image/jpeg:https://utahcarczar.com/wp-content/uploads/2025/04/Fiiz-Drinks-Logo.jpg
END:VEVENT
BEGIN:VEVENT
DTSTART;TZID=America/Denver:20250911T170000
DTEND;TZID=America/Denver:20250911T200000
DTSTAMP:20260421T174855
CREATED:20250509T024206Z
LAST-MODIFIED:20250509T024206Z
UID:10001537-1757610000-1757620800@utahcarczar.com
SUMMARY:Midtown Manor Car Show
DESCRIPTION:Free show for Everyone
URL:https://utahcarczar.com/event/midtown-manor-car-show/
LOCATION:Midtown Manor\, 125s.900w\, Salt lake
CATEGORIES:Cruise Night
ATTACH;FMTTYPE=image/png:https://utahcarczar.com/wp-content/uploads/2022/04/241664901_542521440412532_5984518428803894701_n.png
END:VEVENT
BEGIN:VEVENT
DTSTART;TZID=America/Denver:20250909T170000
DTEND;TZID=America/Denver:20250909T200000
DTSTAMP:20260421T174855
CREATED:20250511T235843Z
LAST-MODIFIED:20250511T235844Z
UID:10001551-1757437200-1757448000@utahcarczar.com
SUMMARY:Shake Shack Cruise Night
DESCRIPTION:
URL:https://utahcarczar.com/event/shake-shack-cruise-night-2-2/2025-09-09/
LOCATION:Shake Shack\, 6123 S State Street\, Murray\, Utah
CATEGORIES:Cruise Night
ATTACH;FMTTYPE=image/png:https://utahcarczar.com/wp-content/uploads/2025/03/Shake-Shack-Logo.png
END:VEVENT
BEGIN:VEVENT
DTSTART;TZID=America/Denver:20250906T190000
DTEND;TZID=America/Denver:20250906T210000
DTSTAMP:20260421T174855
CREATED:20250516T060252Z
LAST-MODIFIED:20250516T060645Z
UID:10001572-1757185200-1757192400@utahcarczar.com
SUMMARY:Cruisin the Brewery
DESCRIPTION:
URL:https://utahcarczar.com/event/cruisin-the-brewery-st-george/2025-09-06/
LOCATION:Strap Tank Brewery St. George\, 1872 Crosby Way\, St. George\, Utah
CATEGORIES:Cruise Night
ATTACH;FMTTYPE=image/png:https://utahcarczar.com/wp-content/uploads/2025/05/Strap-Tank-Brewery-Logo.png
END:VEVENT
BEGIN:VEVENT
DTSTART;TZID=America/Denver:20250905T170000
DTEND;TZID=America/Denver:20250905T200000
DTSTAMP:20260421T174855
CREATED:20250405T051740Z
LAST-MODIFIED:20251003T183154Z
UID:10000137-1757091600-1757102400@utahcarczar.com
SUMMARY:Les Schwab Cruise Night
DESCRIPTION:
URL:https://utahcarczar.com/event/les-schwab-cruise-night/2025-09-05/
LOCATION:Les Schwab – Bountiful\, 2651 South Main Street\, Bountiful\, Utah
CATEGORIES:Cruise Night
ATTACH;FMTTYPE=image/png:https://utahcarczar.com/wp-content/uploads/2025/05/LES-SCHWAB-LOGO-transparent.png
ORGANIZER;CN="Krank-it-Up Productions":MAILTO:1mikemanilla@gmail.com
END:VEVENT
BEGIN:VEVENT
DTSTART;TZID=America/Denver:20250903T170000
DTEND;TZID=America/Denver:20250903T200000
DTSTAMP:20260421T174855
CREATED:20250511T235945Z
LAST-MODIFIED:20250511T235945Z
UID:10001552-1756918800-1756929600@utahcarczar.com
SUMMARY:Jordan Landing Cruise Night
DESCRIPTION:Monthly cruise night at Jordan Landing with JC Hackett
URL:https://utahcarczar.com/event/jordan-landing-cruise-night-2-2-2/2025-09-03/
LOCATION:Jordan Landing\, 7273 Plaza Center Dr\, West Jordan\, UT\, United States
CATEGORIES:Cruise Night
ATTACH;FMTTYPE=image/png:https://utahcarczar.com/wp-content/uploads/2025/03/Jordan-Landing.png
END:VEVENT
END:VCALENDAR