BEGIN:VCALENDAR
VERSION:2.0
PRODID:-//Utah Car Czar - ECPv6.15.18//NONSGML v1.0//EN
CALSCALE:GREGORIAN
METHOD:PUBLISH
X-ORIGINAL-URL:https://utahcarczar.com
X-WR-CALDESC:Events for Utah Car Czar
REFRESH-INTERVAL;VALUE=DURATION:PT1H
X-Robots-Tag:noindex
X-PUBLISHED-TTL:PT1H
BEGIN:VTIMEZONE
TZID:America/Denver
BEGIN:DAYLIGHT
TZOFFSETFROM:-0700
TZOFFSETTO:-0600
TZNAME:MDT
DTSTART:20240310T090000
END:DAYLIGHT
BEGIN:STANDARD
TZOFFSETFROM:-0600
TZOFFSETTO:-0700
TZNAME:MST
DTSTART:20241103T080000
END:STANDARD
BEGIN:DAYLIGHT
TZOFFSETFROM:-0700
TZOFFSETTO:-0600
TZNAME:MDT
DTSTART:20250309T090000
END:DAYLIGHT
BEGIN:STANDARD
TZOFFSETFROM:-0600
TZOFFSETTO:-0700
TZNAME:MST
DTSTART:20251102T080000
END:STANDARD
BEGIN:DAYLIGHT
TZOFFSETFROM:-0700
TZOFFSETTO:-0600
TZNAME:MDT
DTSTART:20260308T090000
END:DAYLIGHT
BEGIN:STANDARD
TZOFFSETFROM:-0600
TZOFFSETTO:-0700
TZNAME:MST
DTSTART:20261101T080000
END:STANDARD
END:VTIMEZONE
BEGIN:VEVENT
DTSTART;TZID=America/Denver:20250902T180000
DTEND;TZID=America/Denver:20250902T210000
DTSTAMP:20260421T180414
CREATED:20250408T045703Z
LAST-MODIFIED:20250408T045703Z
UID:10000204-1756836000-1756846800@utahcarczar.com
SUMMARY:Kirt's Drive-In Cruise Night
DESCRIPTION:
URL:https://utahcarczar.com/event/kirts-drive-in-cruise-night/2025-09-02/
LOCATION:Kirt’s Drive-In\, 1974 N 400 E St\, North Ogden\, Utah\, 84414
CATEGORIES:Cruise Night
ATTACH;FMTTYPE=image/jpeg:https://utahcarczar.com/wp-content/uploads/2021/06/Kirts-Drive-In-Logo.jpg
END:VEVENT
BEGIN:VEVENT
DTSTART;TZID=America/Denver:20250902T170000
DTEND;TZID=America/Denver:20250902T200000
DTSTAMP:20260421T180414
CREATED:20250601T230217Z
LAST-MODIFIED:20250601T230218Z
UID:10001604-1756832400-1756843200@utahcarczar.com
SUMMARY:One Man Band Cruise Night
DESCRIPTION:Monthly cruise night at One Man Band in Lehi with JC Hackett.
URL:https://utahcarczar.com/event/one-man-band-cruise-night-2-2-2/2025-09-02/
LOCATION:One Man Band\, 1220 E Main St\, Lehi\, UT\, United States
CATEGORIES:Cruise Night
ATTACH;FMTTYPE=image/png:https://utahcarczar.com/wp-content/uploads/2025/03/One-Man-Band.png
END:VEVENT
BEGIN:VEVENT
DTSTART;TZID=America/Denver:20250830T170000
DTEND;TZID=America/Denver:20250830T200000
DTSTAMP:20260421T180414
CREATED:20250430T054736Z
LAST-MODIFIED:20250430T054736Z
UID:10001506-1756573200-1756584000@utahcarczar.com
SUMMARY:Cannon Classics Legends of the Golden Era
DESCRIPTION:
URL:https://utahcarczar.com/event/cannon-classics-legends-of-the-golden-era/
LOCATION:Cannon Classic Cars\, 809 West 1700 South\, Salt Lake City\, Utah
CATEGORIES:Cruise Night
ATTACH;FMTTYPE=image/jpeg:https://utahcarczar.com/wp-content/uploads/2025/04/cannon-classic-logo.jpg
ORGANIZER;CN="Krank-it-Up Productions":MAILTO:1mikemanilla@gmail.com
END:VEVENT
BEGIN:VEVENT
DTSTART;TZID=America/Denver:20250828T180000
DTEND;TZID=America/Denver:20250828T210000
DTSTAMP:20260421T180414
CREATED:20250416T132515Z
LAST-MODIFIED:20250507T050231Z
UID:10001529-1756404000-1756414800@utahcarczar.com
SUMMARY:Firehouse Pizza Cruise Night
DESCRIPTION:
URL:https://utahcarczar.com/event/firehouse-pizza-cruise-night/2025-08-28/
LOCATION:Firehouse Pizza\, 646 S Main St\, Brigham City\, Utah\, 84302
CATEGORIES:Cruise Night
ATTACH;FMTTYPE=image/png:https://utahcarczar.com/wp-content/uploads/2022/03/Firehouse-Pizzeria-Logo.png
END:VEVENT
BEGIN:VEVENT
DTSTART;TZID=America/Denver:20250828T180000
DTEND;TZID=America/Denver:20250828T210000
DTSTAMP:20260421T180414
CREATED:20250414T043425Z
LAST-MODIFIED:20250419T190010Z
UID:10000310-1756404000-1756414800@utahcarczar.com
SUMMARY:Fiiz Drinks Cruise Nights
DESCRIPTION:
URL:https://utahcarczar.com/event/fiiz-drinks-cruise-nights/2025-08-28/
LOCATION:Fiiz Drinks\, 623 N UT-198\, Salem\, Utah\, 84653
CATEGORIES:Cruise Night
ATTACH;FMTTYPE=image/jpeg:https://utahcarczar.com/wp-content/uploads/2025/04/Fiiz-Drinks-Logo.jpg
END:VEVENT
BEGIN:VEVENT
DTSTART;TZID=America/Denver:20250827T170000
DTEND;TZID=America/Denver:20250827T200000
DTSTAMP:20260421T180414
CREATED:20250406T063452Z
LAST-MODIFIED:20250418T041845Z
UID:10000185-1756314000-1756324800@utahcarczar.com
SUMMARY:Burger Stop Cruise Night
DESCRIPTION:
URL:https://utahcarczar.com/event/burger-stop-cruise-night/2025-08-27/
LOCATION:Burger Stop\, 323 E Gentile\, Layton\, Utah
CATEGORIES:Cruise Night
ATTACH;FMTTYPE=image/png:https://utahcarczar.com/wp-content/uploads/2025/03/Burger-Stop-Cruise-Night-Logo.png
END:VEVENT
BEGIN:VEVENT
DTSTART;TZID=America/Denver:20250826T170000
DTEND;TZID=America/Denver:20250826T200000
DTSTAMP:20260421T180414
CREATED:20250826T215829Z
LAST-MODIFIED:20250826T215847Z
UID:10001607-1756227600-1756238400@utahcarczar.com
SUMMARY:Garage Grill Cruise Night
DESCRIPTION:
URL:https://utahcarczar.com/event/garage-grill-cruise-night-aug-2025/
LOCATION:Garage Grill\, 1122 East Draper Pkwy\, Draper\, Utahg\, 84020
CATEGORIES:Cruise Night
ATTACH;FMTTYPE=image/png:https://utahcarczar.com/wp-content/uploads/2023/03/Garage-Grill-Logo.png
END:VEVENT
BEGIN:VEVENT
DTSTART;TZID=America/Denver:20250824T120000
DTEND;TZID=America/Denver:20250824T150000
DTSTAMP:20260421T180414
CREATED:20250406T060508Z
LAST-MODIFIED:20250927T054407Z
UID:10000148-1756036800-1756047600@utahcarczar.com
SUMMARY:The Pub Cruise Night
DESCRIPTION:
URL:https://utahcarczar.com/event/bout-time-cruise-night/2025-08-24/
LOCATION:The Pub Sports Bar\, 5502 W 13400 S\, Herriman\, UT\, United States
CATEGORIES:Cruise Night
ATTACH;FMTTYPE=image/jpeg:https://utahcarczar.com/wp-content/uploads/2025/05/The-Pub-Sports-Bar-Logo.jpg
ORGANIZER;CN="Rockin Hotrod Productions":MAILTO:rhrp57@yahoo.com
END:VEVENT
BEGIN:VEVENT
DTSTART;TZID=America/Denver:20250823T190000
DTEND;TZID=America/Denver:20250823T210000
DTSTAMP:20260421T180414
CREATED:20250516T055815Z
LAST-MODIFIED:20250519T040057Z
UID:10001567-1755975600-1755982800@utahcarczar.com
SUMMARY:Culver's Cruise-In
DESCRIPTION:
URL:https://utahcarczar.com/event/culvers-cruise-in-st-george/2025-08-23/
LOCATION:Culver’s – St. George\, 1586 S 270 E\, St. George\, Utah
CATEGORIES:Cruise Night
ATTACH;FMTTYPE=image/png:https://utahcarczar.com/wp-content/uploads/2023/05/culvers-restaurants-1-logo-png-transparent.png
END:VEVENT
BEGIN:VEVENT
DTSTART;TZID=America/Denver:20250822T160000
DTEND;TZID=America/Denver:20250822T190000
DTSTAMP:20260421T180414
CREATED:20250419T213940Z
LAST-MODIFIED:20250419T213940Z
UID:10001471-1755878400-1755889200@utahcarczar.com
SUMMARY:Woody's Drive-In Cruise Night
DESCRIPTION:
URL:https://utahcarczar.com/event/woodys-drive-in-cruise-night/2025-08-22/
LOCATION:Woody’s Drive-In\, 6172 S 1300 E\, Murray\, Utah
CATEGORIES:Cruise Night
ATTACH;FMTTYPE=image/webp:https://utahcarczar.com/wp-content/uploads/2025/04/Woodys-Drive-In-Logo.webp
END:VEVENT
BEGIN:VEVENT
DTSTART;TZID=America/Denver:20250821T180000
DTEND;TZID=America/Denver:20250821T180000
DTSTAMP:20260421T180414
CREATED:20250331T062257Z
LAST-MODIFIED:20250416T131635Z
UID:10000113-1755799200-1755799200@utahcarczar.com
SUMMARY:Phillips 66 Cruise
DESCRIPTION:Cruise to a new location every month.
URL:https://utahcarczar.com/event/phillips-66-cruise/2025-08-21/
LOCATION:Phillips 66\, 527 S 700 W\, Woods Cross\, Utah\, 84087
CATEGORIES:Cruise Night
ATTACH;FMTTYPE=image/png:https://utahcarczar.com/wp-content/uploads/2025/03/Phillips_66_logo.png
END:VEVENT
BEGIN:VEVENT
DTSTART;TZID=America/Denver:20250821T170000
DTEND;TZID=America/Denver:20250821T200000
DTSTAMP:20260421T180414
CREATED:20250312T033109Z
LAST-MODIFIED:20250312T033254Z
UID:10000075-1755795600-1755806400@utahcarczar.com
SUMMARY:Daybreak Soda Row Cruise Night
DESCRIPTION:
URL:https://utahcarczar.com/event/daybreak-soda-row-cruise-night/2025-08-21/
LOCATION:SoDa Row\, 11248 Kestrel Rise Road\, South Jordan\, Utah
CATEGORIES:Cruise Night
ATTACH;FMTTYPE=image/png:https://utahcarczar.com/wp-content/uploads/2025/03/Daybreak-Soda-Row-Logo.png
END:VEVENT
BEGIN:VEVENT
DTSTART;TZID=America/Denver:20250818T170000
DTEND;TZID=America/Denver:20250818T200000
DTSTAMP:20260421T180414
CREATED:20250416T125405Z
LAST-MODIFIED:20250721T044439Z
UID:10001167-1755536400-1755547200@utahcarczar.com
SUMMARY:Cedarwood Senior Cruise Night
DESCRIPTION:
URL:https://utahcarczar.com/event/cedarwood-senior-cruise-night/
LOCATION:Cedarwood Senior Living at Sandy\, 10970 S 700 E\, Sandy\, Utah
CATEGORIES:Cruise Night
ATTACH;FMTTYPE=image/png:https://utahcarczar.com/wp-content/uploads/2025/04/Cedarwood-Senior-Cruise-Night-Logo.png
ORGANIZER;CN="Rockin Hotrod Productions":MAILTO:rhrp57@yahoo.com
END:VEVENT
BEGIN:VEVENT
DTSTART;TZID=America/Denver:20250814T180000
DTEND;TZID=America/Denver:20250814T210000
DTSTAMP:20260421T180414
CREATED:20250416T132515Z
LAST-MODIFIED:20250507T050231Z
UID:10001528-1755194400-1755205200@utahcarczar.com
SUMMARY:Firehouse Pizza Cruise Night
DESCRIPTION:
URL:https://utahcarczar.com/event/firehouse-pizza-cruise-night/2025-08-14/
LOCATION:Firehouse Pizza\, 646 S Main St\, Brigham City\, Utah\, 84302
CATEGORIES:Cruise Night
ATTACH;FMTTYPE=image/png:https://utahcarczar.com/wp-content/uploads/2022/03/Firehouse-Pizzeria-Logo.png
END:VEVENT
BEGIN:VEVENT
DTSTART;TZID=America/Denver:20250814T180000
DTEND;TZID=America/Denver:20250814T210000
DTSTAMP:20260421T180414
CREATED:20250414T043425Z
LAST-MODIFIED:20250419T190010Z
UID:10000309-1755194400-1755205200@utahcarczar.com
SUMMARY:Fiiz Drinks Cruise Nights
DESCRIPTION:
URL:https://utahcarczar.com/event/fiiz-drinks-cruise-nights/2025-08-14/
LOCATION:Fiiz Drinks\, 623 N UT-198\, Salem\, Utah\, 84653
CATEGORIES:Cruise Night
ATTACH;FMTTYPE=image/jpeg:https://utahcarczar.com/wp-content/uploads/2025/04/Fiiz-Drinks-Logo.jpg
END:VEVENT
BEGIN:VEVENT
DTSTART;TZID=America/Denver:20250812T170000
DTEND;TZID=America/Denver:20250812T200000
DTSTAMP:20260421T180414
CREATED:20250511T235843Z
LAST-MODIFIED:20250511T235844Z
UID:10001549-1755018000-1755028800@utahcarczar.com
SUMMARY:Shake Shack Cruise Night
DESCRIPTION:
URL:https://utahcarczar.com/event/shake-shack-cruise-night-2-2/2025-08-12/
LOCATION:Shake Shack\, 6123 S State Street\, Murray\, Utah
CATEGORIES:Cruise Night
ATTACH;FMTTYPE=image/png:https://utahcarczar.com/wp-content/uploads/2025/03/Shake-Shack-Logo.png
END:VEVENT
BEGIN:VEVENT
DTSTART;TZID=America/Denver:20250808T190000
DTEND;TZID=America/Denver:20250808T210000
DTSTAMP:20260421T180414
CREATED:20250318T050030Z
LAST-MODIFIED:20250506T150625Z
UID:10001518-1754679600-1754686800@utahcarczar.com
SUMMARY:Cars and Shakes Riverdale
DESCRIPTION:
URL:https://utahcarczar.com/event/cars-and-shakes-riverdale/2025-08-08/
LOCATION:Dutch Bros\, 4177 Riverdale Road\, Riverdale\, Utah\, 84405
CATEGORIES:Cruise Night
ATTACH;FMTTYPE=image/png:https://utahcarczar.com/wp-content/uploads/2025/03/Dutch-Bros-Logo.png
END:VEVENT
BEGIN:VEVENT
DTSTART;TZID=America/Denver:20250806T170000
DTEND;TZID=America/Denver:20250806T200000
DTSTAMP:20260421T180414
CREATED:20250511T235945Z
LAST-MODIFIED:20250511T235945Z
UID:10001548-1754499600-1754510400@utahcarczar.com
SUMMARY:Jordan Landing Cruise Night
DESCRIPTION:Monthly cruise night at Jordan Landing with JC Hackett
URL:https://utahcarczar.com/event/jordan-landing-cruise-night-2-2-2/2025-08-06/
LOCATION:Jordan Landing\, 7273 Plaza Center Dr\, West Jordan\, UT\, United States
CATEGORIES:Cruise Night
ATTACH;FMTTYPE=image/png:https://utahcarczar.com/wp-content/uploads/2025/03/Jordan-Landing.png
END:VEVENT
BEGIN:VEVENT
DTSTART;TZID=America/Denver:20250805T180000
DTEND;TZID=America/Denver:20250805T210000
DTSTAMP:20260421T180414
CREATED:20250408T045703Z
LAST-MODIFIED:20250408T045703Z
UID:10000203-1754416800-1754427600@utahcarczar.com
SUMMARY:Kirt's Drive-In Cruise Night
DESCRIPTION:
URL:https://utahcarczar.com/event/kirts-drive-in-cruise-night/2025-08-05/
LOCATION:Kirt’s Drive-In\, 1974 N 400 E St\, North Ogden\, Utah\, 84414
CATEGORIES:Cruise Night
ATTACH;FMTTYPE=image/jpeg:https://utahcarczar.com/wp-content/uploads/2021/06/Kirts-Drive-In-Logo.jpg
END:VEVENT
BEGIN:VEVENT
DTSTART;TZID=America/Denver:20250805T170000
DTEND;TZID=America/Denver:20250805T200000
DTSTAMP:20260421T180414
CREATED:20250601T230217Z
LAST-MODIFIED:20250601T230218Z
UID:10001547-1754413200-1754424000@utahcarczar.com
SUMMARY:One Man Band Cruise Night
DESCRIPTION:Monthly cruise night at One Man Band in Lehi with JC Hackett.
URL:https://utahcarczar.com/event/one-man-band-cruise-night-2-2-2/2025-08-05/
LOCATION:One Man Band\, 1220 E Main St\, Lehi\, UT\, United States
CATEGORIES:Cruise Night
ATTACH;FMTTYPE=image/png:https://utahcarczar.com/wp-content/uploads/2025/03/One-Man-Band.png
END:VEVENT
BEGIN:VEVENT
DTSTART;TZID=America/Denver:20250802T190000
DTEND;TZID=America/Denver:20250802T210000
DTSTAMP:20260421T180414
CREATED:20250516T060252Z
LAST-MODIFIED:20250516T060645Z
UID:10001571-1754161200-1754168400@utahcarczar.com
SUMMARY:Cruisin the Brewery
DESCRIPTION:
URL:https://utahcarczar.com/event/cruisin-the-brewery-st-george/2025-08-02/
LOCATION:Strap Tank Brewery St. George\, 1872 Crosby Way\, St. George\, Utah
CATEGORIES:Cruise Night
ATTACH;FMTTYPE=image/png:https://utahcarczar.com/wp-content/uploads/2025/05/Strap-Tank-Brewery-Logo.png
END:VEVENT
BEGIN:VEVENT
DTSTART;TZID=America/Denver:20250731T180000
DTEND;TZID=America/Denver:20250731T210000
DTSTAMP:20260421T180414
CREATED:20250416T132515Z
LAST-MODIFIED:20250507T050231Z
UID:10001527-1753984800-1753995600@utahcarczar.com
SUMMARY:Firehouse Pizza Cruise Night
DESCRIPTION:
URL:https://utahcarczar.com/event/firehouse-pizza-cruise-night/2025-07-31/
LOCATION:Firehouse Pizza\, 646 S Main St\, Brigham City\, Utah\, 84302
CATEGORIES:Cruise Night
ATTACH;FMTTYPE=image/png:https://utahcarczar.com/wp-content/uploads/2022/03/Firehouse-Pizzeria-Logo.png
END:VEVENT
BEGIN:VEVENT
DTSTART;TZID=America/Denver:20250731T180000
DTEND;TZID=America/Denver:20250731T210000
DTSTAMP:20260421T180414
CREATED:20250414T043425Z
LAST-MODIFIED:20250419T190010Z
UID:10000308-1753984800-1753995600@utahcarczar.com
SUMMARY:Fiiz Drinks Cruise Nights
DESCRIPTION:
URL:https://utahcarczar.com/event/fiiz-drinks-cruise-nights/2025-07-31/
LOCATION:Fiiz Drinks\, 623 N UT-198\, Salem\, Utah\, 84653
CATEGORIES:Cruise Night
ATTACH;FMTTYPE=image/jpeg:https://utahcarczar.com/wp-content/uploads/2025/04/Fiiz-Drinks-Logo.jpg
END:VEVENT
BEGIN:VEVENT
DTSTART;TZID=America/Denver:20250727T120000
DTEND;TZID=America/Denver:20250727T150000
DTSTAMP:20260421T180414
CREATED:20250406T060508Z
LAST-MODIFIED:20250927T054407Z
UID:10000147-1753617600-1753628400@utahcarczar.com
SUMMARY:The Pub Cruise Night
DESCRIPTION:
URL:https://utahcarczar.com/event/bout-time-cruise-night/2025-07-27/
LOCATION:The Pub Sports Bar\, 5502 W 13400 S\, Herriman\, UT\, United States
CATEGORIES:Cruise Night
ATTACH;FMTTYPE=image/jpeg:https://utahcarczar.com/wp-content/uploads/2025/05/The-Pub-Sports-Bar-Logo.jpg
ORGANIZER;CN="Rockin Hotrod Productions":MAILTO:rhrp57@yahoo.com
END:VEVENT
BEGIN:VEVENT
DTSTART;TZID=America/Denver:20250726T190000
DTEND;TZID=America/Denver:20250726T210000
DTSTAMP:20260421T180414
CREATED:20250516T055815Z
LAST-MODIFIED:20250519T040057Z
UID:10001566-1753556400-1753563600@utahcarczar.com
SUMMARY:Culver's Cruise-In
DESCRIPTION:
URL:https://utahcarczar.com/event/culvers-cruise-in-st-george/2025-07-26/
LOCATION:Culver’s – St. George\, 1586 S 270 E\, St. George\, Utah
CATEGORIES:Cruise Night
ATTACH;FMTTYPE=image/png:https://utahcarczar.com/wp-content/uploads/2023/05/culvers-restaurants-1-logo-png-transparent.png
END:VEVENT
BEGIN:VEVENT
DTSTART;TZID=America/Denver:20250726T170000
DTEND;TZID=America/Denver:20250726T200000
DTSTAMP:20260421T180414
CREATED:20250430T054740Z
LAST-MODIFIED:20250430T054740Z
UID:10001507-1753549200-1753560000@utahcarczar.com
SUMMARY:Cannon Classics Heritage Hot Rods Show Case
DESCRIPTION:
URL:https://utahcarczar.com/event/cannon-classics-heritage-hot-rods-show-case/
LOCATION:Cannon Classic Cars\, 809 West 1700 South\, Salt Lake City\, Utah
CATEGORIES:Cruise Night
ATTACH;FMTTYPE=image/jpeg:https://utahcarczar.com/wp-content/uploads/2025/04/cannon-classic-logo.jpg
ORGANIZER;CN="Krank-it-Up Productions":MAILTO:1mikemanilla@gmail.com
END:VEVENT
BEGIN:VEVENT
DTSTART;TZID=America/Denver:20250725T180000
DTEND;TZID=America/Denver:20250725T210000
DTSTAMP:20260421T180414
CREATED:20250716T154538Z
LAST-MODIFIED:20250716T154539Z
UID:10001660-1753466400-1753477200@utahcarczar.com
SUMMARY:Car Meet at Classic Skating
DESCRIPTION:LIVE Outdoor DJ\nFREE Hot Dogs\nFREE Drinks\nRC CAR RACING inside on the skating rink from 9-10pm (Bring your own car)
URL:https://utahcarczar.com/event/classic-carnival-car-meet-july-3/
LOCATION:Classic Fun Center\, 9151 South 255 West\, Sandy
CATEGORIES:Cruise Night
ATTACH;FMTTYPE=image/png:https://utahcarczar.com/wp-content/uploads/2025/04/ClassicLOGO.png
END:VEVENT
BEGIN:VEVENT
DTSTART;TZID=America/Denver:20250725T160000
DTEND;TZID=America/Denver:20250725T190000
DTSTAMP:20260421T180414
CREATED:20250419T213940Z
LAST-MODIFIED:20250419T213940Z
UID:10001470-1753459200-1753470000@utahcarczar.com
SUMMARY:Woody's Drive-In Cruise Night
DESCRIPTION:
URL:https://utahcarczar.com/event/woodys-drive-in-cruise-night/2025-07-25/
LOCATION:Woody’s Drive-In\, 6172 S 1300 E\, Murray\, Utah
CATEGORIES:Cruise Night
ATTACH;FMTTYPE=image/webp:https://utahcarczar.com/wp-content/uploads/2025/04/Woodys-Drive-In-Logo.webp
END:VEVENT
BEGIN:VEVENT
DTSTART;TZID=America/Denver:20250722T170000
DTEND;TZID=America/Denver:20250722T200000
DTSTAMP:20260421T180414
CREATED:20250601T230637Z
LAST-MODIFIED:20250601T230637Z
UID:10001606-1753203600-1753214400@utahcarczar.com
SUMMARY:Garage Grill Cruise Night
DESCRIPTION:
URL:https://utahcarczar.com/event/garage-grill-cruise-night/2025-07-22/
LOCATION:Garage Grill\, 1122 East Draper Pkwy\, Draper\, Utahg\, 84020
CATEGORIES:Cruise Night
ATTACH;FMTTYPE=image/png:https://utahcarczar.com/wp-content/uploads/2023/03/Garage-Grill-Logo.png
END:VEVENT
BEGIN:VEVENT
DTSTART;TZID=America/Denver:20250717T180000
DTEND;TZID=America/Denver:20250717T210000
DTSTAMP:20260421T180414
CREATED:20250416T132515Z
LAST-MODIFIED:20250507T050231Z
UID:10001526-1752775200-1752786000@utahcarczar.com
SUMMARY:Firehouse Pizza Cruise Night
DESCRIPTION:
URL:https://utahcarczar.com/event/firehouse-pizza-cruise-night/2025-07-17/
LOCATION:Firehouse Pizza\, 646 S Main St\, Brigham City\, Utah\, 84302
CATEGORIES:Cruise Night
ATTACH;FMTTYPE=image/png:https://utahcarczar.com/wp-content/uploads/2022/03/Firehouse-Pizzeria-Logo.png
END:VEVENT
END:VCALENDAR