BEGIN:VCALENDAR
VERSION:2.0
PRODID:-//Utah Car Czar - ECPv6.15.18//NONSGML v1.0//EN
CALSCALE:GREGORIAN
METHOD:PUBLISH
X-ORIGINAL-URL:https://utahcarczar.com
X-WR-CALDESC:Events for Utah Car Czar
REFRESH-INTERVAL;VALUE=DURATION:PT1H
X-Robots-Tag:noindex
X-PUBLISHED-TTL:PT1H
BEGIN:VTIMEZONE
TZID:America/Denver
BEGIN:DAYLIGHT
TZOFFSETFROM:-0700
TZOFFSETTO:-0600
TZNAME:MDT
DTSTART:20240310T090000
END:DAYLIGHT
BEGIN:STANDARD
TZOFFSETFROM:-0600
TZOFFSETTO:-0700
TZNAME:MST
DTSTART:20241103T080000
END:STANDARD
BEGIN:DAYLIGHT
TZOFFSETFROM:-0700
TZOFFSETTO:-0600
TZNAME:MDT
DTSTART:20250309T090000
END:DAYLIGHT
BEGIN:STANDARD
TZOFFSETFROM:-0600
TZOFFSETTO:-0700
TZNAME:MST
DTSTART:20251102T080000
END:STANDARD
BEGIN:DAYLIGHT
TZOFFSETFROM:-0700
TZOFFSETTO:-0600
TZNAME:MDT
DTSTART:20260308T090000
END:DAYLIGHT
BEGIN:STANDARD
TZOFFSETFROM:-0600
TZOFFSETTO:-0700
TZNAME:MST
DTSTART:20261101T080000
END:STANDARD
END:VTIMEZONE
BEGIN:VEVENT
DTSTART;TZID=America/Denver:20250423T170000
DTEND;TZID=America/Denver:20250423T200000
DTSTAMP:20260421T224720
CREATED:20250406T063452Z
LAST-MODIFIED:20250418T041845Z
UID:10000181-1745427600-1745438400@utahcarczar.com
SUMMARY:Burger Stop Cruise Night
DESCRIPTION:
URL:https://utahcarczar.com/event/burger-stop-cruise-night/2025-04-23/
LOCATION:Burger Stop\, 323 E Gentile\, Layton\, Utah
CATEGORIES:Cruise Night
ATTACH;FMTTYPE=image/png:https://utahcarczar.com/wp-content/uploads/2025/03/Burger-Stop-Cruise-Night-Logo.png
END:VEVENT
BEGIN:VEVENT
DTSTART;TZID=America/Denver:20250418T160000
DTEND;TZID=America/Denver:20250418T160000
DTSTAMP:20260421T224720
CREATED:20250406T055748Z
LAST-MODIFIED:20250418T050319Z
UID:10000143-1744992000-1744992000@utahcarczar.com
SUMMARY:Taco Time Cruise Night
DESCRIPTION:
URL:https://utahcarczar.com/event/taco-time-cruise-night-april-2025/
LOCATION:Taco Time\, 209 S Main St\, Tooele\, Utah
CATEGORIES:Cruise Night
ATTACH;FMTTYPE=image/png:https://utahcarczar.com/wp-content/uploads/2025/03/Taco-Time-Logo.png
ORGANIZER;CN="Rockin Hotrod Productions":MAILTO:rhrp57@yahoo.com
END:VEVENT
BEGIN:VEVENT
DTSTART;TZID=America/Denver:20250417T180000
DTEND;TZID=America/Denver:20250417T180000
DTSTAMP:20260421T224720
CREATED:20250331T062432Z
LAST-MODIFIED:20250416T132555Z
UID:10000109-1744912800-1744912800@utahcarczar.com
SUMMARY:Phillips 66 Cruise
DESCRIPTION:Cruise to a new location every month.
URL:https://utahcarczar.com/event/phillips-66-cruise-2/
LOCATION:Phillips 66\, 527 S 700 W\, Woods Cross\, Utah\, 84087
CATEGORIES:Cruise Night
ATTACH;FMTTYPE=image/png:https://utahcarczar.com/wp-content/uploads/2025/03/Phillips_66_logo.png
END:VEVENT
BEGIN:VEVENT
DTSTART;TZID=America/Denver:20250416T170000
DTEND;TZID=America/Denver:20250416T200000
DTSTAMP:20260421T224720
CREATED:20250304T064127Z
LAST-MODIFIED:20250416T132620Z
UID:10000127-1744822800-1744833600@utahcarczar.com
SUMMARY:Jordan Landing Cruise Night
DESCRIPTION:Monthly cruise night at Jordan Landing with JC Hackett
URL:https://utahcarczar.com/event/jordan-landing-cruise-night/
LOCATION:Jordan Landing\, 7273 Plaza Center Dr\, West Jordan\, UT\, United States
CATEGORIES:Cruise Night
ATTACH;FMTTYPE=image/png:https://utahcarczar.com/wp-content/uploads/2025/03/Jordan-Landing.png
END:VEVENT
BEGIN:VEVENT
DTSTART;TZID=America/Denver:20250409T170000
DTEND;TZID=America/Denver:20250409T200000
DTSTAMP:20260421T224720
CREATED:20250405T043914Z
LAST-MODIFIED:20250416T132657Z
UID:10000039-1744218000-1744228800@utahcarczar.com
SUMMARY:Valley Fair Mall Cruise Night
DESCRIPTION:
URL:https://utahcarczar.com/event/valley-fair-mall-cruise-night-2/
LOCATION:Valley Fair Mall\, 3600 S 2700 W\, West Valley City\, Utah
CATEGORIES:Cruise Night
END:VEVENT
BEGIN:VEVENT
DTSTART;TZID=America/Denver:20250408T170000
DTEND;TZID=America/Denver:20250408T200000
DTSTAMP:20260421T224720
CREATED:20250311T151923Z
LAST-MODIFIED:20250331T062649Z
UID:10000046-1744131600-1744142400@utahcarczar.com
SUMMARY:Shake Shack Cruise Night
DESCRIPTION:
URL:https://utahcarczar.com/event/shake-shack-cruise-night/2025-04-08/
LOCATION:Shake Shack\, 6123 S State Street\, Murray\, Utah
CATEGORIES:Cruise Night
ATTACH;FMTTYPE=image/png:https://utahcarczar.com/wp-content/uploads/2025/03/Shake-Shack-Logo.png
END:VEVENT
BEGIN:VEVENT
DTSTART;TZID=America/Denver:20250321T160000
DTEND;TZID=America/Denver:20250321T190000
DTSTAMP:20260421T224720
CREATED:20250311T160724Z
LAST-MODIFIED:20250416T132929Z
UID:10000059-1742572800-1742583600@utahcarczar.com
SUMMARY:Taco Time Cruise Night
DESCRIPTION:
URL:https://utahcarczar.com/event/taco-time-cruise-night/
LOCATION:Taco Time\, 209 S Main St\, Tooele\, Utah
CATEGORIES:Cruise Night
ATTACH;FMTTYPE=image/png:https://utahcarczar.com/wp-content/uploads/2025/03/Taco-Time-Logo.png
ORGANIZER;CN="Rockin Hotrod Productions":MAILTO:rhrp57@yahoo.com
END:VEVENT
END:VCALENDAR