BEGIN:VCALENDAR
VERSION:2.0
PRODID:-//Utah Car Czar - ECPv6.15.18//NONSGML v1.0//EN
CALSCALE:GREGORIAN
METHOD:PUBLISH
X-WR-CALNAME:Utah Car Czar
X-ORIGINAL-URL:https://utahcarczar.com
X-WR-CALDESC:Events for Utah Car Czar
REFRESH-INTERVAL;VALUE=DURATION:PT1H
X-Robots-Tag:noindex
X-PUBLISHED-TTL:PT1H
BEGIN:VTIMEZONE
TZID:America/Denver
BEGIN:DAYLIGHT
TZOFFSETFROM:-0700
TZOFFSETTO:-0600
TZNAME:MDT
DTSTART:20240310T090000
END:DAYLIGHT
BEGIN:STANDARD
TZOFFSETFROM:-0600
TZOFFSETTO:-0700
TZNAME:MST
DTSTART:20241103T080000
END:STANDARD
BEGIN:DAYLIGHT
TZOFFSETFROM:-0700
TZOFFSETTO:-0600
TZNAME:MDT
DTSTART:20250309T090000
END:DAYLIGHT
BEGIN:STANDARD
TZOFFSETFROM:-0600
TZOFFSETTO:-0700
TZNAME:MST
DTSTART:20251102T080000
END:STANDARD
BEGIN:DAYLIGHT
TZOFFSETFROM:-0700
TZOFFSETTO:-0600
TZNAME:MDT
DTSTART:20260308T090000
END:DAYLIGHT
BEGIN:STANDARD
TZOFFSETFROM:-0600
TZOFFSETTO:-0700
TZNAME:MST
DTSTART:20261101T080000
END:STANDARD
END:VTIMEZONE
BEGIN:VEVENT
DTSTART;TZID=America/Denver:20251031T140000
DTEND;TZID=America/Denver:20251031T200000
DTSTAMP:20260421T193246
CREATED:20251013T042039Z
LAST-MODIFIED:20251013T042039Z
UID:10001808-1761919200-1761940800@utahcarczar.com
SUMMARY:Stockton 12 Honda's Trunk or Treat
DESCRIPTION:Join us for our annual Trunk or Treat Car Show! Enjoy food trucks\, adoptable dogs\, decorated trunks\, costumes\, and more at this family-friendly event. JDM car owners—sign up to participate! Best dressed trunk wins a prize!
URL:https://utahcarczar.com/event/stockton-12-hondas-trunk-or-treat/
LOCATION:Stockton 12 Honda\, 10860 S Auto Mall Dr\, Sandy\, Utah\, 84070
CATEGORIES:Trunk or Treat
ATTACH;FMTTYPE=image/jpeg:https://utahcarczar.com/wp-content/uploads/2025/10/Stockton-12-Honda-logo.jpg
END:VEVENT
BEGIN:VEVENT
DTSTART;TZID=America/Denver:20251029T180000
DTEND;TZID=America/Denver:20251029T200000
DTSTAMP:20260421T193246
CREATED:20251013T005846Z
LAST-MODIFIED:20251013T005846Z
UID:10001806-1761760800-1761768000@utahcarczar.com
SUMMARY:Family Trunk or Treat at Bridgeway
DESCRIPTION:Celebrate Halloween at Bridgeway Integrated Healthcare Services’ first-ever Trunk or Treat! Bring the whole family to enjoy this community event.\nShow off your costumes\, collect candy and mini prizes from our team members\, and stay warm with hot cocoa and apple cider *while supplies last. See you there!
URL:https://utahcarczar.com/event/family-trunk-or-treat-at-bridgeway/
LOCATION:Bridgeway Integrated Healthcare Services\, 5536 S 1900\, Taylorsville\, Utah\, 84129
CATEGORIES:Trunk or Treat
ATTACH;FMTTYPE=image/webp:https://utahcarczar.com/wp-content/uploads/2025/10/Bridgeway-Integrated-Healthcare-Services-Logo.webp
END:VEVENT
BEGIN:VEVENT
DTSTART;TZID=America/Denver:20251028T180000
DTEND;TZID=America/Denver:20251028T200000
DTSTAMP:20260421T193246
CREATED:20251013T003916Z
LAST-MODIFIED:20251013T005941Z
UID:10001804-1761674400-1761681600@utahcarczar.com
SUMMARY:Trunk or Treat Texas Roadhouse
DESCRIPTION:Bring the your family\, friends\, and your best costumes and enjoy our FREE community event. \n If you are a local business\, non-profit group\, or school come join us and RSVP today!
URL:https://utahcarczar.com/event/trunk-or-treat-texas-roadhouse/
LOCATION:Texas Roadhouse – Sandy\, 200 W 10600 S\, Sandy\, Utah
CATEGORIES:Trunk or Treat
ATTACH;FMTTYPE=image/png:https://utahcarczar.com/wp-content/uploads/2021/08/Texas-Roadhouse-Logo.png
END:VEVENT
BEGIN:VEVENT
DTSTART;TZID=America/Denver:20251028T173000
DTEND;TZID=America/Denver:20251028T190000
DTSTAMP:20260421T193246
CREATED:20251024T221010Z
LAST-MODIFIED:20251024T221010Z
UID:10001811-1761672600-1761678000@utahcarczar.com
SUMMARY:Corner Canyon Spooktacular Trunk or Treat
DESCRIPTION:
URL:https://utahcarczar.com/event/corner-canyon-spooktacular-trunk-or-treat/
LOCATION:Corner Canyon High School\, 12943 S 700 E\, Draper\, Utah\, 84020
CATEGORIES:Trunk or Treat
ATTACH;FMTTYPE=image/png:https://utahcarczar.com/wp-content/uploads/2025/10/Corner-Canyon-HS-Logo.png
END:VEVENT
BEGIN:VEVENT
DTSTART;TZID=America/Denver:20251025T180000
DTEND;TZID=America/Denver:20251025T200000
DTSTAMP:20260421T193246
CREATED:20251013T010907Z
LAST-MODIFIED:20251013T010907Z
UID:10001807-1761415200-1761422400@utahcarczar.com
SUMMARY:Trunk or Treat at Koral Kafe
DESCRIPTION:
URL:https://utahcarczar.com/event/trunk-or-treat-at-koral-kafe/
LOCATION:Koral Kafe\, 2400 N Town Center Dr\, Washington\, Utah\, 84780
CATEGORIES:Trunk or Treat
ATTACH;FMTTYPE=image/jpeg:https://utahcarczar.com/wp-content/uploads/2025/10/Koral-Kafe-Logo.jpg
END:VEVENT
BEGIN:VEVENT
DTSTART;TZID=America/Denver:20251025T160000
DTEND;TZID=America/Denver:20251025T205900
DTSTAMP:20260421T193246
CREATED:20250908T203445Z
LAST-MODIFIED:20250908T203445Z
UID:10001771-1761408000-1761425940@utahcarczar.com
SUMMARY:Big O Tires Trunk or Treat
DESCRIPTION:We have spots for up to 90 vehicles. Do not have to set up a vehicle to attend. This event is for the community.
URL:https://utahcarczar.com/event/big-o-tires-trunk-or-treat/
LOCATION:Big O Tires – West Point\, 19 S 2000 W\, West Point\, Utah
CATEGORIES:Trunk or Treat
ATTACH;FMTTYPE=image/gif:https://utahcarczar.com/wp-content/uploads/2020/05/Big-O-Tires-Logo.gif
END:VEVENT
BEGIN:VEVENT
DTSTART;TZID=America/Denver:20251025T130000
DTEND;TZID=America/Denver:20251025T170000
DTSTAMP:20260421T193246
CREATED:20251019T212657Z
LAST-MODIFIED:20251019T212657Z
UID:10001810-1761397200-1761411600@utahcarczar.com
SUMMARY:Legends Trunk or Treat
DESCRIPTION:
URL:https://utahcarczar.com/event/legends-trunk-or-treat/
LOCATION:Legends Motorcycle Museum\, 1715 W 500 S\, Springville\, Utah
CATEGORIES:Trunk or Treat
ATTACH;FMTTYPE=image/webp:https://utahcarczar.com/wp-content/uploads/2025/10/legends-motor-co-1.webp
END:VEVENT
BEGIN:VEVENT
DTSTART;TZID=America/Denver:20251025T110000
DTEND;TZID=America/Denver:20251025T150000
DTSTAMP:20260421T193246
CREATED:20251006T040827Z
LAST-MODIFIED:20251006T040827Z
UID:10001798-1761390000-1761404400@utahcarczar.com
SUMMARY:Trunk or Treat Halloween Celebration
DESCRIPTION:We invite anyone to come out and decorate your ride a table or Canopy to hand out treats for the little ones. There will be Music\, Games\, Toys\, Candy\, Bounce House\, Raffles\, Food \, and spooky Awards.
URL:https://utahcarczar.com/event/trunk-or-treat-halloween-celebration/
LOCATION:Premier Computing\, 11456 Temple Dr\, South Jordan\, Utah\, 84095
CATEGORIES:Trunk or Treat
ATTACH;FMTTYPE=image/png:https://utahcarczar.com/wp-content/uploads/2022/04/241664901_542521440412532_5984518428803894701_n.png
END:VEVENT
BEGIN:VEVENT
DTSTART;TZID=America/Denver:20251024T173000
DTEND;TZID=America/Denver:20251024T200000
DTSTAMP:20260421T193246
CREATED:20250930T222757Z
LAST-MODIFIED:20250930T222825Z
UID:10001792-1761327000-1761336000@utahcarczar.com
SUMMARY:Trunk or Treat Young Powersports XL
DESCRIPTION:Event Highlights\nFree Admission: No tickets\, no hassle. Just show up ready for fun.\nFace Painter + Balloon Artist: Stop by for delightfully spooky looks and balloon creations that wow the kiddos.\nCandy Galore: Expect plenty of treats from our decked‑out trunks and displays.\nOpen to All: Families\, friends\, neighbors—everyone is invited.\nParticipate with Your Ride: Cars and bikes are welcome to bring candy and join the lineup. Creativity encouraged!
URL:https://utahcarczar.com/event/trunk-or-treat-young-powersports-xl/
LOCATION:Young Powersports XL\, 547 S Frontage Rd\, Centerville\, Utah\, 84014
CATEGORIES:Trunk or Treat
ATTACH;FMTTYPE=image/png:https://utahcarczar.com/wp-content/uploads/2025/09/Young-Powersports-XL-logo-scaled.png
END:VEVENT
BEGIN:VEVENT
DTSTART;TZID=America/Denver:20251024T160000
DTEND;TZID=America/Denver:20251024T190000
DTSTAMP:20260421T193246
CREATED:20250416T125652Z
LAST-MODIFIED:20251019T211300Z
UID:10000327-1761321600-1761332400@utahcarczar.com
SUMMARY:Twin Oaks Trunk or Treat Car Show
DESCRIPTION:
URL:https://utahcarczar.com/event/twin-oaks-trunk-or-treat-car-show/
LOCATION:Twin Oaks Assisted Living\, 654 E 3300 S\, South Salt Lake\, Utah\, 84106
CATEGORIES:Trunk or Treat
ATTACH;FMTTYPE=image/png:https://utahcarczar.com/wp-content/uploads/2023/03/Twin-Oaks-Senior-Living-Logo.png
ORGANIZER;CN="Rockin Hotrod Productions":MAILTO:rhrp57@yahoo.com
END:VEVENT
BEGIN:VEVENT
DTSTART;TZID=America/Denver:20251018T163000
DTEND;TZID=America/Denver:20251018T193000
DTSTAMP:20260421T193246
CREATED:20250608T230717Z
LAST-MODIFIED:20250714T054415Z
UID:10001622-1760805000-1760815800@utahcarczar.com
SUMMARY:C10 Club Utah Truck or Treat
DESCRIPTION:The C10 Club Utah Truck or Treat Halloween Party is back!! Our biggest and most anticipated local event returns\, and this year we will be supporting the Utah Food Bank with a Food Drive!!! Bring two non-perishable food items to register for this Trunk or Treat style show\, and make a difference in the local community while having a great time. With trophies for Best Kids Costume\, Best Adult Costume\, Best Dressed Up Car/Truck\, and Kids Pick for Best Truck!! We will have Food Trucks\, Local Vendors\, and Spooky Fun for All!!
URL:https://utahcarczar.com/event/truck-or-treat-halloween-party-c10-club/
LOCATION:Optisys\, 250 W 3900 S\, Salt Lake City\, Utah\, 84107
CATEGORIES:Trunk or Treat
ATTACH;FMTTYPE=image/jpeg:https://utahcarczar.com/wp-content/uploads/2023/05/utah-c10-club.jpg
END:VEVENT
BEGIN:VEVENT
DTSTART;TZID=America/Denver:20251018T140000
DTEND;TZID=America/Denver:20251018T160000
DTSTAMP:20260421T193246
CREATED:20251013T002648Z
LAST-MODIFIED:20251013T002648Z
UID:10001802-1760796000-1760803200@utahcarczar.com
SUMMARY:Rally West Trunk or Treat
DESCRIPTION:This is an event for pediatric Cancer families. Any in all cars are allowed to attend. Volunteers should sign up here: https://rallyon.wufoo.com/forms/rally-west-trunk-or-treat-2025-volunteer-sign-up/ \nAnyone who has a trunk is welcome to bring their family as well! We expect about 100 to 150 kids to show up. This event is not open to the public for trunk or treaters without hosting a trunk to join.
URL:https://utahcarczar.com/event/rally-west-trunk-or-treat/
LOCATION:Larry H Miller Dealerships\, 351 Opportunity Way\, Draper\, UT
CATEGORIES:Trunk or Treat
ATTACH;FMTTYPE=image/jpeg:https://utahcarczar.com/wp-content/uploads/2025/10/larry-h-miller-dealerships-logo.jpg
END:VEVENT
BEGIN:VEVENT
DTSTART;TZID=America/Denver:20251018T110000
DTEND;TZID=America/Denver:20251018T140000
DTSTAMP:20260421T193246
CREATED:20250908T212113Z
LAST-MODIFIED:20250908T212113Z
UID:10001773-1760785200-1760796000@utahcarczar.com
SUMMARY:Trunk or Treat - SLC
DESCRIPTION:
URL:https://utahcarczar.com/event/trunk-or-treat-slc/
LOCATION:ALPLA\, 4324 Commercial Way Suite A\, Salt Lake City\, Utah\, 84104
CATEGORIES:Trunk or Treat
ATTACH;FMTTYPE=image/png:https://utahcarczar.com/wp-content/uploads/2023/10/Utah-Trunk-or-Treat-Shows.png
END:VEVENT
BEGIN:VEVENT
DTSTART;TZID=America/Denver:20251017T190000
DTEND;TZID=America/Denver:20251017T210000
DTSTAMP:20260421T193246
CREATED:20251013T005140Z
LAST-MODIFIED:20251013T005140Z
UID:10001805-1760727600-1760734800@utahcarczar.com
SUMMARY:Impulse Offroad Trunk or Treat
DESCRIPTION:Join Impulse Offroad and our friends SLC Build Jeeps for our 2025 Trunk or Treat \nBring the little ones\, your family\, and friends! Get in the spooky spirit and come in costume.\nEnjoy trick-or-treating for kiddos of all ages. We’ll also be grilling up hot dogs and serving hot chocolate\, so come hungry!
URL:https://utahcarczar.com/event/impulse-offroad-trunk-or-treat/
LOCATION:Impuls Offroad\, 6160 S 350 W Suite A\, Murray\, Utah\, 84107
CATEGORIES:Trunk or Treat
ATTACH;FMTTYPE=image/webp:https://utahcarczar.com/wp-content/uploads/2025/10/impulse-offroad-logo.webp
END:VEVENT
BEGIN:VEVENT
DTSTART;TZID=America/Denver:20251017T160000
DTEND;TZID=America/Denver:20251017T190000
DTSTAMP:20260421T193246
CREATED:20250908T204312Z
LAST-MODIFIED:20250908T204312Z
UID:10001772-1760716800-1760727600@utahcarczar.com
SUMMARY:Grand Senior Living Trunk or Treat
DESCRIPTION:
URL:https://utahcarczar.com/event/grand-senior-living-trunk-or-treat/
LOCATION:The Grand Senior Living\, 5941 S Holladay Blvd\, Holladay\, Utah\, 84121
CATEGORIES:Trunk or Treat
ATTACH;FMTTYPE=image/jpeg:https://utahcarczar.com/wp-content/uploads/2025/09/The-Grand-Senior-Living-Logo.jpg
END:VEVENT
BEGIN:VEVENT
DTSTART;TZID=America/Denver:20251017T160000
DTEND;TZID=America/Denver:20251017T190000
DTSTAMP:20260421T193246
CREATED:20250831T215535Z
LAST-MODIFIED:20250831T215535Z
UID:10001764-1760716800-1760727600@utahcarczar.com
SUMMARY:Halloween Spooktacular Trunk or Treat
DESCRIPTION:A fun Halloween Car show trunk-or-treat event Harry Potter theme. \nFree Admission! Cans for food drive are appreciated. \nCar show trunk-or-treat is from 4:00-7:00. Serving Chili Dogs and Hot Chocolate from 6:00-8:30 \nTypically\, they give away FREE Pumpkin’s to kids 12 years and younger\, there are fun spooky Dance performances\, magic tricks\, games and a Taco Truck. Dress up in costume and make your car Spooktacular for the kids. \nAfter the car show the spooky activities will continue until 8:30. \nSpace is limited to about 40 cars\, so get here early.
URL:https://utahcarczar.com/event/halloween-spooktacular-trunk-or-treat/
LOCATION:South Salt Lake Recreation Center\, 2531 S 400 E\, South Salt Lake\, UT
CATEGORIES:Trunk or Treat
ATTACH;FMTTYPE=image/jpeg:https://utahcarczar.com/wp-content/uploads/2025/08/South-SLC-Logo.jpg
ORGANIZER;CN="Krank-it-Up Productions":MAILTO:1mikemanilla@gmail.com
END:VEVENT
BEGIN:VEVENT
DTSTART;TZID=America/Denver:20251015T173000
DTEND;TZID=America/Denver:20251015T193000
DTSTAMP:20260421T193246
CREATED:20251013T002437Z
LAST-MODIFIED:20251013T002437Z
UID:10001801-1760549400-1760556600@utahcarczar.com
SUMMARY:Matheson Jr High Trunk or Treat
DESCRIPTION:
URL:https://utahcarczar.com/event/matheson-jr-high-trunk-or-treat/
LOCATION:Matheson Jr. High\, 3650 S Montclair St\, Magna\, Utah\, 84044
CATEGORIES:Trunk or Treat
ATTACH;FMTTYPE=image/png:https://utahcarczar.com/wp-content/uploads/2025/10/scott-matheson-jr-high-school-logo.png
END:VEVENT
BEGIN:VEVENT
DTSTART;TZID=America/Denver:20251015T170000
DTEND;TZID=America/Denver:20251015T200000
DTSTAMP:20260421T193246
CREATED:20250928T233527Z
LAST-MODIFIED:20250928T234311Z
UID:10001788-1760547600-1760558400@utahcarczar.com
SUMMARY:Academy Village Trunk-Or-Treat
DESCRIPTION:Academy Village Herriman Halloween Car Show and Trunk or Treat. \nLocated in the Lee’s Marketplace parking lot (See the map for the car show parking). \n(Candy provided by Wasatch Commercial Management) \nRain or Shine Trunk-or-Treat. If it rains bring your regular car and let the party go on.
URL:https://utahcarczar.com/event/academy-village-trunk-or-treat/
LOCATION:Academy Village\, 14716 S Marketplace Drive\, Herriman
CATEGORIES:Trunk or Treat
ATTACH;FMTTYPE=image/png:https://utahcarczar.com/wp-content/uploads/2025/09/Logo-for-Academy-Village.png
ORGANIZER;CN="Krank-it-Up Productions":MAILTO:1mikemanilla@gmail.com
END:VEVENT
BEGIN:VEVENT
DTSTART;TZID=America/Denver:20251011T163000
DTEND;TZID=America/Denver:20251011T190000
DTSTAMP:20260421T193246
CREATED:20250908T045630Z
LAST-MODIFIED:20250908T045630Z
UID:10001767-1760200200-1760209200@utahcarczar.com
SUMMARY:Mascot Miracles Foundation Trick Your Trunk
DESCRIPTION:Parade Staging: 4:30pm\nParade time: 6pm \nDrone show to follow
URL:https://utahcarczar.com/event/mascot-miracles-foundation-trick-your-trunk-2/
LOCATION:The Station Bar\, 12283 Herriman Main St\, Herriman\, Utah\, 84096
CATEGORIES:Trunk or Treat
ATTACH;FMTTYPE=image/png:https://utahcarczar.com/wp-content/uploads/2023/10/Utah-Trunk-or-Treat-Shows.png
END:VEVENT
BEGIN:VEVENT
DTSTART;TZID=America/Denver:20251011T120000
DTEND;TZID=America/Denver:20251011T150000
DTSTAMP:20260421T193246
CREATED:20250922T142808Z
LAST-MODIFIED:20250922T142808Z
UID:10001783-1760184000-1760194800@utahcarczar.com
SUMMARY:Halloween Boofest Car Show
DESCRIPTION:
URL:https://utahcarczar.com/event/halloween-boofest-car-show/
LOCATION:Ream’s Food Stores\, 2640 W 9000 S\, West Jordan\, Utah\, 84088
CATEGORIES:Trunk or Treat
ATTACH;FMTTYPE=image/jpeg:https://utahcarczar.com/wp-content/uploads/2025/09/fearless-dance-company-logo.jpg
END:VEVENT
BEGIN:VEVENT
DTSTART;TZID=America/Denver:20251008T170000
DTEND;TZID=America/Denver:20251008T200000
DTSTAMP:20260421T193246
CREATED:20251007T045347Z
LAST-MODIFIED:20251007T045347Z
UID:10001799-1759942800-1759953600@utahcarczar.com
SUMMARY:Valley Fair Mall Trunk or Treat Car Show
DESCRIPTION:
URL:https://utahcarczar.com/event/valley-fair-mall-trunk-or-treat-car-show/
LOCATION:Valley Fair Mall\, 3600 S 2700 W\, West Valley City\, Utah
CATEGORIES:Trunk or Treat
ATTACH;FMTTYPE=image/png:https://utahcarczar.com/wp-content/uploads/2025/03/Valley-Fair-Mall-Logo.png
END:VEVENT
END:VCALENDAR