BEGIN:VCALENDAR
VERSION:2.0
PRODID:-//Utah Car Czar - ECPv6.15.18//NONSGML v1.0//EN
CALSCALE:GREGORIAN
METHOD:PUBLISH
X-WR-CALNAME:Utah Car Czar
X-ORIGINAL-URL:https://utahcarczar.com
X-WR-CALDESC:Events for Utah Car Czar
REFRESH-INTERVAL;VALUE=DURATION:PT1H
X-Robots-Tag:noindex
X-PUBLISHED-TTL:PT1H
BEGIN:VTIMEZONE
TZID:America/Denver
BEGIN:DAYLIGHT
TZOFFSETFROM:-0700
TZOFFSETTO:-0600
TZNAME:MDT
DTSTART:20250309T090000
END:DAYLIGHT
BEGIN:STANDARD
TZOFFSETFROM:-0600
TZOFFSETTO:-0700
TZNAME:MST
DTSTART:20251102T080000
END:STANDARD
BEGIN:DAYLIGHT
TZOFFSETFROM:-0700
TZOFFSETTO:-0600
TZNAME:MDT
DTSTART:20260308T090000
END:DAYLIGHT
BEGIN:STANDARD
TZOFFSETFROM:-0600
TZOFFSETTO:-0700
TZNAME:MST
DTSTART:20261101T080000
END:STANDARD
BEGIN:DAYLIGHT
TZOFFSETFROM:-0700
TZOFFSETTO:-0600
TZNAME:MDT
DTSTART:20270314T090000
END:DAYLIGHT
BEGIN:STANDARD
TZOFFSETFROM:-0600
TZOFFSETTO:-0700
TZNAME:MST
DTSTART:20271107T080000
END:STANDARD
END:VTIMEZONE
BEGIN:VEVENT
DTSTART;TZID=America/Denver:20260628T120000
DTEND;TZID=America/Denver:20260628T170000
DTSTAMP:20260423T103120
CREATED:20250419T184540Z
LAST-MODIFIED:20260407T045019Z
UID:10001466-1782648000-1782666000@utahcarczar.com
SUMMARY:AMC Awareness Car and Bike Show
DESCRIPTION:Join us for the AMC AWARENESS Car & Bike Show! Where chrome shines\, engines roar\, and hearts come together for something bigger than all of us.\n Custom Lowriders Clean Trucks Custom Motorcycles Food Trucks On Site Full Bar with Adult Beverages\nAnd the best part? FREE ENTRY & FAMILY FRIENDLY!  \nBring the kids. Bring your friends. Bring your whole crew. This is more than just a show\, it’s a movement!\nWe’re raising awareness for AMC (Arthrogryposis Multiplex Congenita) a rare disability our son was born with. This event is about spreading knowledge\, building community\, and showing that no family fights alone.
URL:https://utahcarczar.com/event/amc-awareness-ride/
LOCATION:American Legion Post 112\, 320 E 3900 S\, Salt Lake City\, Utah
CATEGORIES:Bike Show/Cruise
ATTACH;FMTTYPE=image/jpeg:https://utahcarczar.com/wp-content/uploads/2020/05/American-Legion-Post-112-Utah.jpg
END:VEVENT
BEGIN:VEVENT
DTSTART;TZID=America/Denver:20260629T170000
DTEND;TZID=America/Denver:20260629T200000
DTSTAMP:20260423T103120
CREATED:20260126T052918Z
LAST-MODIFIED:20260203T055148Z
UID:10001927-1782752400-1782763200@utahcarczar.com
SUMMARY:Jim's Restaurant Cruise Night
DESCRIPTION:
URL:https://utahcarczar.com/event/jims-restaurant-cruise-night-5/2026-06-29/
LOCATION:Jim’s Restaurant\, 12800 S Redwood Rd\, Riverton\, Utah
CATEGORIES:Cruise Night
ATTACH;FMTTYPE=image/jpeg:https://utahcarczar.com/wp-content/uploads/2024/01/Jims-Restaurant-Square-Logo.jpg
ORGANIZER;CN="Rockin Hotrod Productions":MAILTO:rhrp57@yahoo.com
END:VEVENT
BEGIN:VEVENT
DTSTART;TZID=America/Denver:20260701T170000
DTEND;TZID=America/Denver:20260701T200000
DTSTAMP:20260423T103120
CREATED:20260203T060946Z
LAST-MODIFIED:20260203T061037Z
UID:10002003-1782925200-1782936000@utahcarczar.com
SUMMARY:Jordan Landing Cruise Night 2026
DESCRIPTION:
URL:https://utahcarczar.com/event/jordan-landing-cruise-night-2026/2026-07-01/
LOCATION:Jordan Landing\, 7273 Plaza Center Dr\, West Jordan\, UT\, United States
CATEGORIES:Cruise Night
ATTACH;FMTTYPE=image/png:https://utahcarczar.com/wp-content/uploads/2025/03/Jordan-Landing.png
END:VEVENT
BEGIN:VEVENT
DTSTART;TZID=America/Denver:20260705T120000
DTEND;TZID=America/Denver:20260705T150000
DTSTAMP:20260423T103120
CREATED:20260118T164640Z
LAST-MODIFIED:20260203T060106Z
UID:10001911-1783252800-1783263600@utahcarczar.com
SUMMARY:The Watershed Cruise Lunch
DESCRIPTION:
URL:https://utahcarczar.com/event/the-watershed-cruise-lunch/2026-07-05/
LOCATION:The Watershed Pub and Kitchen\, 7176 S 900 E\, Murray\, UT\, 84047\, United States
CATEGORIES:Cruise Night
ATTACH;FMTTYPE=image/webp:https://utahcarczar.com/wp-content/uploads/2026/01/The-Watershed-Pub-and-Kitchen-Logo.webp
ORGANIZER;CN="Rockin Hotrod Productions":MAILTO:rhrp57@yahoo.com
END:VEVENT
BEGIN:VEVENT
DTSTART;TZID=America/Denver:20260706T170000
DTEND;TZID=America/Denver:20260706T200000
DTSTAMP:20260423T103120
CREATED:20260105T053640Z
LAST-MODIFIED:20260308T081053Z
UID:10001902-1783357200-1783368000@utahcarczar.com
SUMMARY:Lonestar Saloon Cruise Night
DESCRIPTION:
URL:https://utahcarczar.com/event/lonestar-saloon-cruise-night/2026-07-06/
LOCATION:Lonestar Saloon\, 3153 2100 S\, West Valley City\, Utah\, 84119
CATEGORIES:Cruise Night
ATTACH;FMTTYPE=image/jpeg:https://utahcarczar.com/wp-content/uploads/2026/01/Lonestar-Saloon-Utah-Logo.jpg
ORGANIZER;CN="Rockin Hotrod Productions":MAILTO:rhrp57@yahoo.com
END:VEVENT
BEGIN:VEVENT
DTSTART;TZID=America/Denver:20260707T170000
DTEND;TZID=America/Denver:20260707T200000
DTSTAMP:20260423T103120
CREATED:20260216T063452Z
LAST-MODIFIED:20260216T063452Z
UID:10002012-1783443600-1783454400@utahcarczar.com
SUMMARY:One Man Band Cruise Night
DESCRIPTION:Monthly cruise night at One Man Band in Lehi with JC Hackett. Held on the first Tuesday of every month\, April – October. \nParking is limited\, arrive early.
URL:https://utahcarczar.com/event/one-man-band-cruise-night/2026-07-07/
LOCATION:One Man Band\, 1220 E Main St\, Lehi\, UT\, United States
CATEGORIES:Cruise,Cruise Night
ATTACH;FMTTYPE=image/png:https://utahcarczar.com/wp-content/uploads/2025/03/One-Man-Band.png
END:VEVENT
BEGIN:VEVENT
DTSTART;TZID=America/Denver:20260711T100000
DTEND;TZID=America/Denver:20260711T150000
DTSTAMP:20260423T103120
CREATED:20250416T125506Z
LAST-MODIFIED:20260318T184517Z
UID:10000862-1783764000-1783782000@utahcarczar.com
SUMMARY:Gardner Village Car Show
DESCRIPTION:Car show Registration is day of the show\, no pre-registration required. \nAdmission is FREE to enter the car show and spectators are always FREE \nThe car show entries are located in the large clean paved parking lot to the Northeast of the Entrance.
URL:https://utahcarczar.com/event/gardner-village-car-show/
LOCATION:Gardner Village\, 1100 West 7800 South\, West Jordan\, UT
CATEGORIES:Car Show
ATTACH;FMTTYPE=image/jpeg:https://utahcarczar.com/wp-content/uploads/2024/06/GardnerVillage_1024X1024-100-1.jpg
ORGANIZER;CN="Krank-it-Up Productions":MAILTO:1mikemanilla@gmail.com
END:VEVENT
BEGIN:VEVENT
DTSTART;TZID=America/Denver:20260711T110000
DTEND;TZID=America/Denver:20260711T140000
DTSTAMP:20260423T103120
CREATED:20250425T050952Z
LAST-MODIFIED:20260301T225942Z
UID:10001485-1783767600-1783778400@utahcarczar.com
SUMMARY:Sandy Museum Car Show
DESCRIPTION:Each vehicle entry will receive a Free Meal. Registration is also free.
URL:https://utahcarczar.com/event/sandy-museum-car-show/
LOCATION:Sandy Museum\, 8744 s. Center St.\, Sandy
CATEGORIES:Car Show
ATTACH;FMTTYPE=image/png:https://utahcarczar.com/wp-content/uploads/2022/04/241664901_542521440412532_5984518428803894701_n.png
END:VEVENT
BEGIN:VEVENT
DTSTART;TZID=America/Denver:20260711T150000
DTEND;TZID=America/Denver:20260711T190000
DTSTAMP:20260423T103120
CREATED:20260219T023903Z
LAST-MODIFIED:20260219T023928Z
UID:10002029-1783782000-1783796400@utahcarczar.com
SUMMARY:Texas Roadhouse Cruise-In St. George
DESCRIPTION:The 1st Saturday of every month SGCS & Texas Roadhouse will be hosting a Cruise In and fundraiser to help raise money for programs that need help in Our Community. Cruise In times will be around the weather so please watch for changes thru out the year\, There will be discounts and specials on food during the cruise ins.
URL:https://utahcarczar.com/event/texas-roadhouse-cruise-in-st-george/2026-07-11/
LOCATION:Texas Roadhouse – St. George\, 2654 E Red Cliffs Dr\, St George\, Utah
CATEGORIES:Cruise Night
ATTACH;FMTTYPE=image/png:https://utahcarczar.com/wp-content/uploads/2021/08/Texas-Roadhouse-Logo.png
END:VEVENT
BEGIN:VEVENT
DTSTART;TZID=America/Denver:20260712T120000
DTEND;TZID=America/Denver:20260712T150000
DTSTAMP:20260423T103120
CREATED:20260203T053915Z
LAST-MODIFIED:20260308T081340Z
UID:10001958-1783857600-1783868400@utahcarczar.com
SUMMARY:Exotic Kitty Cruise Lunch
DESCRIPTION:
URL:https://utahcarczar.com/event/exotic-kitty-cruise-lunch/2026-07-12/
LOCATION:Exotic Kitty\, 3055 S State St\, South Salt Lake\, UT\, 84115
CATEGORIES:Cruise Night
ATTACH;FMTTYPE=image/png:https://utahcarczar.com/wp-content/uploads/2025/05/2026-Car-Show-Icon.png
ORGANIZER;CN="Rockin Hotrod Productions":MAILTO:rhrp57@yahoo.com
END:VEVENT
BEGIN:VEVENT
DTSTART;TZID=America/Denver:20260713T170000
DTEND;TZID=America/Denver:20260713T200000
DTSTAMP:20260423T103120
CREATED:20260202T053530Z
LAST-MODIFIED:20260202T053728Z
UID:10001945-1783962000-1783972800@utahcarczar.com
SUMMARY:Chubby's Cruise Night
DESCRIPTION:
URL:https://utahcarczar.com/event/chubbys-cruise-night/2026-07-13/
LOCATION:Chubby’s\, 1276 W 12600 S\, Riverton\, Utah
CATEGORIES:Cruise Night
ATTACH;FMTTYPE=image/png:https://utahcarczar.com/wp-content/uploads/2022/03/Chubbys-logo.png
ORGANIZER;CN="Rockin Hotrod Productions":MAILTO:rhrp57@yahoo.com
END:VEVENT
BEGIN:VEVENT
DTSTART;TZID=America/Denver:20260714T170000
DTEND;TZID=America/Denver:20260714T200000
DTSTAMP:20260423T103120
CREATED:20260223T013454Z
LAST-MODIFIED:20260223T013541Z
UID:10002037-1784048400-1784059200@utahcarczar.com
SUMMARY:Shake Shack Cruise Night
DESCRIPTION:Join cruisers and JC Hackett at Shake Shack in Murray\, UT on the second Tuesday each month (April – October). Great food\, oldies\, and cool cars.
URL:https://utahcarczar.com/event/shake-shack-cruise-night-2026/2026-07-14/
LOCATION:Shake Shack\, 6123 S State Street\, Murray\, Utah
CATEGORIES:Cruise Night
ATTACH;FMTTYPE=image/png:https://utahcarczar.com/wp-content/uploads/2025/03/Shake-Shack-Logo.png
END:VEVENT
BEGIN:VEVENT
DTSTART;TZID=America/Denver:20260715T170000
DTEND;TZID=America/Denver:20260715T200000
DTSTAMP:20260423T103120
CREATED:20260203T054131Z
LAST-MODIFIED:20260308T080749Z
UID:10001969-1784134800-1784145600@utahcarczar.com
SUMMARY:Culver's Cruise Night
DESCRIPTION:
URL:https://utahcarczar.com/event/culvers-cruise-night-2/2026-07-15/
LOCATION:Culver’s\, 7697 S 5600 W\, West Jordan\, Utah
CATEGORIES:Cruise Night
ATTACH;FMTTYPE=image/png:https://utahcarczar.com/wp-content/uploads/2023/05/culvers-restaurants-1-logo-png-transparent.png
ORGANIZER;CN="Rockin Hotrod Productions":MAILTO:rhrp57@yahoo.com
END:VEVENT
BEGIN:VEVENT
DTSTART;TZID=America/Denver:20260716T160000
DTEND;TZID=America/Denver:20260716T200000
DTSTAMP:20260423T103120
CREATED:20250416T125425Z
LAST-MODIFIED:20260209T054554Z
UID:10001073-1784217600-1784232000@utahcarczar.com
SUMMARY:Draper Days Car Show
DESCRIPTION:This is a free\, all-makes\, all-models car show.\nParticipants must pre-register online for the car show or in register in-person at the show and sign the Release and Waiver.\nIn-person registration on July 16 at the show starts at 2:30 PM.\nCars cannot arrive earlier than 2:30 PM. \nShow winners are invited to drive their cars in the Draper Days Parade on Saturday\, July 19. \nAll vehicles must be in safe operating condition.\nDisruptive conduct\, abusive language\, and not abiding by the show’s rules are cause to be denied entry or dismissed from the event.\nCategories and Awards:\nBest in Show 1st $500 + plaque + invite to participate in parade\nBest in Show 2nd $200 + plaque + invite to participate in parade\nBest in Show 3rd $100 + plaque + invite to participate in parade\nMayor’s Choice $50 + plaque + invite to participate in parade\nRoyalty’s Choice $25 + plaque + invite to participate in parade
URL:https://utahcarczar.com/event/draper-days-car-show/
LOCATION:Draper City Park\, 12600 S 1300 E\, Draper\, UT
CATEGORIES:Car Show
ATTACH;FMTTYPE=image/jpeg:https://utahcarczar.com/wp-content/uploads/2023/09/Draper-300x229-1.jpg
ORGANIZER;CN="Krank-it-Up Productions":MAILTO:1mikemanilla@gmail.com
END:VEVENT
BEGIN:VEVENT
DTSTART;TZID=America/Denver:20260716T170000
DTEND;TZID=America/Denver:20260716T200000
DTSTAMP:20260423T103120
CREATED:20260223T014013Z
LAST-MODIFIED:20260223T014830Z
UID:10002050-1784221200-1784232000@utahcarczar.com
SUMMARY:Daybreak Soda Row Cruise Night
DESCRIPTION:
URL:https://utahcarczar.com/event/soda-row-cruise-night/2026-07-16/
LOCATION:SoDa Row\, 11248 Kestrel Rise Road\, South Jordan\, Utah
CATEGORIES:Cruise Night
ATTACH;FMTTYPE=image/png:https://utahcarczar.com/wp-content/uploads/2025/03/Daybreak-Soda-Row-Logo.png
END:VEVENT
BEGIN:VEVENT
DTSTART;TZID=America/Denver:20260717T180000
DTEND;TZID=America/Denver:20260717T200000
DTSTAMP:20260423T103120
CREATED:20250427T233524Z
LAST-MODIFIED:20260217T051906Z
UID:10001495-1784311200-1784318400@utahcarczar.com
SUMMARY:Butlerville Days Car Show
DESCRIPTION:Submit completed registration form at check-in. \nLocation: Entrance adjacent to Guthrie Skate Park (2495 E. Bengal Blvd.) Vehicles will be on the lawn of Butler Park. \nVehicle Entry Time: 5-6 p.m.\nPrizes Awarded: 8:15 p.m.\, -Must be present to win. \nImportant Notice: VEHICLES MUST BE REMOVED FROM GRASS AND DRONE SHOW AREA BY 9 P.M.
URL:https://utahcarczar.com/event/butlerville-days-antique-car-show/
LOCATION:Butler Park\, 2495 E Bengal Blvd\, Cottonwood Heights\, UT
CATEGORIES:Car Show
ATTACH;FMTTYPE=image/jpeg:https://utahcarczar.com/wp-content/uploads/2026/02/COTTON-WOOD-HEIGHTS.jpg
ORGANIZER;CN="Krank-it-Up Productions":MAILTO:1mikemanilla@gmail.com
END:VEVENT
BEGIN:VEVENT
DTSTART;TZID=America/Denver:20260718T100000
DTEND;TZID=America/Denver:20260718T180000
DTSTAMP:20260423T103120
CREATED:20250416T125458Z
LAST-MODIFIED:20260418T235607Z
UID:10000903-1784368800-1784397600@utahcarczar.com
SUMMARY:American Fork Steel Days Car Show
DESCRIPTION:Krank-It-Up Productions is now this years car show host and promoter. \nThis show will be bigger\, better\, with more sponsors\, 15-Jackets from JLM and more custom car show awards than ever. \nLots of raffle prizes from Lion Energy\, local merchants and more. \nMore details\, vehicle registration and information are in the works. Stay tuned! \nAll the regular fun activities as last year’s car show with awesome food trucks\, vendors\, Car Parade and Burn out contest!! \nWe are estimating over 500 Cars\, this is one of largest car show in Utah County\, you do not want to miss out!
URL:https://utahcarczar.com/event/american-fork-steel-days-car-show/
LOCATION:Rotary Park\, 400 S 200 E\, American Fork\, Utah\, 84003
CATEGORIES:Car Show
ATTACH;FMTTYPE=image/png:https://utahcarczar.com/wp-content/uploads/2023/04/American-Fork-Steel-Days-Logo.png
ORGANIZER;CN="Krank-it-Up Productions":MAILTO:1mikemanilla@gmail.com
END:VEVENT
BEGIN:VEVENT
DTSTART;TZID=America/Denver:20260719T120000
DTEND;TZID=America/Denver:20260719T150000
DTSTAMP:20260423T103120
CREATED:20260203T055622Z
LAST-MODIFIED:20260203T060036Z
UID:10001997-1784462400-1784473200@utahcarczar.com
SUMMARY:The Watershed Cruise Lunch
DESCRIPTION:Join cruisers and Rockin’ Hot Rod Productions for lunch at The Watershed the third Sunday every month (March – October)
URL:https://utahcarczar.com/event/the-watershed-cruise-lunch-3rd-sunday/2026-07-19/
LOCATION:The Watershed Pub and Kitchen\, 7176 S 900 E\, Murray\, UT\, 84047\, United States
CATEGORIES:Cruise Night
ATTACH;FMTTYPE=image/webp:https://utahcarczar.com/wp-content/uploads/2026/01/The-Watershed-Pub-and-Kitchen-Logo.webp
ORGANIZER;CN="Rockin Hotrod Productions":MAILTO:rhrp57@yahoo.com
END:VEVENT
BEGIN:VEVENT
DTSTART;TZID=America/Denver:20260725T100000
DTEND;TZID=America/Denver:20260725T150000
DTSTAMP:20260423T103120
CREATED:20250416T125509Z
LAST-MODIFIED:20260330T070711Z
UID:10000856-1784973600-1784991600@utahcarczar.com
SUMMARY:Blast from the Past Car Show
DESCRIPTION:Cool cars\, trucks\, & motorcycles\, fabulous food trucks\, PIN UP CONTEST\, prizes\, trophies\, AND MORE! It’s a Hot Rod Reunion for car enthusiasts\, featuring as many as 200 entries! \nSalina\, Utah is just off Interstate 70. The Car Show is held at the Salina City Park\, 1500 S. Old Hwy 10.  (Turn South at 300 East Main and drive 1.3 miles to park).‍ ‍
URL:https://utahcarczar.com/event/blast-from-the-past-car-show/
LOCATION:Salina City Park\, 1500 Old Hwy 10\, Salina\, UT\, 84654\, United States
CATEGORIES:Car Show
ATTACH;FMTTYPE=image/webp:https://utahcarczar.com/wp-content/uploads/2025/04/Blast-from-the-Past-Car-Show-Logo.webp
END:VEVENT
BEGIN:VEVENT
DTSTART;TZID=America/Denver:20260725T160000
DTEND;TZID=America/Denver:20260725T190000
DTSTAMP:20260423T103120
CREATED:20260308T075410Z
LAST-MODIFIED:20260308T075410Z
UID:10002065-1784995200-1785006000@utahcarczar.com
SUMMARY:Cleveland Days Car Show
DESCRIPTION:Firework show at the end of the day
URL:https://utahcarczar.com/event/cleveland-days-car-show/
LOCATION:Cleveland Park\, 245 W Main St\, Cleveland\, UT\, 84518\, United States
CATEGORIES:Car Show
ATTACH;FMTTYPE=image/png:https://utahcarczar.com/wp-content/uploads/2025/05/2026-Car-Show-Icon-Euro.png
END:VEVENT
BEGIN:VEVENT
DTSTART;TZID=America/Denver:20260725T170000
DTEND;TZID=America/Denver:20260725T200000
DTSTAMP:20260423T103120
CREATED:20260302T045647Z
LAST-MODIFIED:20260302T050353Z
UID:10002057-1784998800-1785009600@utahcarczar.com
SUMMARY:Cannon Classic Cars “Stars\, Stripes & Tailpipes”
DESCRIPTION:Celebrate Freedom with Chrome and Custom Rides \nThis July\, rev up your patriotic spirit with red\, white and blue celebration of classic and custom cars. It’s a high-octane tribute to American pride\, power and performance.
URL:https://utahcarczar.com/event/cannon-classic-cars-stars-stripes-tailpipes/
LOCATION:Cannon Classic Cars\, 809 West 1700 South\, Salt Lake City\, Utah
CATEGORIES:Car Show
ATTACH;FMTTYPE=image/jpeg:https://utahcarczar.com/wp-content/uploads/2025/04/cannon-classic-logo.jpg
ORGANIZER;CN="Krank-it-Up Productions":MAILTO:1mikemanilla@gmail.com
END:VEVENT
BEGIN:VEVENT
DTSTART;TZID=America/Denver:20260726T120000
DTEND;TZID=America/Denver:20260726T150000
DTSTAMP:20260423T103120
CREATED:20260126T054638Z
LAST-MODIFIED:20260126T054638Z
UID:10001935-1785067200-1785078000@utahcarczar.com
SUMMARY:The Pub Cruise Lunch
DESCRIPTION:
URL:https://utahcarczar.com/event/the-pub-cruise-lunch/2026-07-26/
LOCATION:The Pub Sports Bar\, 5502 W 13400 S\, Herriman\, UT\, United States
CATEGORIES:Cruise Night
ATTACH;FMTTYPE=image/jpeg:https://utahcarczar.com/wp-content/uploads/2025/05/The-Pub-Sports-Bar-Logo.jpg
ORGANIZER;CN="Rockin Hotrod Productions":MAILTO:rhrp57@yahoo.com
END:VEVENT
BEGIN:VEVENT
DTSTART;TZID=America/Denver:20260727T170000
DTEND;TZID=America/Denver:20260727T200000
DTSTAMP:20260423T103120
CREATED:20260126T052918Z
LAST-MODIFIED:20260203T055148Z
UID:10001928-1785171600-1785182400@utahcarczar.com
SUMMARY:Jim's Restaurant Cruise Night
DESCRIPTION:
URL:https://utahcarczar.com/event/jims-restaurant-cruise-night-5/2026-07-27/
LOCATION:Jim’s Restaurant\, 12800 S Redwood Rd\, Riverton\, Utah
CATEGORIES:Cruise Night
ATTACH;FMTTYPE=image/jpeg:https://utahcarczar.com/wp-content/uploads/2024/01/Jims-Restaurant-Square-Logo.jpg
ORGANIZER;CN="Rockin Hotrod Productions":MAILTO:rhrp57@yahoo.com
END:VEVENT
BEGIN:VEVENT
DTSTART;TZID=America/Denver:20260729T170000
DTEND;TZID=America/Denver:20260729T200000
DTSTAMP:20260423T103120
CREATED:20260217T051337Z
LAST-MODIFIED:20260217T051405Z
UID:10002019-1785344400-1785355200@utahcarczar.com
SUMMARY:Burger Stop Cruise Night
DESCRIPTION:
URL:https://utahcarczar.com/event/burger-stop-cruise-night-july-2026/
LOCATION:Burger Stop\, 323 E Gentile\, Layton\, Utah
CATEGORIES:Cruise Night
ATTACH;FMTTYPE=image/png:https://utahcarczar.com/wp-content/uploads/2025/03/Burger-Stop-Cruise-Night-Logo.png
END:VEVENT
BEGIN:VEVENT
DTSTART;TZID=America/Denver:20260801T080000
DTEND;TZID=America/Denver:20260801T150000
DTSTAMP:20260423T103120
CREATED:20250512T000640Z
LAST-MODIFIED:20260406T034948Z
UID:10001553-1785571200-1785596400@utahcarczar.com
SUMMARY:West Bountiful Car Show for Alzheimer's & Dementia
DESCRIPTION:Join us in the fight against Alzheimer’s and Dementia.\nThe West Bountiful Car Show is a charity show created by car and truck enthusiasts. We’re about showing off cool vehicles and raising money for a good cause. This is a family-friendly event located at the West Bountiful Park on Pages Lane. Join us in the fight against Alzheimer’s disease.
URL:https://utahcarczar.com/event/west-bountiful-carshow/
LOCATION:West Bountiful City Park\, 550 West 1600 North\, West Bountiful\, UT
CATEGORIES:Charity Car Show
ATTACH;FMTTYPE=image/png:https://utahcarczar.com/wp-content/uploads/2025/05/West-Bountiful-City-BW-Logo-jpg.png
ORGANIZER;CN="Krank-it-Up Productions":MAILTO:1mikemanilla@gmail.com
END:VEVENT
BEGIN:VEVENT
DTSTART;TZID=America/Denver:20260801T150000
DTEND;TZID=America/Denver:20260801T190000
DTSTAMP:20260423T103120
CREATED:20260219T023903Z
LAST-MODIFIED:20260219T023928Z
UID:10002030-1785596400-1785610800@utahcarczar.com
SUMMARY:Texas Roadhouse Cruise-In St. George
DESCRIPTION:The 1st Saturday of every month SGCS & Texas Roadhouse will be hosting a Cruise In and fundraiser to help raise money for programs that need help in Our Community. Cruise In times will be around the weather so please watch for changes thru out the year\, There will be discounts and specials on food during the cruise ins.
URL:https://utahcarczar.com/event/texas-roadhouse-cruise-in-st-george/2026-08-01/
LOCATION:Texas Roadhouse – St. George\, 2654 E Red Cliffs Dr\, St George\, Utah
CATEGORIES:Cruise Night
ATTACH;FMTTYPE=image/png:https://utahcarczar.com/wp-content/uploads/2021/08/Texas-Roadhouse-Logo.png
END:VEVENT
BEGIN:VEVENT
DTSTART;TZID=America/Denver:20260802T120000
DTEND;TZID=America/Denver:20260802T150000
DTSTAMP:20260423T103120
CREATED:20260118T164640Z
LAST-MODIFIED:20260203T060106Z
UID:10001912-1785672000-1785682800@utahcarczar.com
SUMMARY:The Watershed Cruise Lunch
DESCRIPTION:
URL:https://utahcarczar.com/event/the-watershed-cruise-lunch/2026-08-02/
LOCATION:The Watershed Pub and Kitchen\, 7176 S 900 E\, Murray\, UT\, 84047\, United States
CATEGORIES:Cruise Night
ATTACH;FMTTYPE=image/webp:https://utahcarczar.com/wp-content/uploads/2026/01/The-Watershed-Pub-and-Kitchen-Logo.webp
ORGANIZER;CN="Rockin Hotrod Productions":MAILTO:rhrp57@yahoo.com
END:VEVENT
BEGIN:VEVENT
DTSTART;TZID=America/Denver:20260803T170000
DTEND;TZID=America/Denver:20260803T200000
DTSTAMP:20260423T103120
CREATED:20260105T053640Z
LAST-MODIFIED:20260308T081053Z
UID:10001903-1785776400-1785787200@utahcarczar.com
SUMMARY:Lonestar Saloon Cruise Night
DESCRIPTION:
URL:https://utahcarczar.com/event/lonestar-saloon-cruise-night/2026-08-03/
LOCATION:Lonestar Saloon\, 3153 2100 S\, West Valley City\, Utah\, 84119
CATEGORIES:Cruise Night
ATTACH;FMTTYPE=image/jpeg:https://utahcarczar.com/wp-content/uploads/2026/01/Lonestar-Saloon-Utah-Logo.jpg
ORGANIZER;CN="Rockin Hotrod Productions":MAILTO:rhrp57@yahoo.com
END:VEVENT
BEGIN:VEVENT
DTSTART;TZID=America/Denver:20260804T170000
DTEND;TZID=America/Denver:20260804T200000
DTSTAMP:20260423T103120
CREATED:20260216T063452Z
LAST-MODIFIED:20260216T063452Z
UID:10002013-1785862800-1785873600@utahcarczar.com
SUMMARY:One Man Band Cruise Night
DESCRIPTION:Monthly cruise night at One Man Band in Lehi with JC Hackett. Held on the first Tuesday of every month\, April – October. \nParking is limited\, arrive early.
URL:https://utahcarczar.com/event/one-man-band-cruise-night/2026-08-04/
LOCATION:One Man Band\, 1220 E Main St\, Lehi\, UT\, United States
CATEGORIES:Cruise,Cruise Night
ATTACH;FMTTYPE=image/png:https://utahcarczar.com/wp-content/uploads/2025/03/One-Man-Band.png
END:VEVENT
BEGIN:VEVENT
DTSTART;TZID=America/Denver:20260805T170000
DTEND;TZID=America/Denver:20260805T200000
DTSTAMP:20260423T103120
CREATED:20260203T060946Z
LAST-MODIFIED:20260203T061037Z
UID:10002004-1785949200-1785960000@utahcarczar.com
SUMMARY:Jordan Landing Cruise Night 2026
DESCRIPTION:
URL:https://utahcarczar.com/event/jordan-landing-cruise-night-2026/2026-08-05/
LOCATION:Jordan Landing\, 7273 Plaza Center Dr\, West Jordan\, UT\, United States
CATEGORIES:Cruise Night
ATTACH;FMTTYPE=image/png:https://utahcarczar.com/wp-content/uploads/2025/03/Jordan-Landing.png
END:VEVENT
END:VCALENDAR