BEGIN:VCALENDAR
VERSION:2.0
PRODID:-//Utah Car Czar - ECPv6.15.18//NONSGML v1.0//EN
CALSCALE:GREGORIAN
METHOD:PUBLISH
X-WR-CALNAME:Utah Car Czar
X-ORIGINAL-URL:https://utahcarczar.com
X-WR-CALDESC:Events for Utah Car Czar
REFRESH-INTERVAL;VALUE=DURATION:PT1H
X-Robots-Tag:noindex
X-PUBLISHED-TTL:PT1H
BEGIN:VTIMEZONE
TZID:America/Denver
BEGIN:DAYLIGHT
TZOFFSETFROM:-0700
TZOFFSETTO:-0600
TZNAME:MDT
DTSTART:20250309T090000
END:DAYLIGHT
BEGIN:STANDARD
TZOFFSETFROM:-0600
TZOFFSETTO:-0700
TZNAME:MST
DTSTART:20251102T080000
END:STANDARD
BEGIN:DAYLIGHT
TZOFFSETFROM:-0700
TZOFFSETTO:-0600
TZNAME:MDT
DTSTART:20260308T090000
END:DAYLIGHT
BEGIN:STANDARD
TZOFFSETFROM:-0600
TZOFFSETTO:-0700
TZNAME:MST
DTSTART:20261101T080000
END:STANDARD
BEGIN:DAYLIGHT
TZOFFSETFROM:-0700
TZOFFSETTO:-0600
TZNAME:MDT
DTSTART:20270314T090000
END:DAYLIGHT
BEGIN:STANDARD
TZOFFSETFROM:-0600
TZOFFSETTO:-0700
TZNAME:MST
DTSTART:20271107T080000
END:STANDARD
END:VTIMEZONE
BEGIN:VEVENT
DTSTART;TZID=America/Denver:20260916T170000
DTEND;TZID=America/Denver:20260916T200000
DTSTAMP:20260423T130752
CREATED:20260203T054131Z
LAST-MODIFIED:20260308T080749Z
UID:10001971-1789578000-1789588800@utahcarczar.com
SUMMARY:Culver's Cruise Night
DESCRIPTION:
URL:https://utahcarczar.com/event/culvers-cruise-night-2/2026-09-16/
LOCATION:Culver’s\, 7697 S 5600 W\, West Jordan\, Utah
CATEGORIES:Cruise Night
ATTACH;FMTTYPE=image/png:https://utahcarczar.com/wp-content/uploads/2023/05/culvers-restaurants-1-logo-png-transparent.png
ORGANIZER;CN="Rockin Hotrod Productions":MAILTO:rhrp57@yahoo.com
END:VEVENT
BEGIN:VEVENT
DTSTART;TZID=America/Denver:20260917T170000
DTEND;TZID=America/Denver:20260917T200000
DTSTAMP:20260423T130752
CREATED:20260223T014013Z
LAST-MODIFIED:20260223T014830Z
UID:10002052-1789664400-1789675200@utahcarczar.com
SUMMARY:Daybreak Soda Row Cruise Night
DESCRIPTION:
URL:https://utahcarczar.com/event/soda-row-cruise-night/2026-09-17/
LOCATION:SoDa Row\, 11248 Kestrel Rise Road\, South Jordan\, Utah
CATEGORIES:Cruise Night
ATTACH;FMTTYPE=image/png:https://utahcarczar.com/wp-content/uploads/2025/03/Daybreak-Soda-Row-Logo.png
END:VEVENT
BEGIN:VEVENT
DTSTART;TZID=America/Denver:20260919T150000
DTEND;TZID=America/Denver:20260919T150000
DTSTAMP:20260423T130752
CREATED:20250518T163300Z
LAST-MODIFIED:20260325T004708Z
UID:10001581-1789830000-1789830000@utahcarczar.com
SUMMARY:Tooele Tech Days Scholarship Fundraiser
DESCRIPTION:
URL:https://utahcarczar.com/event/tooele-tech-days/
LOCATION:Tooele Technical College\, 88 South Tooele Blvd.\, Tooele
CATEGORIES:Charity Car Show
ATTACH;FMTTYPE=image/png:https://utahcarczar.com/wp-content/uploads/2026/03/TTD-New-Logo_Yellow_SF_whitebox-scaled.png
END:VEVENT
BEGIN:VEVENT
DTSTART;TZID=America/Denver:20260919T160000
DTEND;TZID=America/Denver:20260919T200000
DTSTAMP:20260423T130752
CREATED:20250416T125519Z
LAST-MODIFIED:20260327T234553Z
UID:10000801-1789833600-1789848000@utahcarczar.com
SUMMARY:Riverton Community Car Show & Ice Cream Social
DESCRIPTION:Riverton Community 9th Annual FREE Car show and Ice-Cream social \nThis event is fun for the whole family.\nIt’s a car show\, social gathering and Ice-Cream social.\nLocation: Riverton Stake ward parking lot \nA Claude Wells Event
URL:https://utahcarczar.com/event/riverton-community-car-show-ice-cream-social/
LOCATION:LDS Church – Riverton\, 1855 West 13400 South\, Riverton\, UT\, 84065
CATEGORIES:Car Show
ATTACH;FMTTYPE=image/jpeg:https://utahcarczar.com/wp-content/uploads/2023/05/Krank-It-Up-Productions.jpg
ORGANIZER;CN="Krank-it-Up Productions":MAILTO:1mikemanilla@gmail.com
END:VEVENT
BEGIN:VEVENT
DTSTART;TZID=America/Denver:20260919T160000
DTEND;TZID=America/Denver:20260919T210000
DTSTAMP:20260423T130752
CREATED:20260302T054212Z
LAST-MODIFIED:20260302T054212Z
UID:10002064-1789833600-1789851600@utahcarczar.com
SUMMARY:Celestial Zoo Pet Rescue Car & Bike Show
DESCRIPTION:This is a non-profit FUN-draiser for Celestial Zoo Pet Rescue. Please bring a bag or cans of cat food\, litter or cat toys for car entry. \nThere will be outdoor seating with a live band – Jana and the Rebels (classic rock)\, vendors\, awards\, Raffles and food.
URL:https://utahcarczar.com/event/celestial-zoo-pet-rescue-car-bike-show-fundraiser-september/
LOCATION:Village Inn\, 5941 S State St\, Murray
CATEGORIES:Charity Car Show
ATTACH;FMTTYPE=image/gif:https://utahcarczar.com/wp-content/uploads/2020/05/village-inn-restaurant.gif
END:VEVENT
BEGIN:VEVENT
DTSTART;TZID=America/Denver:20260920T120000
DTEND;TZID=America/Denver:20260920T150000
DTSTAMP:20260423T130752
CREATED:20260203T055622Z
LAST-MODIFIED:20260203T060036Z
UID:10001999-1789905600-1789916400@utahcarczar.com
SUMMARY:The Watershed Cruise Lunch
DESCRIPTION:Join cruisers and Rockin’ Hot Rod Productions for lunch at The Watershed the third Sunday every month (March – October)
URL:https://utahcarczar.com/event/the-watershed-cruise-lunch-3rd-sunday/2026-09-20/
LOCATION:The Watershed Pub and Kitchen\, 7176 S 900 E\, Murray\, UT\, 84047\, United States
CATEGORIES:Cruise Night
ATTACH;FMTTYPE=image/webp:https://utahcarczar.com/wp-content/uploads/2026/01/The-Watershed-Pub-and-Kitchen-Logo.webp
ORGANIZER;CN="Rockin Hotrod Productions":MAILTO:rhrp57@yahoo.com
END:VEVENT
BEGIN:VEVENT
DTSTART;TZID=America/Denver:20260923T170000
DTEND;TZID=America/Denver:20260923T200000
DTSTAMP:20260423T130752
CREATED:20260217T050938Z
LAST-MODIFIED:20260217T051100Z
UID:10002021-1790182800-1790193600@utahcarczar.com
SUMMARY:Burger Stop Cruise Night
DESCRIPTION:
URL:https://utahcarczar.com/event/burger-stop-cruise-night-2/2026-09-23/
LOCATION:Burger Stop\, 323 E Gentile\, Layton\, Utah
CATEGORIES:Cruise Night
ATTACH;FMTTYPE=image/png:https://utahcarczar.com/wp-content/uploads/2025/03/Burger-Stop-Cruise-Night-Logo.png
END:VEVENT
BEGIN:VEVENT
DTSTART;TZID=America/Denver:20260924T170000
DTEND;TZID=America/Denver:20260924T193000
DTSTAMP:20260423T130752
CREATED:20250416T125458Z
LAST-MODIFIED:20260302T044205Z
UID:10000900-1790269200-1790278200@utahcarczar.com
SUMMARY:Abbington Senior Car Show Murray
DESCRIPTION:
URL:https://utahcarczar.com/event/abbington-senior-car-show-murray/
LOCATION:Abbington Senior Living\, 5377 S State St\, Murray\, Utah\, 84107
CATEGORIES:Car Show
ATTACH;FMTTYPE=image/png:https://utahcarczar.com/wp-content/uploads/2023/04/AbbingtonLogo.png
END:VEVENT
BEGIN:VEVENT
DTSTART;TZID=America/Denver:20260925T170000
DTEND;TZID=America/Denver:20260925T200000
DTSTAMP:20260423T130752
CREATED:20260302T050244Z
LAST-MODIFIED:20260302T050254Z
UID:10002059-1790355600-1790366400@utahcarczar.com
SUMMARY:Cannon Classic Cars” Maple & Motors”
DESCRIPTION:Celebrating Craftsmanship\, Chrome and the Colors of Fall \nAs the leaves turn and the classics roll in\, join us for a fall evening full of rich color\, roaring engines\, and timeless craftsmanship. Maple & Motors is a tribute to the builders\, drivers\, and the dreamers who bring vintage vehicles back to life-set against the beauty of autumn.
URL:https://utahcarczar.com/event/cannon-classic-cars-maple-motors/
LOCATION:Cannon Classic Cars\, 809 West 1700 South\, Salt Lake City\, Utah
CATEGORIES:Car Show
ATTACH;FMTTYPE=image/jpeg:https://utahcarczar.com/wp-content/uploads/2025/04/cannon-classic-logo.jpg
ORGANIZER;CN="Krank-it-Up Productions":MAILTO:1mikemanilla@gmail.com
END:VEVENT
BEGIN:VEVENT
DTSTART;TZID=America/Denver:20260927T120000
DTEND;TZID=America/Denver:20260927T150000
DTSTAMP:20260423T130752
CREATED:20260126T054638Z
LAST-MODIFIED:20260126T054638Z
UID:10001937-1790510400-1790521200@utahcarczar.com
SUMMARY:The Pub Cruise Lunch
DESCRIPTION:
URL:https://utahcarczar.com/event/the-pub-cruise-lunch/2026-09-27/
LOCATION:The Pub Sports Bar\, 5502 W 13400 S\, Herriman\, UT\, United States
CATEGORIES:Cruise Night
ATTACH;FMTTYPE=image/jpeg:https://utahcarczar.com/wp-content/uploads/2025/05/The-Pub-Sports-Bar-Logo.jpg
ORGANIZER;CN="Rockin Hotrod Productions":MAILTO:rhrp57@yahoo.com
END:VEVENT
BEGIN:VEVENT
DTSTART;TZID=America/Denver:20260928T170000
DTEND;TZID=America/Denver:20260928T200000
DTSTAMP:20260423T130752
CREATED:20260126T052918Z
LAST-MODIFIED:20260203T055148Z
UID:10001930-1790614800-1790625600@utahcarczar.com
SUMMARY:Jim's Restaurant Cruise Night
DESCRIPTION:
URL:https://utahcarczar.com/event/jims-restaurant-cruise-night-5/2026-09-28/
LOCATION:Jim’s Restaurant\, 12800 S Redwood Rd\, Riverton\, Utah
CATEGORIES:Cruise Night
ATTACH;FMTTYPE=image/jpeg:https://utahcarczar.com/wp-content/uploads/2024/01/Jims-Restaurant-Square-Logo.jpg
ORGANIZER;CN="Rockin Hotrod Productions":MAILTO:rhrp57@yahoo.com
END:VEVENT
BEGIN:VEVENT
DTSTART;TZID=America/Denver:20261003T090000
DTEND;TZID=America/Denver:20261003T130000
DTSTAMP:20260423T130752
CREATED:20260407T040027Z
LAST-MODIFIED:20260407T040027Z
UID:10002085-1791018000-1791032400@utahcarczar.com
SUMMARY:Car Show and Farmers Market
DESCRIPTION:Located in the Sandy Amphitheater West parking lot.
URL:https://utahcarczar.com/event/car-show-and-farmers-market/
LOCATION:Sandy City Amphitheater\, 1245 East 9400 South\, Sandy\, UT
CATEGORIES:Car Show
ATTACH;FMTTYPE=image/jpeg:https://utahcarczar.com/wp-content/uploads/2025/04/Sandy-City-Logo-300x151-1.jpg
ORGANIZER;CN="Krank-it-Up Productions":MAILTO:1mikemanilla@gmail.com
END:VEVENT
BEGIN:VEVENT
DTSTART;TZID=America/Denver:20261005T160000
DTEND;TZID=America/Denver:20261005T190000
DTSTAMP:20260423T130752
CREATED:20260105T053640Z
LAST-MODIFIED:20260308T081053Z
UID:10001905-1791216000-1791226800@utahcarczar.com
SUMMARY:Lonestar Saloon Cruise Night
DESCRIPTION:
URL:https://utahcarczar.com/event/lonestar-saloon-cruise-night/2026-10-05/
LOCATION:Lonestar Saloon\, 3153 2100 S\, West Valley City\, Utah\, 84119
CATEGORIES:Cruise Night
ATTACH;FMTTYPE=image/jpeg:https://utahcarczar.com/wp-content/uploads/2026/01/Lonestar-Saloon-Utah-Logo.jpg
ORGANIZER;CN="Rockin Hotrod Productions":MAILTO:rhrp57@yahoo.com
END:VEVENT
BEGIN:VEVENT
DTSTART;TZID=America/Denver:20261006T170000
DTEND;TZID=America/Denver:20261006T200000
DTSTAMP:20260423T130752
CREATED:20260216T063452Z
LAST-MODIFIED:20260216T063452Z
UID:10002015-1791306000-1791316800@utahcarczar.com
SUMMARY:One Man Band Cruise Night
DESCRIPTION:Monthly cruise night at One Man Band in Lehi with JC Hackett. Held on the first Tuesday of every month\, April – October. \nParking is limited\, arrive early.
URL:https://utahcarczar.com/event/one-man-band-cruise-night/2026-10-06/
LOCATION:One Man Band\, 1220 E Main St\, Lehi\, UT\, United States
CATEGORIES:Cruise,Cruise Night
ATTACH;FMTTYPE=image/png:https://utahcarczar.com/wp-content/uploads/2025/03/One-Man-Band.png
END:VEVENT
BEGIN:VEVENT
DTSTART;TZID=America/Denver:20261007T170000
DTEND;TZID=America/Denver:20261007T200000
DTSTAMP:20260423T130752
CREATED:20260203T060946Z
LAST-MODIFIED:20260203T061037Z
UID:10002006-1791392400-1791403200@utahcarczar.com
SUMMARY:Jordan Landing Cruise Night 2026
DESCRIPTION:
URL:https://utahcarczar.com/event/jordan-landing-cruise-night-2026/2026-10-07/
LOCATION:Jordan Landing\, 7273 Plaza Center Dr\, West Jordan\, UT\, United States
CATEGORIES:Cruise Night
ATTACH;FMTTYPE=image/png:https://utahcarczar.com/wp-content/uploads/2025/03/Jordan-Landing.png
END:VEVENT
BEGIN:VEVENT
DTSTART;TZID=America/Denver:20261010T090000
DTEND;TZID=America/Denver:20261010T160000
DTSTAMP:20260423T130752
CREATED:20250511T044949Z
LAST-MODIFIED:20260325T003933Z
UID:10001543-1791622800-1791648000@utahcarczar.com
SUMMARY:Kermits Spooktacular Car Show
DESCRIPTION:Live band\, Live auction\, Sponsor Pick awards\, Raffles\, Hot Wheels races. Vendors. Lots of fun.
URL:https://utahcarczar.com/event/kermits-spooktacular-car-show/
LOCATION:Richfield City Park\, 98 East 400 North\, Richfield
CATEGORIES:Car Show
ATTACH;FMTTYPE=image/png:https://utahcarczar.com/wp-content/uploads/2025/05/Kermits-Spooktacular-Car-Show.png
END:VEVENT
BEGIN:VEVENT
DTSTART;TZID=America/Denver:20261010T150000
DTEND;TZID=America/Denver:20261010T190000
DTSTAMP:20260423T130752
CREATED:20260219T023903Z
LAST-MODIFIED:20260219T023928Z
UID:10002032-1791644400-1791658800@utahcarczar.com
SUMMARY:Texas Roadhouse Cruise-In St. George
DESCRIPTION:The 1st Saturday of every month SGCS & Texas Roadhouse will be hosting a Cruise In and fundraiser to help raise money for programs that need help in Our Community. Cruise In times will be around the weather so please watch for changes thru out the year\, There will be discounts and specials on food during the cruise ins.
URL:https://utahcarczar.com/event/texas-roadhouse-cruise-in-st-george/2026-10-10/
LOCATION:Texas Roadhouse – St. George\, 2654 E Red Cliffs Dr\, St George\, Utah
CATEGORIES:Cruise Night
ATTACH;FMTTYPE=image/png:https://utahcarczar.com/wp-content/uploads/2021/08/Texas-Roadhouse-Logo.png
END:VEVENT
BEGIN:VEVENT
DTSTART;TZID=America/Denver:20261012T160000
DTEND;TZID=America/Denver:20261012T190000
DTSTAMP:20260423T130752
CREATED:20260202T053530Z
LAST-MODIFIED:20260202T053728Z
UID:10001948-1791820800-1791831600@utahcarczar.com
SUMMARY:Chubby's Cruise Night
DESCRIPTION:
URL:https://utahcarczar.com/event/chubbys-cruise-night/2026-10-12/
LOCATION:Chubby’s\, 1276 W 12600 S\, Riverton\, Utah
CATEGORIES:Cruise Night
ATTACH;FMTTYPE=image/png:https://utahcarczar.com/wp-content/uploads/2022/03/Chubbys-logo.png
ORGANIZER;CN="Rockin Hotrod Productions":MAILTO:rhrp57@yahoo.com
END:VEVENT
BEGIN:VEVENT
DTSTART;TZID=America/Denver:20261013T170000
DTEND;TZID=America/Denver:20261013T200000
DTSTAMP:20260423T130752
CREATED:20260223T013454Z
LAST-MODIFIED:20260223T013541Z
UID:10002040-1791910800-1791921600@utahcarczar.com
SUMMARY:Shake Shack Cruise Night
DESCRIPTION:Join cruisers and JC Hackett at Shake Shack in Murray\, UT on the second Tuesday each month (April – October). Great food\, oldies\, and cool cars.
URL:https://utahcarczar.com/event/shake-shack-cruise-night-2026/2026-10-13/
LOCATION:Shake Shack\, 6123 S State Street\, Murray\, Utah
CATEGORIES:Cruise Night
ATTACH;FMTTYPE=image/png:https://utahcarczar.com/wp-content/uploads/2025/03/Shake-Shack-Logo.png
END:VEVENT
BEGIN:VEVENT
DTSTART;TZID=America/Denver:20261015T170000
DTEND;TZID=America/Denver:20261015T200000
DTSTAMP:20260423T130752
CREATED:20260223T014013Z
LAST-MODIFIED:20260223T014830Z
UID:10002053-1792083600-1792094400@utahcarczar.com
SUMMARY:Daybreak Soda Row Cruise Night
DESCRIPTION:
URL:https://utahcarczar.com/event/soda-row-cruise-night/2026-10-15/
LOCATION:SoDa Row\, 11248 Kestrel Rise Road\, South Jordan\, Utah
CATEGORIES:Cruise Night
ATTACH;FMTTYPE=image/png:https://utahcarczar.com/wp-content/uploads/2025/03/Daybreak-Soda-Row-Logo.png
END:VEVENT
BEGIN:VEVENT
DTSTART;TZID=America/Denver:20261021T160000
DTEND;TZID=America/Denver:20261021T190000
DTSTAMP:20260423T130752
CREATED:20260203T054131Z
LAST-MODIFIED:20260308T080749Z
UID:10001953-1792598400-1792609200@utahcarczar.com
SUMMARY:Culver's Cruise Night
DESCRIPTION:
URL:https://utahcarczar.com/event/culvers-cruise-night-2/2026-10-21/
LOCATION:Culver’s\, 7697 S 5600 W\, West Jordan\, Utah
CATEGORIES:Cruise Night
ATTACH;FMTTYPE=image/png:https://utahcarczar.com/wp-content/uploads/2023/05/culvers-restaurants-1-logo-png-transparent.png
ORGANIZER;CN="Rockin Hotrod Productions":MAILTO:rhrp57@yahoo.com
END:VEVENT
BEGIN:VEVENT
DTSTART;TZID=America/Denver:20261025T120000
DTEND;TZID=America/Denver:20261025T150000
DTSTAMP:20260423T130752
CREATED:20260126T054638Z
LAST-MODIFIED:20260126T054638Z
UID:10001938-1792929600-1792940400@utahcarczar.com
SUMMARY:The Pub Cruise Lunch
DESCRIPTION:
URL:https://utahcarczar.com/event/the-pub-cruise-lunch/2026-10-25/
LOCATION:The Pub Sports Bar\, 5502 W 13400 S\, Herriman\, UT\, United States
CATEGORIES:Cruise Night
ATTACH;FMTTYPE=image/jpeg:https://utahcarczar.com/wp-content/uploads/2025/05/The-Pub-Sports-Bar-Logo.jpg
ORGANIZER;CN="Rockin Hotrod Productions":MAILTO:rhrp57@yahoo.com
END:VEVENT
BEGIN:VEVENT
DTSTART;TZID=America/Denver:20261028T170000
DTEND;TZID=America/Denver:20261028T200000
DTSTAMP:20260423T130752
CREATED:20260217T050938Z
LAST-MODIFIED:20260217T051100Z
UID:10002022-1793206800-1793217600@utahcarczar.com
SUMMARY:Burger Stop Cruise Night
DESCRIPTION:
URL:https://utahcarczar.com/event/burger-stop-cruise-night-2/2026-10-28/
LOCATION:Burger Stop\, 323 E Gentile\, Layton\, Utah
CATEGORIES:Cruise Night
ATTACH;FMTTYPE=image/png:https://utahcarczar.com/wp-content/uploads/2025/03/Burger-Stop-Cruise-Night-Logo.png
END:VEVENT
BEGIN:VEVENT
DTSTART;TZID=America/Denver:20261031T150000
DTEND;TZID=America/Denver:20261031T180000
DTSTAMP:20260423T130752
CREATED:20260302T050646Z
LAST-MODIFIED:20260302T050646Z
UID:10002062-1793458800-1793469600@utahcarczar.com
SUMMARY:Cannon Classic Cars “Haunted Horsepower”
DESCRIPTION:Costumes\, Candy\, and Creepy Cool Cars \nGhoul-fueled rides and trunk-or-treat fun! Join us for a spooky celebration of classics with a Halloween twist-costumes encouraged\, candy guaranteed and creepy cool cars on full display.
URL:https://utahcarczar.com/event/cannon-classic-cars-haunted-horsepower/
LOCATION:Cannon Classic Cars\, 809 West 1700 South\, Salt Lake City\, Utah
CATEGORIES:Car Show
ATTACH;FMTTYPE=image/jpeg:https://utahcarczar.com/wp-content/uploads/2025/04/cannon-classic-logo.jpg
ORGANIZER;CN="Krank-it-Up Productions":MAILTO:1mikemanilla@gmail.com
END:VEVENT
BEGIN:VEVENT
DTSTART;TZID=America/Denver:20261107T150000
DTEND;TZID=America/Denver:20261107T190000
DTSTAMP:20260423T130752
CREATED:20260219T023903Z
LAST-MODIFIED:20260219T023928Z
UID:10002033-1794063600-1794078000@utahcarczar.com
SUMMARY:Texas Roadhouse Cruise-In St. George
DESCRIPTION:The 1st Saturday of every month SGCS & Texas Roadhouse will be hosting a Cruise In and fundraiser to help raise money for programs that need help in Our Community. Cruise In times will be around the weather so please watch for changes thru out the year\, There will be discounts and specials on food during the cruise ins.
URL:https://utahcarczar.com/event/texas-roadhouse-cruise-in-st-george/2026-11-07/
LOCATION:Texas Roadhouse – St. George\, 2654 E Red Cliffs Dr\, St George\, Utah
CATEGORIES:Cruise Night
ATTACH;FMTTYPE=image/png:https://utahcarczar.com/wp-content/uploads/2021/08/Texas-Roadhouse-Logo.png
END:VEVENT
BEGIN:VEVENT
DTSTART;TZID=America/Denver:20261128T150000
DTEND;TZID=America/Denver:20261128T200000
DTSTAMP:20260423T130752
CREATED:20260302T050444Z
LAST-MODIFIED:20260302T050444Z
UID:10002060-1795878000-1795896000@utahcarczar.com
SUMMARY:Cannon Classic Cars “Harvest & Horsepower”
DESCRIPTION:Celebrating veterans\, Classics\, and the Spirit of the Season \nJoin us for a heartfelt celebration of honor and horsepower. This Thanksgiving weekend\, we’re bringing together military rides\, muscle cars\, and the community to pay tribute to our veterans and enjoy the season’s spirit with roaring engines and fall flavors.
URL:https://utahcarczar.com/event/cannon-classic-cars-harvest-horsepower/
LOCATION:Cannon Classic Cars\, 809 West 1700 South\, Salt Lake City\, Utah
CATEGORIES:Car Show
ATTACH;FMTTYPE=image/jpeg:https://utahcarczar.com/wp-content/uploads/2025/04/cannon-classic-logo.jpg
ORGANIZER;CN="Krank-it-Up Productions":MAILTO:1mikemanilla@gmail.com
END:VEVENT
BEGIN:VEVENT
DTSTART;TZID=America/Denver:20261205T150000
DTEND;TZID=America/Denver:20261205T190000
DTSTAMP:20260423T130752
CREATED:20260219T023903Z
LAST-MODIFIED:20260219T023928Z
UID:10002034-1796482800-1796497200@utahcarczar.com
SUMMARY:Texas Roadhouse Cruise-In St. George
DESCRIPTION:The 1st Saturday of every month SGCS & Texas Roadhouse will be hosting a Cruise In and fundraiser to help raise money for programs that need help in Our Community. Cruise In times will be around the weather so please watch for changes thru out the year\, There will be discounts and specials on food during the cruise ins.
URL:https://utahcarczar.com/event/texas-roadhouse-cruise-in-st-george/2026-12-05/
LOCATION:Texas Roadhouse – St. George\, 2654 E Red Cliffs Dr\, St George\, Utah
CATEGORIES:Cruise Night
ATTACH;FMTTYPE=image/png:https://utahcarczar.com/wp-content/uploads/2021/08/Texas-Roadhouse-Logo.png
END:VEVENT
BEGIN:VEVENT
DTSTART;TZID=America/Denver:20261219T150000
DTEND;TZID=America/Denver:20261219T180000
DTSTAMP:20260423T130752
CREATED:20260302T050546Z
LAST-MODIFIED:20260302T050546Z
UID:10002061-1797692400-1797703200@utahcarczar.com
SUMMARY:Cannon Classic Cars “Chrome & Cheer”
DESCRIPTION:Wrap Up the Year with Lights\, Engines\, and Holiday Spirit \nEnd the year in style with a festive fusion of chrome and Christmas cheer. From decked-out classics to holiday lights and good vibes\, this is the final cruise of the year-and one you don’t want to miss!
URL:https://utahcarczar.com/event/cannon-classic-cars-chrome-cheer/
LOCATION:Cannon Classic Cars\, 809 West 1700 South\, Salt Lake City\, Utah
CATEGORIES:Car Show
ATTACH;FMTTYPE=image/jpeg:https://utahcarczar.com/wp-content/uploads/2025/04/cannon-classic-logo.jpg
ORGANIZER;CN="Krank-it-Up Productions":MAILTO:1mikemanilla@gmail.com
END:VEVENT
END:VCALENDAR