BEGIN:VCALENDAR
VERSION:2.0
PRODID:-//Utah Car Czar - ECPv6.15.18//NONSGML v1.0//EN
CALSCALE:GREGORIAN
METHOD:PUBLISH
X-WR-CALNAME:Utah Car Czar
X-ORIGINAL-URL:https://utahcarczar.com
X-WR-CALDESC:Events for Utah Car Czar
REFRESH-INTERVAL;VALUE=DURATION:PT1H
X-Robots-Tag:noindex
X-PUBLISHED-TTL:PT1H
BEGIN:VTIMEZONE
TZID:America/Denver
BEGIN:DAYLIGHT
TZOFFSETFROM:-0700
TZOFFSETTO:-0600
TZNAME:MDT
DTSTART:20250309T090000
END:DAYLIGHT
BEGIN:STANDARD
TZOFFSETFROM:-0600
TZOFFSETTO:-0700
TZNAME:MST
DTSTART:20251102T080000
END:STANDARD
BEGIN:DAYLIGHT
TZOFFSETFROM:-0700
TZOFFSETTO:-0600
TZNAME:MDT
DTSTART:20260308T090000
END:DAYLIGHT
BEGIN:STANDARD
TZOFFSETFROM:-0600
TZOFFSETTO:-0700
TZNAME:MST
DTSTART:20261101T080000
END:STANDARD
BEGIN:DAYLIGHT
TZOFFSETFROM:-0700
TZOFFSETTO:-0600
TZNAME:MDT
DTSTART:20270314T090000
END:DAYLIGHT
BEGIN:STANDARD
TZOFFSETFROM:-0600
TZOFFSETTO:-0700
TZNAME:MST
DTSTART:20271107T080000
END:STANDARD
END:VTIMEZONE
BEGIN:VEVENT
DTSTART;TZID=America/Denver:20260429T170000
DTEND;TZID=America/Denver:20260429T200000
DTSTAMP:20260423T062253
CREATED:20260401T055303Z
LAST-MODIFIED:20260401T055406Z
UID:10001966-1777482000-1777492800@utahcarczar.com
SUMMARY:Culver's Cruise Night
DESCRIPTION:
URL:https://utahcarczar.com/event/culvers-cruise-night-april-2026/
LOCATION:Culver’s\, 7697 S 5600 W\, West Jordan\, Utah
CATEGORIES:Cruise Night
ATTACH;FMTTYPE=image/png:https://utahcarczar.com/wp-content/uploads/2023/05/culvers-restaurants-1-logo-png-transparent.png
ORGANIZER;CN="Rockin Hotrod Productions":MAILTO:rhrp57@yahoo.com
END:VEVENT
BEGIN:VEVENT
DTSTART;TZID=America/Denver:20260520T170000
DTEND;TZID=America/Denver:20260520T200000
DTSTAMP:20260423T062253
CREATED:20260203T054131Z
LAST-MODIFIED:20260308T080749Z
UID:10001967-1779296400-1779307200@utahcarczar.com
SUMMARY:Culver's Cruise Night
DESCRIPTION:
URL:https://utahcarczar.com/event/culvers-cruise-night-2/2026-05-20/
LOCATION:Culver’s\, 7697 S 5600 W\, West Jordan\, Utah
CATEGORIES:Cruise Night
ATTACH;FMTTYPE=image/png:https://utahcarczar.com/wp-content/uploads/2023/05/culvers-restaurants-1-logo-png-transparent.png
ORGANIZER;CN="Rockin Hotrod Productions":MAILTO:rhrp57@yahoo.com
END:VEVENT
BEGIN:VEVENT
DTSTART;TZID=America/Denver:20260617T170000
DTEND;TZID=America/Denver:20260617T200000
DTSTAMP:20260423T062253
CREATED:20260203T054131Z
LAST-MODIFIED:20260308T080749Z
UID:10001968-1781715600-1781726400@utahcarczar.com
SUMMARY:Culver's Cruise Night
DESCRIPTION:
URL:https://utahcarczar.com/event/culvers-cruise-night-2/2026-06-17/
LOCATION:Culver’s\, 7697 S 5600 W\, West Jordan\, Utah
CATEGORIES:Cruise Night
ATTACH;FMTTYPE=image/png:https://utahcarczar.com/wp-content/uploads/2023/05/culvers-restaurants-1-logo-png-transparent.png
ORGANIZER;CN="Rockin Hotrod Productions":MAILTO:rhrp57@yahoo.com
END:VEVENT
BEGIN:VEVENT
DTSTART;TZID=America/Denver:20260715T170000
DTEND;TZID=America/Denver:20260715T200000
DTSTAMP:20260423T062253
CREATED:20260203T054131Z
LAST-MODIFIED:20260308T080749Z
UID:10001969-1784134800-1784145600@utahcarczar.com
SUMMARY:Culver's Cruise Night
DESCRIPTION:
URL:https://utahcarczar.com/event/culvers-cruise-night-2/2026-07-15/
LOCATION:Culver’s\, 7697 S 5600 W\, West Jordan\, Utah
CATEGORIES:Cruise Night
ATTACH;FMTTYPE=image/png:https://utahcarczar.com/wp-content/uploads/2023/05/culvers-restaurants-1-logo-png-transparent.png
ORGANIZER;CN="Rockin Hotrod Productions":MAILTO:rhrp57@yahoo.com
END:VEVENT
BEGIN:VEVENT
DTSTART;TZID=America/Denver:20260819T170000
DTEND;TZID=America/Denver:20260819T200000
DTSTAMP:20260423T062253
CREATED:20260203T054131Z
LAST-MODIFIED:20260308T080749Z
UID:10001970-1787158800-1787169600@utahcarczar.com
SUMMARY:Culver's Cruise Night
DESCRIPTION:
URL:https://utahcarczar.com/event/culvers-cruise-night-2/2026-08-19/
LOCATION:Culver’s\, 7697 S 5600 W\, West Jordan\, Utah
CATEGORIES:Cruise Night
ATTACH;FMTTYPE=image/png:https://utahcarczar.com/wp-content/uploads/2023/05/culvers-restaurants-1-logo-png-transparent.png
ORGANIZER;CN="Rockin Hotrod Productions":MAILTO:rhrp57@yahoo.com
END:VEVENT
BEGIN:VEVENT
DTSTART;TZID=America/Denver:20260916T170000
DTEND;TZID=America/Denver:20260916T200000
DTSTAMP:20260423T062253
CREATED:20260203T054131Z
LAST-MODIFIED:20260308T080749Z
UID:10001971-1789578000-1789588800@utahcarczar.com
SUMMARY:Culver's Cruise Night
DESCRIPTION:
URL:https://utahcarczar.com/event/culvers-cruise-night-2/2026-09-16/
LOCATION:Culver’s\, 7697 S 5600 W\, West Jordan\, Utah
CATEGORIES:Cruise Night
ATTACH;FMTTYPE=image/png:https://utahcarczar.com/wp-content/uploads/2023/05/culvers-restaurants-1-logo-png-transparent.png
ORGANIZER;CN="Rockin Hotrod Productions":MAILTO:rhrp57@yahoo.com
END:VEVENT
BEGIN:VEVENT
DTSTART;TZID=America/Denver:20261021T160000
DTEND;TZID=America/Denver:20261021T190000
DTSTAMP:20260423T062253
CREATED:20260203T054131Z
LAST-MODIFIED:20260308T080749Z
UID:10001953-1792598400-1792609200@utahcarczar.com
SUMMARY:Culver's Cruise Night
DESCRIPTION:
URL:https://utahcarczar.com/event/culvers-cruise-night-2/2026-10-21/
LOCATION:Culver’s\, 7697 S 5600 W\, West Jordan\, Utah
CATEGORIES:Cruise Night
ATTACH;FMTTYPE=image/png:https://utahcarczar.com/wp-content/uploads/2023/05/culvers-restaurants-1-logo-png-transparent.png
ORGANIZER;CN="Rockin Hotrod Productions":MAILTO:rhrp57@yahoo.com
END:VEVENT
END:VCALENDAR