BEGIN:VCALENDAR
VERSION:2.0
PRODID:-//Utah Car Czar - ECPv6.15.18//NONSGML v1.0//EN
CALSCALE:GREGORIAN
METHOD:PUBLISH
X-WR-CALNAME:Utah Car Czar
X-ORIGINAL-URL:https://utahcarczar.com
X-WR-CALDESC:Events for Utah Car Czar
REFRESH-INTERVAL;VALUE=DURATION:PT1H
X-Robots-Tag:noindex
X-PUBLISHED-TTL:PT1H
BEGIN:VTIMEZONE
TZID:America/Denver
BEGIN:DAYLIGHT
TZOFFSETFROM:-0700
TZOFFSETTO:-0600
TZNAME:MDT
DTSTART:20240310T090000
END:DAYLIGHT
BEGIN:STANDARD
TZOFFSETFROM:-0600
TZOFFSETTO:-0700
TZNAME:MST
DTSTART:20241103T080000
END:STANDARD
BEGIN:DAYLIGHT
TZOFFSETFROM:-0700
TZOFFSETTO:-0600
TZNAME:MDT
DTSTART:20250309T090000
END:DAYLIGHT
BEGIN:STANDARD
TZOFFSETFROM:-0600
TZOFFSETTO:-0700
TZNAME:MST
DTSTART:20251102T080000
END:STANDARD
BEGIN:DAYLIGHT
TZOFFSETFROM:-0700
TZOFFSETTO:-0600
TZNAME:MDT
DTSTART:20260308T090000
END:DAYLIGHT
BEGIN:STANDARD
TZOFFSETFROM:-0600
TZOFFSETTO:-0700
TZNAME:MST
DTSTART:20261101T080000
END:STANDARD
END:VTIMEZONE
BEGIN:VEVENT
DTSTART;TZID=America/Denver:20250416T000000
DTEND;TZID=America/Denver:20250416T000000
DTSTAMP:20260423T062848
CREATED:20250416T125656Z
LAST-MODIFIED:20250416T133239Z
UID:10000338-1744761600-1744761600@utahcarczar.com
SUMMARY:Cars and Curry Lehi Meet October 23
DESCRIPTION:
URL:https://utahcarczar.com/event/cars-and-curry-lehi-meet-october-23-2/
CATEGORIES:Cars & Curry
END:VEVENT
BEGIN:VEVENT
DTSTART;TZID=America/Denver:20250416T000000
DTEND;TZID=America/Denver:20250416T000000
DTSTAMP:20260423T062848
CREATED:20250416T125656Z
LAST-MODIFIED:20250416T133230Z
UID:10000337-1744761600-1744761600@utahcarczar.com
SUMMARY:Cars and Curry Lehi Meet October 30
DESCRIPTION:
URL:https://utahcarczar.com/event/cars-and-curry-lehi-meet-october-23/
CATEGORIES:Cars & Curry
END:VEVENT
BEGIN:VEVENT
DTSTART;TZID=America/Denver:20250416T000000
DTEND;TZID=America/Denver:20250416T000000
DTSTAMP:20260423T062848
CREATED:20250416T125639Z
LAST-MODIFIED:20250416T134643Z
UID:10000426-1744761600-1744761600@utahcarczar.com
SUMMARY:HIGHWAY FEST
DESCRIPTION:
URL:https://utahcarczar.com/event/highway-fest/
CATEGORIES:Cars & Curry
END:VEVENT
BEGIN:VEVENT
DTSTART;TZID=America/Denver:20250416T000000
DTEND;TZID=America/Denver:20250416T000000
DTSTAMP:20260423T062848
CREATED:20250416T125615Z
LAST-MODIFIED:20250416T143031Z
UID:10000543-1744761600-1744761600@utahcarczar.com
SUMMARY:Alpine Bible Church Car Show
DESCRIPTION:
URL:https://utahcarczar.com/event/alpine-bible-church-car-show/
END:VEVENT
BEGIN:VEVENT
DTSTART;TZID=America/Denver:20250416T000000
DTEND;TZID=America/Denver:20250416T000000
DTSTAMP:20260423T062848
CREATED:20250416T125445Z
LAST-MODIFIED:20250416T155924Z
UID:10000974-1744761600-1744761600@utahcarczar.com
SUMMARY:Car Meet at Houston’s Hot Chicken 2023
DESCRIPTION:
URL:https://utahcarczar.com/event/car-meet-at-houstons-hot-chicken-2023/
END:VEVENT
END:VCALENDAR