BEGIN:VCALENDAR
VERSION:2.0
PRODID:-//Utah Car Czar - ECPv6.15.18//NONSGML v1.0//EN
CALSCALE:GREGORIAN
METHOD:PUBLISH
X-WR-CALNAME:Utah Car Czar
X-ORIGINAL-URL:https://utahcarczar.com
X-WR-CALDESC:Events for Utah Car Czar
REFRESH-INTERVAL;VALUE=DURATION:PT1H
X-Robots-Tag:noindex
X-PUBLISHED-TTL:PT1H
BEGIN:VTIMEZONE
TZID:America/Denver
BEGIN:DAYLIGHT
TZOFFSETFROM:-0700
TZOFFSETTO:-0600
TZNAME:MDT
DTSTART:20240310T090000
END:DAYLIGHT
BEGIN:STANDARD
TZOFFSETFROM:-0600
TZOFFSETTO:-0700
TZNAME:MST
DTSTART:20241103T080000
END:STANDARD
BEGIN:DAYLIGHT
TZOFFSETFROM:-0700
TZOFFSETTO:-0600
TZNAME:MDT
DTSTART:20250309T090000
END:DAYLIGHT
BEGIN:STANDARD
TZOFFSETFROM:-0600
TZOFFSETTO:-0700
TZNAME:MST
DTSTART:20251102T080000
END:STANDARD
BEGIN:DAYLIGHT
TZOFFSETFROM:-0700
TZOFFSETTO:-0600
TZNAME:MDT
DTSTART:20260308T090000
END:DAYLIGHT
BEGIN:STANDARD
TZOFFSETFROM:-0600
TZOFFSETTO:-0700
TZNAME:MST
DTSTART:20261101T080000
END:STANDARD
END:VTIMEZONE
BEGIN:VEVENT
DTSTART;TZID=America/Denver:20250416T000000
DTEND;TZID=America/Denver:20250416T000000
DTSTAMP:20260424T041932
CREATED:20250416T125657Z
LAST-MODIFIED:20250416T133008Z
UID:10000332-1744761600-1744761600@utahcarczar.com
SUMMARY:Utah International Auto Expo 2025 Day 4
DESCRIPTION:
URL:https://utahcarczar.com/event/utah-international-auto-expo-2025-day-4__trashed/
CATEGORIES:International Auto Expo
END:VEVENT
BEGIN:VEVENT
DTSTART;TZID=America/Denver:20250416T000000
DTEND;TZID=America/Denver:20250416T000000
DTSTAMP:20260424T041932
CREATED:20250416T125555Z
LAST-MODIFIED:20250416T144814Z
UID:10000632-1744761600-1744761600@utahcarczar.com
SUMMARY:Utah International Auto Expo 2024 Day 4
DESCRIPTION:
URL:https://utahcarczar.com/event/utah-international-auto-expo-2024-day-4/
CATEGORIES:International Auto Expo
END:VEVENT
BEGIN:VEVENT
DTSTART;TZID=America/Denver:20250416T000000
DTEND;TZID=America/Denver:20250416T000000
DTSTAMP:20260424T041932
CREATED:20250416T125438Z
LAST-MODIFIED:20250416T160501Z
UID:10001011-1744761600-1744761600@utahcarczar.com
SUMMARY:Utah International Auto Expo 2023 Day 4
DESCRIPTION:
URL:https://utahcarczar.com/event/utah-international-auto-expo-2023-day-4/
CATEGORIES:International Auto Expo
END:VEVENT
BEGIN:VEVENT
DTSTART;TZID=America/Denver:20250416T000000
DTEND;TZID=America/Denver:20250416T000000
DTSTAMP:20260424T041932
CREATED:20250416T125354Z
LAST-MODIFIED:20250416T163645Z
UID:10001217-1744761600-1744761600@utahcarczar.com
SUMMARY:Utah International Auto Expo 2022
DESCRIPTION:
URL:https://utahcarczar.com/event/utah-international-auto-expo-2022-4/
CATEGORIES:International Auto Expo
END:VEVENT
END:VCALENDAR