BEGIN:VCALENDAR
VERSION:2.0
PRODID:-//Utah Car Czar - ECPv6.15.18//NONSGML v1.0//EN
CALSCALE:GREGORIAN
METHOD:PUBLISH
X-WR-CALNAME:Utah Car Czar
X-ORIGINAL-URL:https://utahcarczar.com
X-WR-CALDESC:Events for Utah Car Czar
REFRESH-INTERVAL;VALUE=DURATION:PT1H
X-Robots-Tag:noindex
X-PUBLISHED-TTL:PT1H
BEGIN:VTIMEZONE
TZID:America/Denver
BEGIN:DAYLIGHT
TZOFFSETFROM:-0700
TZOFFSETTO:-0600
TZNAME:MDT
DTSTART:20240310T090000
END:DAYLIGHT
BEGIN:STANDARD
TZOFFSETFROM:-0600
TZOFFSETTO:-0700
TZNAME:MST
DTSTART:20241103T080000
END:STANDARD
BEGIN:DAYLIGHT
TZOFFSETFROM:-0700
TZOFFSETTO:-0600
TZNAME:MDT
DTSTART:20250309T090000
END:DAYLIGHT
BEGIN:STANDARD
TZOFFSETFROM:-0600
TZOFFSETTO:-0700
TZNAME:MST
DTSTART:20251102T080000
END:STANDARD
BEGIN:DAYLIGHT
TZOFFSETFROM:-0700
TZOFFSETTO:-0600
TZNAME:MDT
DTSTART:20260308T090000
END:DAYLIGHT
BEGIN:STANDARD
TZOFFSETFROM:-0600
TZOFFSETTO:-0700
TZNAME:MST
DTSTART:20261101T080000
END:STANDARD
END:VTIMEZONE
BEGIN:VEVENT
DTSTART;TZID=America/Denver:20250416T000000
DTEND;TZID=America/Denver:20250416T000000
DTSTAMP:20260423T062957
CREATED:20250416T125654Z
LAST-MODIFIED:20250416T133242Z
UID:10000339-1744761600-1744761600@utahcarczar.com
SUMMARY:Think Pink Car Show
DESCRIPTION:
URL:https://utahcarczar.com/event/think-pink-car-show/
END:VEVENT
BEGIN:VEVENT
DTSTART;TZID=America/Denver:20250416T000000
DTEND;TZID=America/Denver:20250416T000000
DTSTAMP:20260423T062957
CREATED:20250416T125646Z
LAST-MODIFIED:20250416T134014Z
UID:10000378-1744761600-1744761600@utahcarczar.com
SUMMARY:Honor Flight Fundraiser Car Show Riverton
DESCRIPTION:
URL:https://utahcarczar.com/event/honor-flight-fundraiser-car-show-riverton/
END:VEVENT
BEGIN:VEVENT
DTSTART;TZID=America/Denver:20250416T000000
DTEND;TZID=America/Denver:20250416T000000
DTSTAMP:20260423T062957
CREATED:20250416T125646Z
LAST-MODIFIED:20250416T134016Z
UID:10000379-1744761600-1744761600@utahcarczar.com
SUMMARY:Homestead Model Home Show
DESCRIPTION:
URL:https://utahcarczar.com/event/homestead-model-home-show/
END:VEVENT
BEGIN:VEVENT
DTSTART;TZID=America/Denver:20250416T000000
DTEND;TZID=America/Denver:20250416T000000
DTSTAMP:20260423T062957
CREATED:20250416T125645Z
LAST-MODIFIED:20250416T134104Z
UID:10000391-1744761600-1744761600@utahcarczar.com
SUMMARY:Eureka Car Show
DESCRIPTION:
URL:https://utahcarczar.com/event/eureka-car-show/
END:VEVENT
BEGIN:VEVENT
DTSTART;TZID=America/Denver:20250416T000000
DTEND;TZID=America/Denver:20250416T000000
DTSTAMP:20260423T062957
CREATED:20250416T125636Z
LAST-MODIFIED:20250416T141508Z
UID:10000438-1744761600-1744761600@utahcarczar.com
SUMMARY:Honor Flight Fundraiser Car Show
DESCRIPTION:
URL:https://utahcarczar.com/event/honor-flight-fundraiser-car-show/
END:VEVENT
BEGIN:VEVENT
DTSTART;TZID=America/Denver:20250416T000000
DTEND;TZID=America/Denver:20250416T000000
DTSTAMP:20260423T062957
CREATED:20250416T125635Z
LAST-MODIFIED:20250416T141547Z
UID:10000451-1744761600-1744761600@utahcarczar.com
SUMMARY:Tintic Silver Jubilee Car Show
DESCRIPTION:
URL:https://utahcarczar.com/event/tintic-silver-jubilee-car-show/
END:VEVENT
BEGIN:VEVENT
DTSTART;TZID=America/Denver:20250416T000000
DTEND;TZID=America/Denver:20250416T000000
DTSTAMP:20260423T062957
CREATED:20250416T125632Z
LAST-MODIFIED:20250416T141715Z
UID:10000460-1744761600-1744761600@utahcarczar.com
SUMMARY:Tradition Assisted Living Car Show
DESCRIPTION:
URL:https://utahcarczar.com/event/tradition-assisted-living-car-show/
END:VEVENT
BEGIN:VEVENT
DTSTART;TZID=America/Denver:20250416T000000
DTEND;TZID=America/Denver:20250416T000000
DTSTAMP:20260423T062957
CREATED:20250416T125627Z
LAST-MODIFIED:20250416T142212Z
UID:10000488-1744761600-1744761600@utahcarczar.com
SUMMARY:Truewood Senior Center Cruise Night Cottonwood Heights
DESCRIPTION:
URL:https://utahcarczar.com/event/truewood-senior-center-cruise-night-cottonwood-heights/
END:VEVENT
BEGIN:VEVENT
DTSTART;TZID=America/Denver:20250416T000000
DTEND;TZID=America/Denver:20250416T000000
DTSTAMP:20260423T062957
CREATED:20250416T125627Z
LAST-MODIFIED:20250416T142209Z
UID:10000487-1744761600-1744761600@utahcarczar.com
SUMMARY:Sunridge Assisted Living Cruise Night
DESCRIPTION:
URL:https://utahcarczar.com/event/sunridge-assisted-living-cruise-night/
END:VEVENT
BEGIN:VEVENT
DTSTART;TZID=America/Denver:20250416T000000
DTEND;TZID=America/Denver:20250416T000000
DTSTAMP:20260423T062957
CREATED:20250416T125623Z
LAST-MODIFIED:20250416T142605Z
UID:10000500-1744761600-1744761600@utahcarczar.com
SUMMARY:Oliver's Place Cruise Night July 2024
DESCRIPTION:
URL:https://utahcarczar.com/event/olivers-place-cruise-night-july-2024/
END:VEVENT
BEGIN:VEVENT
DTSTART;TZID=America/Denver:20250416T000000
DTEND;TZID=America/Denver:20250416T000000
DTSTAMP:20260423T062957
CREATED:20250416T125623Z
LAST-MODIFIED:20250416T142606Z
UID:10000501-1744761600-1744761600@utahcarczar.com
SUMMARY:Oliver's Place Cruise Night August 2024
DESCRIPTION:
URL:https://utahcarczar.com/event/olivers-place-cruise-night-august-2024/
END:VEVENT
BEGIN:VEVENT
DTSTART;TZID=America/Denver:20250416T000000
DTEND;TZID=America/Denver:20250416T000000
DTSTAMP:20260423T062957
CREATED:20250416T125622Z
LAST-MODIFIED:20250416T142629Z
UID:10000509-1744761600-1744761600@utahcarczar.com
SUMMARY:Salt Lake Fraternal Order of Eagles Charity Car Show
DESCRIPTION:
URL:https://utahcarczar.com/event/salt-lake-fraternal-order-of-eagles-charity-car-show/
END:VEVENT
BEGIN:VEVENT
DTSTART;TZID=America/Denver:20250416T000000
DTEND;TZID=America/Denver:20250416T000000
DTSTAMP:20260423T062957
CREATED:20250416T125616Z
LAST-MODIFIED:20250416T142916Z
UID:10000535-1744761600-1744761600@utahcarczar.com
SUMMARY:Oliver's Place Cruise Night June 2024
DESCRIPTION:
URL:https://utahcarczar.com/event/olivers-place-cruise-night-june-2024/
END:VEVENT
BEGIN:VEVENT
DTSTART;TZID=America/Denver:20250416T000000
DTEND;TZID=America/Denver:20250416T000000
DTSTAMP:20260423T062957
CREATED:20250416T125616Z
LAST-MODIFIED:20250416T142913Z
UID:10000534-1744761600-1744761600@utahcarczar.com
SUMMARY:Oliver's Place Cruise Night May 2024
DESCRIPTION:
URL:https://utahcarczar.com/event/olivers-place-cruise-night-may-2024/
END:VEVENT
BEGIN:VEVENT
DTSTART;TZID=America/Denver:20250416T000000
DTEND;TZID=America/Denver:20250416T000000
DTSTAMP:20260423T062957
CREATED:20250416T125611Z
LAST-MODIFIED:20250416T143610Z
UID:10000563-1744761600-1744761600@utahcarczar.com
SUMMARY:Red Barn Academy Annual Fall Harvest Car Show
DESCRIPTION:
URL:https://utahcarczar.com/event/red-barn-academy-annual-fall-harvest-car-show/
END:VEVENT
BEGIN:VEVENT
DTSTART;TZID=America/Denver:20250416T000000
DTEND;TZID=America/Denver:20250416T000000
DTSTAMP:20260423T062957
CREATED:20250416T125607Z
LAST-MODIFIED:20250416T143839Z
UID:10000580-1744761600-1744761600@utahcarczar.com
SUMMARY:'Bout Time Cruise Night May 2024
DESCRIPTION:
URL:https://utahcarczar.com/event/bout-time-cruise-night-may-2024/
END:VEVENT
BEGIN:VEVENT
DTSTART;TZID=America/Denver:20250416T000000
DTEND;TZID=America/Denver:20250416T000000
DTSTAMP:20260423T062957
CREATED:20250416T125607Z
LAST-MODIFIED:20250416T143839Z
UID:10000579-1744761600-1744761600@utahcarczar.com
SUMMARY:'Bout Time Cruise Night June 2024
DESCRIPTION:
URL:https://utahcarczar.com/event/bout-time-cruise-night-june-2024/
END:VEVENT
BEGIN:VEVENT
DTSTART;TZID=America/Denver:20250416T000000
DTEND;TZID=America/Denver:20250416T000000
DTSTAMP:20260423T062957
CREATED:20250416T125607Z
LAST-MODIFIED:20250416T143833Z
UID:10000578-1744761600-1744761600@utahcarczar.com
SUMMARY:'Bout Time Cruise Night April 2024
DESCRIPTION:
URL:https://utahcarczar.com/event/bout-time-cruise-night-april-2024/
END:VEVENT
BEGIN:VEVENT
DTSTART;TZID=America/Denver:20250416T000000
DTEND;TZID=America/Denver:20250416T000000
DTSTAMP:20260423T062957
CREATED:20250416T125604Z
LAST-MODIFIED:20250416T143904Z
UID:10000589-1744761600-1744761600@utahcarczar.com
SUMMARY:'Bout Time Cruise Night March 2024
DESCRIPTION:
URL:https://utahcarczar.com/event/bout-time-cruise-night-march-2024/
END:VEVENT
BEGIN:VEVENT
DTSTART;TZID=America/Denver:20250416T000000
DTEND;TZID=America/Denver:20250416T000000
DTSTAMP:20260423T062957
CREATED:20250416T125604Z
LAST-MODIFIED:20250416T143912Z
UID:10000592-1744761600-1744761600@utahcarczar.com
SUMMARY:'Bout Time Cruise Night July 2024
DESCRIPTION:
URL:https://utahcarczar.com/event/bout-time-cruise-night-july-2024/
END:VEVENT
BEGIN:VEVENT
DTSTART;TZID=America/Denver:20250416T000000
DTEND;TZID=America/Denver:20250416T000000
DTSTAMP:20260423T062957
CREATED:20250416T125604Z
LAST-MODIFIED:20250416T143859Z
UID:10000588-1744761600-1744761600@utahcarczar.com
SUMMARY:'Bout Time Cruise Night Oct 2024
DESCRIPTION:
URL:https://utahcarczar.com/event/bout-time-cruise-night-oct-2024/
END:VEVENT
BEGIN:VEVENT
DTSTART;TZID=America/Denver:20250416T000000
DTEND;TZID=America/Denver:20250416T000000
DTSTAMP:20260423T062957
CREATED:20250416T125604Z
LAST-MODIFIED:20250416T143907Z
UID:10000590-1744761600-1744761600@utahcarczar.com
SUMMARY:'Bout Time Cruise Night Sept 2024
DESCRIPTION:
URL:https://utahcarczar.com/event/bout-time-cruise-night-sept-2024/
END:VEVENT
BEGIN:VEVENT
DTSTART;TZID=America/Denver:20250416T000000
DTEND;TZID=America/Denver:20250416T000000
DTSTAMP:20260423T062957
CREATED:20250416T125604Z
LAST-MODIFIED:20250416T143910Z
UID:10000591-1744761600-1744761600@utahcarczar.com
SUMMARY:'Bout Time Cruise Night Aug 2024
DESCRIPTION:
URL:https://utahcarczar.com/event/bout-time-cruise-night-aug-2024/
END:VEVENT
BEGIN:VEVENT
DTSTART;TZID=America/Denver:20250416T000000
DTEND;TZID=America/Denver:20250416T000000
DTSTAMP:20260423T062957
CREATED:20250416T125603Z
LAST-MODIFIED:20250416T143916Z
UID:10000594-1744761600-1744761600@utahcarczar.com
SUMMARY:Ruby River Cruise Lunch May 2024
DESCRIPTION: 
URL:https://utahcarczar.com/event/ruby-river-cruise-lunch-may-2024/
END:VEVENT
BEGIN:VEVENT
DTSTART;TZID=America/Denver:20250416T000000
DTEND;TZID=America/Denver:20250416T000000
DTSTAMP:20260423T062957
CREATED:20250416T125603Z
LAST-MODIFIED:20250416T143914Z
UID:10000593-1744761600-1744761600@utahcarczar.com
SUMMARY:Ruby River Cruise Lunch June 2024
DESCRIPTION:
URL:https://utahcarczar.com/event/ruby-river-cruise-lunch-june-2024/
END:VEVENT
BEGIN:VEVENT
DTSTART;TZID=America/Denver:20250416T000000
DTEND;TZID=America/Denver:20250416T000000
DTSTAMP:20260423T062957
CREATED:20250416T125603Z
LAST-MODIFIED:20250416T143918Z
UID:10000595-1744761600-1744761600@utahcarczar.com
SUMMARY:Ruby River Cruise Lunch April 2024
DESCRIPTION:
URL:https://utahcarczar.com/event/ruby-river-cruise-lunch-april-2024/
END:VEVENT
BEGIN:VEVENT
DTSTART;TZID=America/Denver:20250416T000000
DTEND;TZID=America/Denver:20250416T000000
DTSTAMP:20260423T062957
CREATED:20250416T125603Z
LAST-MODIFIED:20250416T143918Z
UID:10000596-1744761600-1744761600@utahcarczar.com
SUMMARY:Ruby River Cruise Lunch March 2024
DESCRIPTION:
URL:https://utahcarczar.com/event/ruby-river-cruise-lunch-march-2024/
END:VEVENT
BEGIN:VEVENT
DTSTART;TZID=America/Denver:20250416T000000
DTEND;TZID=America/Denver:20250416T000000
DTSTAMP:20260423T062957
CREATED:20250416T125602Z
LAST-MODIFIED:20250416T144206Z
UID:10000601-1744761600-1744761600@utahcarczar.com
SUMMARY:Ruby River Cruise Lunch Aug 2024
DESCRIPTION:
URL:https://utahcarczar.com/event/ruby-river-cruise-lunch-aug-2024/
END:VEVENT
BEGIN:VEVENT
DTSTART;TZID=America/Denver:20250416T000000
DTEND;TZID=America/Denver:20250416T000000
DTSTAMP:20260423T062957
CREATED:20250416T125602Z
LAST-MODIFIED:20250416T144213Z
UID:10000602-1744761600-1744761600@utahcarczar.com
SUMMARY:Ruby River Cruise Lunch July 2024
DESCRIPTION:
URL:https://utahcarczar.com/event/ruby-river-cruise-lunch-july-2024/
END:VEVENT
BEGIN:VEVENT
DTSTART;TZID=America/Denver:20250416T000000
DTEND;TZID=America/Denver:20250416T000000
DTSTAMP:20260423T062957
CREATED:20250416T125600Z
LAST-MODIFIED:20250416T144225Z
UID:10000608-1744761600-1744761600@utahcarczar.com
SUMMARY:Ruby River Cruise Lunch Oct 2024
DESCRIPTION:
URL:https://utahcarczar.com/event/ruby-river-cruise-lunch-oct-2024/
END:VEVENT
END:VCALENDAR