BEGIN:VCALENDAR
VERSION:2.0
PRODID:-//Utah Car Czar - ECPv6.15.18//NONSGML v1.0//EN
CALSCALE:GREGORIAN
METHOD:PUBLISH
X-ORIGINAL-URL:https://utahcarczar.com
X-WR-CALDESC:Events for Utah Car Czar
REFRESH-INTERVAL;VALUE=DURATION:PT1H
X-Robots-Tag:noindex
X-PUBLISHED-TTL:PT1H
BEGIN:VTIMEZONE
TZID:America/Denver
BEGIN:DAYLIGHT
TZOFFSETFROM:-0700
TZOFFSETTO:-0600
TZNAME:MDT
DTSTART:20240310T090000
END:DAYLIGHT
BEGIN:STANDARD
TZOFFSETFROM:-0600
TZOFFSETTO:-0700
TZNAME:MST
DTSTART:20241103T080000
END:STANDARD
BEGIN:DAYLIGHT
TZOFFSETFROM:-0700
TZOFFSETTO:-0600
TZNAME:MDT
DTSTART:20250309T090000
END:DAYLIGHT
BEGIN:STANDARD
TZOFFSETFROM:-0600
TZOFFSETTO:-0700
TZNAME:MST
DTSTART:20251102T080000
END:STANDARD
BEGIN:DAYLIGHT
TZOFFSETFROM:-0700
TZOFFSETTO:-0600
TZNAME:MDT
DTSTART:20260308T090000
END:DAYLIGHT
BEGIN:STANDARD
TZOFFSETFROM:-0600
TZOFFSETTO:-0700
TZNAME:MST
DTSTART:20261101T080000
END:STANDARD
BEGIN:DAYLIGHT
TZOFFSETFROM:-0700
TZOFFSETTO:-0600
TZNAME:MDT
DTSTART:20270314T090000
END:DAYLIGHT
BEGIN:STANDARD
TZOFFSETFROM:-0600
TZOFFSETTO:-0700
TZNAME:MST
DTSTART:20271107T080000
END:STANDARD
END:VTIMEZONE
BEGIN:VEVENT
DTSTART;TZID=America/Denver:20260328T150000
DTEND;TZID=America/Denver:20260328T180000
DTSTAMP:20260421T130818
CREATED:20251104T051228Z
LAST-MODIFIED:20260302T050334Z
UID:10001815-1774710000-1774720800@utahcarczar.com
SUMMARY:Cannon Classic Cars “Shamrocks and Chrome”
DESCRIPTION:
URL:https://utahcarczar.com/event/cannon-classic-cars-shamrocks-and-chrome/
LOCATION:Cannon Classic Cars\, 809 West 1700 South\, Salt Lake City\, Utah
CATEGORIES:Car Show
ATTACH;FMTTYPE=image/jpeg:https://utahcarczar.com/wp-content/uploads/2025/04/cannon-classic-logo.jpg
ORGANIZER;CN="Krank-it-Up Productions":MAILTO:1mikemanilla@gmail.com
END:VEVENT
BEGIN:VEVENT
DTSTART;TZID=America/Denver:20260228T150000
DTEND;TZID=America/Denver:20260228T180000
DTSTAMP:20260421T130818
CREATED:20251104T051150Z
LAST-MODIFIED:20251104T224446Z
UID:10001814-1772290800-1772301600@utahcarczar.com
SUMMARY:Cannon Classic Cars “Sweetheart Rides”
DESCRIPTION:
URL:https://utahcarczar.com/event/cannon-classic-cars-sweetheart-rides/
LOCATION:Cannon Classic Cars\, 809 West 1700 South\, Salt Lake City\, Utah
CATEGORIES:Car Show
ATTACH;FMTTYPE=image/jpeg:https://utahcarczar.com/wp-content/uploads/2025/04/cannon-classic-logo.jpg
ORGANIZER;CN="Krank-it-Up Productions":MAILTO:1mikemanilla@gmail.com
END:VEVENT
BEGIN:VEVENT
DTSTART;TZID=America/Denver:20260131T150000
DTEND;TZID=America/Denver:20260131T180000
DTSTAMP:20260421T130818
CREATED:20251104T050037Z
LAST-MODIFIED:20251104T050037Z
UID:10001813-1769871600-1769882400@utahcarczar.com
SUMMARY:Cannon Classic Cars “New Year New Classics”
DESCRIPTION:
URL:https://utahcarczar.com/event/cannon-classic-cars-new-year-new-classics/
LOCATION:Cannon Classic Cars\, 809 West 1700 South\, Salt Lake City\, Utah
CATEGORIES:Car Show
ATTACH;FMTTYPE=image/jpeg:https://utahcarczar.com/wp-content/uploads/2025/04/cannon-classic-logo.jpg
ORGANIZER;CN="Krank-it-Up Productions":MAILTO:1mikemanilla@gmail.com
END:VEVENT
BEGIN:VEVENT
DTSTART;TZID=America/Denver:20251227T150000
DTEND;TZID=America/Denver:20251227T190000
DTSTAMP:20260421T130818
CREATED:20250826T221741Z
LAST-MODIFIED:20250826T221741Z
UID:10001752-1766847600-1766862000@utahcarczar.com
SUMMARY:Cannon Classic Cars “Frost & Fire Car Fest”
DESCRIPTION:Embrace the chill of winter and warmth of Classic car culture at Frost & Fire Fest! \nThis spectacular event blends the icy magic of the season with fiery passion of vintage rides\, making it a perfect celebration for car enthusiasts and winter alike. \nCheck out their website to see all the cars on consignment.
URL:https://utahcarczar.com/event/cannon-classic-cars-frost-fire-car-fest/
LOCATION:Cannon Classic Cars\, 809 West 1700 South\, Salt Lake City\, Utah
CATEGORIES:Cruise Night
ATTACH;FMTTYPE=image/jpeg:https://utahcarczar.com/wp-content/uploads/2025/04/cannon-classic-logo.jpg
ORGANIZER;CN="Krank-it-Up Productions":MAILTO:1mikemanilla@gmail.com
END:VEVENT
BEGIN:VEVENT
DTSTART;TZID=America/Denver:20251129T150000
DTEND;TZID=America/Denver:20251129T180000
DTSTAMP:20260421T130818
CREATED:20250826T221615Z
LAST-MODIFIED:20250826T221630Z
UID:10001751-1764428400-1764439200@utahcarczar.com
SUMMARY:Cannon Classic Cars ”Classics and Cranberries”
DESCRIPTION:Celebrate the season with timeless cars and Thanksgiving cheer at “Classics and Cranberries” unique autumn car show. \nPlease bring your daily driver or Classic vehicle(s) if weather permits. \nCheck out their website to see all the cars on consignment.
URL:https://utahcarczar.com/event/cannon-classic-cars-classics-and-cranberries-car-show/
LOCATION:Cannon Classic Cars\, 809 West 1700 South\, Salt Lake City\, Utah
CATEGORIES:Cruise Night
ATTACH;FMTTYPE=image/jpeg:https://utahcarczar.com/wp-content/uploads/2025/04/cannon-classic-logo.jpg
ORGANIZER;CN="Krank-it-Up Productions":MAILTO:1mikemanilla@gmail.com
END:VEVENT
BEGIN:VEVENT
DTSTART;TZID=America/Denver:20251025T150000
DTEND;TZID=America/Denver:20251025T180000
DTSTAMP:20260421T130818
CREATED:20250826T221433Z
LAST-MODIFIED:20250826T221656Z
UID:10001750-1761404400-1761415200@utahcarczar.com
SUMMARY:Cannon Classic Cars Halloween “Haunted Legends”
DESCRIPTION:Prepare for a night of chills\, thrills and classic car spills Join us at Cannon Classic Cars for the spookiest car event of the season. \nCheck out their website to see all the cars on consignment. \nCar show will move inside if the weather is bad with all the cars on consignment. \nBring your daily driver if the weather is bad and check out all the cool cars Halloween style.
URL:https://utahcarczar.com/event/cannon-classic-cars-halloween-haunted-legends-car-show/
LOCATION:Cannon Classic Cars\, 809 West 1700 South\, Salt Lake City\, Utah
CATEGORIES:Cruise Night
ATTACH;FMTTYPE=image/jpeg:https://utahcarczar.com/wp-content/uploads/2025/04/cannon-classic-logo.jpg
ORGANIZER;CN="Krank-it-Up Productions":MAILTO:1mikemanilla@gmail.com
END:VEVENT
BEGIN:VEVENT
DTSTART;TZID=America/Denver:20250927T170000
DTEND;TZID=America/Denver:20250927T200000
DTSTAMP:20260421T130818
CREATED:20250430T054750Z
LAST-MODIFIED:20250922T150746Z
UID:10001508-1758992400-1759003200@utahcarczar.com
SUMMARY:Cannon Classics Maple Leaves & Vintage Wheels
DESCRIPTION:
URL:https://utahcarczar.com/event/cannon-classics-maple-leaves-vintage-wheels/
LOCATION:Cannon Classic Cars\, 809 West 1700 South\, Salt Lake City\, Utah
CATEGORIES:Car Show
ATTACH;FMTTYPE=image/jpeg:https://utahcarczar.com/wp-content/uploads/2025/04/cannon-classic-logo.jpg
ORGANIZER;CN="Krank-it-Up Productions":MAILTO:1mikemanilla@gmail.com
END:VEVENT
BEGIN:VEVENT
DTSTART;TZID=America/Denver:20250830T170000
DTEND;TZID=America/Denver:20250830T200000
DTSTAMP:20260421T130818
CREATED:20250430T054736Z
LAST-MODIFIED:20250430T054736Z
UID:10001506-1756573200-1756584000@utahcarczar.com
SUMMARY:Cannon Classics Legends of the Golden Era
DESCRIPTION:
URL:https://utahcarczar.com/event/cannon-classics-legends-of-the-golden-era/
LOCATION:Cannon Classic Cars\, 809 West 1700 South\, Salt Lake City\, Utah
CATEGORIES:Cruise Night
ATTACH;FMTTYPE=image/jpeg:https://utahcarczar.com/wp-content/uploads/2025/04/cannon-classic-logo.jpg
ORGANIZER;CN="Krank-it-Up Productions":MAILTO:1mikemanilla@gmail.com
END:VEVENT
BEGIN:VEVENT
DTSTART;TZID=America/Denver:20250726T170000
DTEND;TZID=America/Denver:20250726T200000
DTSTAMP:20260421T130818
CREATED:20250430T054740Z
LAST-MODIFIED:20250430T054740Z
UID:10001507-1753549200-1753560000@utahcarczar.com
SUMMARY:Cannon Classics Heritage Hot Rods Show Case
DESCRIPTION:
URL:https://utahcarczar.com/event/cannon-classics-heritage-hot-rods-show-case/
LOCATION:Cannon Classic Cars\, 809 West 1700 South\, Salt Lake City\, Utah
CATEGORIES:Cruise Night
ATTACH;FMTTYPE=image/jpeg:https://utahcarczar.com/wp-content/uploads/2025/04/cannon-classic-logo.jpg
ORGANIZER;CN="Krank-it-Up Productions":MAILTO:1mikemanilla@gmail.com
END:VEVENT
BEGIN:VEVENT
DTSTART;TZID=America/Denver:20250627T170000
DTEND;TZID=America/Denver:20250627T200000
DTSTAMP:20260421T130818
CREATED:20250429T135957Z
LAST-MODIFIED:20250430T054811Z
UID:10001502-1751043600-1751054400@utahcarczar.com
SUMMARY:Cannon Classics “Sunshine & Classics”
DESCRIPTION:Check out their website to see all the cars on consignment.
URL:https://utahcarczar.com/event/cannon-classic-sunshine-and-classics/
LOCATION:Cannon Classic Cars\, 809 West 1700 South\, Salt Lake City\, Utah
CATEGORIES:Cruise Night
ORGANIZER;CN="Krank-it-Up Productions":MAILTO:1mikemanilla@gmail.com
END:VEVENT
BEGIN:VEVENT
DTSTART;TZID=America/Denver:20250531T150000
DTEND;TZID=America/Denver:20250531T180000
DTSTAMP:20260421T130818
CREATED:20250405T055822Z
LAST-MODIFIED:20250430T054443Z
UID:10000140-1748703600-1748714400@utahcarczar.com
SUMMARY:Cannon Classics "Vintage Beauties"
DESCRIPTION:
URL:https://utahcarczar.com/event/cannon-classics-vintage-beauties/
LOCATION:Cannon Classic Cars\, 809 West 1700 South\, Salt Lake City\, Utah
CATEGORIES:Car Show
ORGANIZER;CN="Krank-it-Up Productions":MAILTO:1mikemanilla@gmail.com
END:VEVENT
BEGIN:VEVENT
DTSTART;TZID=America/Denver:20250426T150000
DTEND;TZID=America/Denver:20250426T180000
DTSTAMP:20260421T130818
CREATED:20250311T220034Z
LAST-MODIFIED:20250419T190133Z
UID:10000069-1745679600-1745690400@utahcarczar.com
SUMMARY:"Classics in Bloom” Car Show
DESCRIPTION:
URL:https://utahcarczar.com/event/cannon-classics-in-bloom-car-show/
LOCATION:Cannon Classic Cars\, 809 West 1700 South\, Salt Lake City\, Utah
CATEGORIES:Car Show
ORGANIZER;CN="Krank-it-Up Productions":MAILTO:1mikemanilla@gmail.com
END:VEVENT
BEGIN:VEVENT
DTSTART;TZID=America/Denver:20250329T150000
DTEND;TZID=America/Denver:20250329T180000
DTSTAMP:20260421T130818
CREATED:20250311T215812Z
LAST-MODIFIED:20250430T054439Z
UID:10000068-1743260400-1743271200@utahcarczar.com
SUMMARY:“Cruisin' into Spring” Car Show
DESCRIPTION:
URL:https://utahcarczar.com/event/cannon-classics-cruisin-into-spring-car-show/
LOCATION:Cannon Classic Cars\, 809 West 1700 South\, Salt Lake City\, Utah
CATEGORIES:Car Show
ORGANIZER;CN="Krank-it-Up Productions":MAILTO:1mikemanilla@gmail.com
END:VEVENT
END:VCALENDAR