BEGIN:VCALENDAR
VERSION:2.0
PRODID:-//Utah Car Czar - ECPv6.15.18//NONSGML v1.0//EN
CALSCALE:GREGORIAN
METHOD:PUBLISH
X-ORIGINAL-URL:https://utahcarczar.com
X-WR-CALDESC:Events for Utah Car Czar
REFRESH-INTERVAL;VALUE=DURATION:PT1H
X-Robots-Tag:noindex
X-PUBLISHED-TTL:PT1H
BEGIN:VTIMEZONE
TZID:America/Denver
BEGIN:DAYLIGHT
TZOFFSETFROM:-0700
TZOFFSETTO:-0600
TZNAME:MDT
DTSTART:20250309T090000
END:DAYLIGHT
BEGIN:STANDARD
TZOFFSETFROM:-0600
TZOFFSETTO:-0700
TZNAME:MST
DTSTART:20251102T080000
END:STANDARD
BEGIN:DAYLIGHT
TZOFFSETFROM:-0700
TZOFFSETTO:-0600
TZNAME:MDT
DTSTART:20260308T090000
END:DAYLIGHT
BEGIN:STANDARD
TZOFFSETFROM:-0600
TZOFFSETTO:-0700
TZNAME:MST
DTSTART:20261101T080000
END:STANDARD
BEGIN:DAYLIGHT
TZOFFSETFROM:-0700
TZOFFSETTO:-0600
TZNAME:MDT
DTSTART:20270314T090000
END:DAYLIGHT
BEGIN:STANDARD
TZOFFSETFROM:-0600
TZOFFSETTO:-0700
TZNAME:MST
DTSTART:20271107T080000
END:STANDARD
END:VTIMEZONE
BEGIN:VEVENT
DTSTART;TZID=America/Denver:20260425T150000
DTEND;TZID=America/Denver:20260425T180000
DTSTAMP:20260421T113126
CREATED:20251104T051246Z
LAST-MODIFIED:20260302T050336Z
UID:10001816-1777129200-1777140000@utahcarczar.com
SUMMARY:Cannon Classic Cars “Spring Revival”
DESCRIPTION:
URL:https://utahcarczar.com/event/cannon-classic-cars-spring-revival/
LOCATION:Cannon Classic Cars\, 809 West 1700 South\, Salt Lake City\, Utah
CATEGORIES:Car Show
ATTACH;FMTTYPE=image/jpeg:https://utahcarczar.com/wp-content/uploads/2025/04/cannon-classic-logo.jpg
ORGANIZER;CN="Krank-it-Up Productions":MAILTO:1mikemanilla@gmail.com
END:VEVENT
BEGIN:VEVENT
DTSTART;TZID=America/Denver:20260530T150000
DTEND;TZID=America/Denver:20260530T180000
DTSTAMP:20260421T113126
CREATED:20251104T051303Z
LAST-MODIFIED:20260302T050343Z
UID:10001817-1780153200-1780164000@utahcarczar.com
SUMMARY:Cannon Classic Cars “Cruisin’ in Color”
DESCRIPTION:
URL:https://utahcarczar.com/event/cannon-classic-cars-cruisin-in-color/
LOCATION:Cannon Classic Cars\, 809 West 1700 South\, Salt Lake City\, Utah
CATEGORIES:Car Show
ATTACH;FMTTYPE=image/jpeg:https://utahcarczar.com/wp-content/uploads/2025/04/cannon-classic-logo.jpg
ORGANIZER;CN="Krank-it-Up Productions":MAILTO:1mikemanilla@gmail.com
END:VEVENT
BEGIN:VEVENT
DTSTART;TZID=America/Denver:20260626T170000
DTEND;TZID=America/Denver:20260626T200000
DTSTAMP:20260421T113126
CREATED:20260302T045350Z
LAST-MODIFIED:20260302T050347Z
UID:10002056-1782493200-1782504000@utahcarczar.com
SUMMARY:Cannon Classic Cars “Summer Ignition”
DESCRIPTION:Kicking Off the Summer with Serious Horsepower \nStart off your summer with a roar! Join us as the engines heat up\, the paint shines bright\, and the lot fills with the best classics around. It’s the ultimate kick off to cruising season.
URL:https://utahcarczar.com/event/cannon-classic-cars-summer-ignition/
LOCATION:Cannon Classic Cars\, 809 West 1700 South\, Salt Lake City\, Utah
CATEGORIES:Car Show
ATTACH;FMTTYPE=image/jpeg:https://utahcarczar.com/wp-content/uploads/2025/04/cannon-classic-logo.jpg
ORGANIZER;CN="Krank-it-Up Productions":MAILTO:1mikemanilla@gmail.com
END:VEVENT
BEGIN:VEVENT
DTSTART;TZID=America/Denver:20260725T170000
DTEND;TZID=America/Denver:20260725T200000
DTSTAMP:20260421T113126
CREATED:20260302T045647Z
LAST-MODIFIED:20260302T050353Z
UID:10002057-1784998800-1785009600@utahcarczar.com
SUMMARY:Cannon Classic Cars “Stars\, Stripes & Tailpipes”
DESCRIPTION:Celebrate Freedom with Chrome and Custom Rides \nThis July\, rev up your patriotic spirit with red\, white and blue celebration of classic and custom cars. It’s a high-octane tribute to American pride\, power and performance.
URL:https://utahcarczar.com/event/cannon-classic-cars-stars-stripes-tailpipes/
LOCATION:Cannon Classic Cars\, 809 West 1700 South\, Salt Lake City\, Utah
CATEGORIES:Car Show
ATTACH;FMTTYPE=image/jpeg:https://utahcarczar.com/wp-content/uploads/2025/04/cannon-classic-logo.jpg
ORGANIZER;CN="Krank-it-Up Productions":MAILTO:1mikemanilla@gmail.com
END:VEVENT
BEGIN:VEVENT
DTSTART;TZID=America/Denver:20260829T170000
DTEND;TZID=America/Denver:20260829T200000
DTSTAMP:20260421T113126
CREATED:20260302T050147Z
LAST-MODIFIED:20260302T050147Z
UID:10002058-1788022800-1788033600@utahcarczar.com
SUMMARY:Cannon Classic Cars “Sparks & Sunshine”
DESCRIPTION:Celebrate the heat of the summer with the rumble of engines and the shimmer of chrome. Sparks & Sunshine brings together hot rods classic cruisers\, and good vibes for one unforgettable August evening.
URL:https://utahcarczar.com/event/cannon-classic-cars-sparks-sunshine/
LOCATION:Cannon Classic Cars\, 809 West 1700 South\, Salt Lake City\, Utah
CATEGORIES:Car Show
ATTACH;FMTTYPE=image/jpeg:https://utahcarczar.com/wp-content/uploads/2025/04/cannon-classic-logo.jpg
ORGANIZER;CN="Krank-it-Up Productions":MAILTO:1mikemanilla@gmail.com
END:VEVENT
BEGIN:VEVENT
DTSTART;TZID=America/Denver:20260925T170000
DTEND;TZID=America/Denver:20260925T200000
DTSTAMP:20260421T113126
CREATED:20260302T050244Z
LAST-MODIFIED:20260302T050254Z
UID:10002059-1790355600-1790366400@utahcarczar.com
SUMMARY:Cannon Classic Cars” Maple & Motors”
DESCRIPTION:Celebrating Craftsmanship\, Chrome and the Colors of Fall \nAs the leaves turn and the classics roll in\, join us for a fall evening full of rich color\, roaring engines\, and timeless craftsmanship. Maple & Motors is a tribute to the builders\, drivers\, and the dreamers who bring vintage vehicles back to life-set against the beauty of autumn.
URL:https://utahcarczar.com/event/cannon-classic-cars-maple-motors/
LOCATION:Cannon Classic Cars\, 809 West 1700 South\, Salt Lake City\, Utah
CATEGORIES:Car Show
ATTACH;FMTTYPE=image/jpeg:https://utahcarczar.com/wp-content/uploads/2025/04/cannon-classic-logo.jpg
ORGANIZER;CN="Krank-it-Up Productions":MAILTO:1mikemanilla@gmail.com
END:VEVENT
BEGIN:VEVENT
DTSTART;TZID=America/Denver:20261031T150000
DTEND;TZID=America/Denver:20261031T180000
DTSTAMP:20260421T113126
CREATED:20260302T050646Z
LAST-MODIFIED:20260302T050646Z
UID:10002062-1793458800-1793469600@utahcarczar.com
SUMMARY:Cannon Classic Cars “Haunted Horsepower”
DESCRIPTION:Costumes\, Candy\, and Creepy Cool Cars \nGhoul-fueled rides and trunk-or-treat fun! Join us for a spooky celebration of classics with a Halloween twist-costumes encouraged\, candy guaranteed and creepy cool cars on full display.
URL:https://utahcarczar.com/event/cannon-classic-cars-haunted-horsepower/
LOCATION:Cannon Classic Cars\, 809 West 1700 South\, Salt Lake City\, Utah
CATEGORIES:Car Show
ATTACH;FMTTYPE=image/jpeg:https://utahcarczar.com/wp-content/uploads/2025/04/cannon-classic-logo.jpg
ORGANIZER;CN="Krank-it-Up Productions":MAILTO:1mikemanilla@gmail.com
END:VEVENT
BEGIN:VEVENT
DTSTART;TZID=America/Denver:20261128T150000
DTEND;TZID=America/Denver:20261128T200000
DTSTAMP:20260421T113126
CREATED:20260302T050444Z
LAST-MODIFIED:20260302T050444Z
UID:10002060-1795878000-1795896000@utahcarczar.com
SUMMARY:Cannon Classic Cars “Harvest & Horsepower”
DESCRIPTION:Celebrating veterans\, Classics\, and the Spirit of the Season \nJoin us for a heartfelt celebration of honor and horsepower. This Thanksgiving weekend\, we’re bringing together military rides\, muscle cars\, and the community to pay tribute to our veterans and enjoy the season’s spirit with roaring engines and fall flavors.
URL:https://utahcarczar.com/event/cannon-classic-cars-harvest-horsepower/
LOCATION:Cannon Classic Cars\, 809 West 1700 South\, Salt Lake City\, Utah
CATEGORIES:Car Show
ATTACH;FMTTYPE=image/jpeg:https://utahcarczar.com/wp-content/uploads/2025/04/cannon-classic-logo.jpg
ORGANIZER;CN="Krank-it-Up Productions":MAILTO:1mikemanilla@gmail.com
END:VEVENT
BEGIN:VEVENT
DTSTART;TZID=America/Denver:20261219T150000
DTEND;TZID=America/Denver:20261219T180000
DTSTAMP:20260421T113126
CREATED:20260302T050546Z
LAST-MODIFIED:20260302T050546Z
UID:10002061-1797692400-1797703200@utahcarczar.com
SUMMARY:Cannon Classic Cars “Chrome & Cheer”
DESCRIPTION:Wrap Up the Year with Lights\, Engines\, and Holiday Spirit \nEnd the year in style with a festive fusion of chrome and Christmas cheer. From decked-out classics to holiday lights and good vibes\, this is the final cruise of the year-and one you don’t want to miss!
URL:https://utahcarczar.com/event/cannon-classic-cars-chrome-cheer/
LOCATION:Cannon Classic Cars\, 809 West 1700 South\, Salt Lake City\, Utah
CATEGORIES:Car Show
ATTACH;FMTTYPE=image/jpeg:https://utahcarczar.com/wp-content/uploads/2025/04/cannon-classic-logo.jpg
ORGANIZER;CN="Krank-it-Up Productions":MAILTO:1mikemanilla@gmail.com
END:VEVENT
END:VCALENDAR