BEGIN:VCALENDAR
VERSION:2.0
PRODID:-//Utah Car Czar - ECPv6.15.18//NONSGML v1.0//EN
CALSCALE:GREGORIAN
METHOD:PUBLISH
X-ORIGINAL-URL:https://utahcarczar.com
X-WR-CALDESC:Events for Utah Car Czar
REFRESH-INTERVAL;VALUE=DURATION:PT1H
X-Robots-Tag:noindex
X-PUBLISHED-TTL:PT1H
BEGIN:VTIMEZONE
TZID:America/Denver
BEGIN:DAYLIGHT
TZOFFSETFROM:-0700
TZOFFSETTO:-0600
TZNAME:MDT
DTSTART:20250309T090000
END:DAYLIGHT
BEGIN:STANDARD
TZOFFSETFROM:-0600
TZOFFSETTO:-0700
TZNAME:MST
DTSTART:20251102T080000
END:STANDARD
BEGIN:DAYLIGHT
TZOFFSETFROM:-0700
TZOFFSETTO:-0600
TZNAME:MDT
DTSTART:20260308T090000
END:DAYLIGHT
BEGIN:STANDARD
TZOFFSETFROM:-0600
TZOFFSETTO:-0700
TZNAME:MST
DTSTART:20261101T080000
END:STANDARD
BEGIN:DAYLIGHT
TZOFFSETFROM:-0700
TZOFFSETTO:-0600
TZNAME:MDT
DTSTART:20270314T090000
END:DAYLIGHT
BEGIN:STANDARD
TZOFFSETFROM:-0600
TZOFFSETTO:-0700
TZNAME:MST
DTSTART:20271107T080000
END:STANDARD
END:VTIMEZONE
BEGIN:VEVENT
DTSTART;TZID=America/Denver:20260509T110000
DTEND;TZID=America/Denver:20260509T150000
DTSTAMP:20260421T113103
CREATED:20260217T054205Z
LAST-MODIFIED:20260217T054205Z
UID:10002023-1778324400-1778338800@utahcarczar.com
SUMMARY:Les Schwab 20th Anniversary Car Show
DESCRIPTION:Car Show and 20-year Anniversary Celebration \nThey will be a BBQ with FREE Hamburgers and/or Hotdogs. Radio Station will be on location giving away more prizes. \nLes Schwab will be giving away 1-$500 for best in Show. Awards\, 2-FREE Oil Changes with select tire purchases\, Hats\, Swag\, roadside assistant kits and more. \n 
URL:https://utahcarczar.com/event/les-schwab-roy/
LOCATION:Les Schwab – Roy\, 5832 South 1900 West\, Roy\, UT
CATEGORIES:Car Show
ATTACH;FMTTYPE=image/png:https://utahcarczar.com/wp-content/uploads/2025/05/LES-SCHWAB-LOGO-transparent.png
ORGANIZER;CN="Krank-it-Up Productions":MAILTO:1mikemanilla@gmail.com
END:VEVENT
END:VCALENDAR