BEGIN:VCALENDAR
VERSION:2.0
PRODID:-//Utah Car Czar - ECPv6.15.18//NONSGML v1.0//EN
CALSCALE:GREGORIAN
METHOD:PUBLISH
X-ORIGINAL-URL:https://utahcarczar.com
X-WR-CALDESC:Events for Utah Car Czar
REFRESH-INTERVAL;VALUE=DURATION:PT1H
X-Robots-Tag:noindex
X-PUBLISHED-TTL:PT1H
BEGIN:VTIMEZONE
TZID:America/Denver
BEGIN:DAYLIGHT
TZOFFSETFROM:-0700
TZOFFSETTO:-0600
TZNAME:MDT
DTSTART:20240310T090000
END:DAYLIGHT
BEGIN:STANDARD
TZOFFSETFROM:-0600
TZOFFSETTO:-0700
TZNAME:MST
DTSTART:20241103T080000
END:STANDARD
BEGIN:DAYLIGHT
TZOFFSETFROM:-0700
TZOFFSETTO:-0600
TZNAME:MDT
DTSTART:20250309T090000
END:DAYLIGHT
BEGIN:STANDARD
TZOFFSETFROM:-0600
TZOFFSETTO:-0700
TZNAME:MST
DTSTART:20251102T080000
END:STANDARD
BEGIN:DAYLIGHT
TZOFFSETFROM:-0700
TZOFFSETTO:-0600
TZNAME:MDT
DTSTART:20260308T090000
END:DAYLIGHT
BEGIN:STANDARD
TZOFFSETFROM:-0600
TZOFFSETTO:-0700
TZNAME:MST
DTSTART:20261101T080000
END:STANDARD
END:VTIMEZONE
BEGIN:VEVENT
DTSTART;TZID=America/Denver:20251101T190000
DTEND;TZID=America/Denver:20251101T210000
DTSTAMP:20260423T090545
CREATED:20250516T060252Z
LAST-MODIFIED:20250516T060645Z
UID:10001574-1762023600-1762030800@utahcarczar.com
SUMMARY:Cruisin the Brewery
DESCRIPTION:
URL:https://utahcarczar.com/event/cruisin-the-brewery-st-george/2025-11-01/
LOCATION:Strap Tank Brewery St. George\, 1872 Crosby Way\, St. George\, Utah
CATEGORIES:Cruise Night
ATTACH;FMTTYPE=image/png:https://utahcarczar.com/wp-content/uploads/2025/05/Strap-Tank-Brewery-Logo.png
END:VEVENT
BEGIN:VEVENT
DTSTART;TZID=America/Denver:20251004T190000
DTEND;TZID=America/Denver:20251004T210000
DTSTAMP:20260423T090545
CREATED:20250516T060252Z
LAST-MODIFIED:20250516T060645Z
UID:10001573-1759604400-1759611600@utahcarczar.com
SUMMARY:Cruisin the Brewery
DESCRIPTION:
URL:https://utahcarczar.com/event/cruisin-the-brewery-st-george/2025-10-04/
LOCATION:Strap Tank Brewery St. George\, 1872 Crosby Way\, St. George\, Utah
CATEGORIES:Cruise Night
ATTACH;FMTTYPE=image/png:https://utahcarczar.com/wp-content/uploads/2025/05/Strap-Tank-Brewery-Logo.png
END:VEVENT
BEGIN:VEVENT
DTSTART;TZID=America/Denver:20250906T190000
DTEND;TZID=America/Denver:20250906T210000
DTSTAMP:20260423T090545
CREATED:20250516T060252Z
LAST-MODIFIED:20250516T060645Z
UID:10001572-1757185200-1757192400@utahcarczar.com
SUMMARY:Cruisin the Brewery
DESCRIPTION:
URL:https://utahcarczar.com/event/cruisin-the-brewery-st-george/2025-09-06/
LOCATION:Strap Tank Brewery St. George\, 1872 Crosby Way\, St. George\, Utah
CATEGORIES:Cruise Night
ATTACH;FMTTYPE=image/png:https://utahcarczar.com/wp-content/uploads/2025/05/Strap-Tank-Brewery-Logo.png
END:VEVENT
BEGIN:VEVENT
DTSTART;TZID=America/Denver:20250802T190000
DTEND;TZID=America/Denver:20250802T210000
DTSTAMP:20260423T090545
CREATED:20250516T060252Z
LAST-MODIFIED:20250516T060645Z
UID:10001571-1754161200-1754168400@utahcarczar.com
SUMMARY:Cruisin the Brewery
DESCRIPTION:
URL:https://utahcarczar.com/event/cruisin-the-brewery-st-george/2025-08-02/
LOCATION:Strap Tank Brewery St. George\, 1872 Crosby Way\, St. George\, Utah
CATEGORIES:Cruise Night
ATTACH;FMTTYPE=image/png:https://utahcarczar.com/wp-content/uploads/2025/05/Strap-Tank-Brewery-Logo.png
END:VEVENT
BEGIN:VEVENT
DTSTART;TZID=America/Denver:20250705T190000
DTEND;TZID=America/Denver:20250705T210000
DTSTAMP:20260423T090545
CREATED:20250516T060916Z
LAST-MODIFIED:20250516T060916Z
UID:10001570-1751742000-1751749200@utahcarczar.com
SUMMARY:Cruisin the Brewery
DESCRIPTION:
URL:https://utahcarczar.com/event/cruisin-the-brewery-st-george-2/
LOCATION:Strap Tank Brewery St. George\, 1872 Crosby Way\, St. George\, Utah
CATEGORIES:Cruise Night
ATTACH;FMTTYPE=image/png:https://utahcarczar.com/wp-content/uploads/2025/05/Strap-Tank-Brewery-Logo.png
END:VEVENT
BEGIN:VEVENT
DTSTART;TZID=America/Denver:20250607T190000
DTEND;TZID=America/Denver:20250607T210000
DTSTAMP:20260423T090545
CREATED:20250516T060252Z
LAST-MODIFIED:20250516T060645Z
UID:10001569-1749322800-1749330000@utahcarczar.com
SUMMARY:Cruisin the Brewery
DESCRIPTION:
URL:https://utahcarczar.com/event/cruisin-the-brewery-st-george/2025-06-07/
LOCATION:Strap Tank Brewery St. George\, 1872 Crosby Way\, St. George\, Utah
CATEGORIES:Cruise Night
ATTACH;FMTTYPE=image/png:https://utahcarczar.com/wp-content/uploads/2025/05/Strap-Tank-Brewery-Logo.png
END:VEVENT
END:VCALENDAR